{"text_format":"1","workbook":"xlsx","n_sheets":10,"sheets":["Форма по МДС 81-35.2004","Ресурсы","Базовые цены за единицу","Текущие цены за единицу","Базовые цены с учетом расхода","Текущие цены с учетом расхода","Начисления","Определители","Базовые концовки","Текущие концовки"],"not_rendered":{"charts":0,"images":0,"macros":1,"external_links":0,"defined_names":0,"comments":0,"pivot_tables":0},"unopened":[],"bounds":{"document_bytes":16777216,"sheet_cells":100000,"rows_first":2000,"rows_last":500,"rows_between":2000,"halvings":0,"cell_chars":16384,"cell_head_chars":4096},"cells_cut":0,"cells_raw":0,"read":"whole","date_system":"1900"}

{"sheet":"Форма по МДС 81-35.2004","index":0,"n_rows":694,"n_cols":14,"rows_kept":694,"cut":false,"hidden":false,"merged":[[689,2,689,7],[690,2,690,9],[692,2,692,7],[693,2,693,9],[567,0,568,0],[567,1,568,1],[567,2,568,2],[567,4,568,4],[567,5,568,5],[547,0,548,0],[547,1,548,1],[547,2,548,2],[547,4,548,4],[547,5,548,5],[479,0,480,0],[479,1,480,1],[479,2,480,2],[479,4,480,4],[479,5,480,5],[506,0,507,0],[506,1,507,1],[506,2,507,2],[506,4,507,4],[506,5,507,5],[503,0,504,0],[503,1,504,1],[503,2,504,2],[503,4,504,4],[503,5,504,5],[445,0,446,0],[445,1,446,1],[445,2,446,2],[445,4,446,4],[445,5,446,5],[476,0,477,0],[476,1,477,1],[476,2,477,2],[476,4,477,4],[476,5,477,5],[404,0,405,0],[404,1,405,1],[404,2,405,2],[404,4,405,4],[404,5,405,5],[424,0,425,0],[424,1,425,1],[424,2,425,2],[424,4,425,4],[424,5,425,5],[362,0,363,0],[362,1,363,1],[362,2,363,2],[362,4,363,4],[362,5,363,5],[382,0,383,0],[382,1,383,1],[382,2,383,2],[382,4,383,4],[382,5,383,5],[279,0,280,0],[279,1,280,1],[279,2,280,2],[279,4,280,4],[279,5,280,5],[301,0,302,0],[301,1,302,1],[301,2,302,2],[301,4,302,4],[301,5,302,5],[240,0,241,0],[240,1,241,1],[240,2,241,2],[240,4,241,4],[240,5,241,5],[259,0,260,0],[259,1,260,1],[259,2,260,2],[259,4,260,4],[259,5,260,5],[195,0,196,0],[195,1,196,1],[195,2,196,2],[195,4,196,4],[195,5,196,5],[218,0,219,0],[218,1,219,1],[218,2,219,2],[218,4,219,4],[218,5,219,5],[157,0,158,0],[157,1,158,1],[157,2,158,2],[157,4,158,4],[157,5,158,5],[176,0,177,0],[176,1,177,1],[176,2,177,2],[176,4,177,4],[176,5,177,5],[136,0,137,0],[136,1,137,1],[136,2,137,2],[136,4,137,4],[136,5,137,5],[155,0,156,0],[155,1,156,1],[155,2,156,2],[155,4,156,4],[155,5,156,5],[95,0,96,0],[95,1,96,1],[95,2,96,2],[95,4,96,4],[95,5,96,5],[115,0,116,0],[115,1,116,1],[115,2,116,2],[115,4,116,4],[115,5,116,5],[55,0,56,0],[55,1,56,1],[55,2,56,2],[55,4,56,4],[55,5,56,5],[75,0,76,0],[75,1,76,1],[75,2,76,2],[75,4,76,4],[75,5,76,5],[17,0,18,0],[17,1,18,1],[17,2,18,2],[17,4,18,4],[17,5,18,5],[36,0,37,0],[36,1,37,1],[36,2,37,2],[36,4,37,4],[36,5,37,5],[3,0,3,7],[4,0,4,7],[5,0,5,7],[8,0,8,7],[10,0,11,0],[10,1,11,1],[10,2,11,2],[10,4,10,5],[10,6,10,7],[7,5,7,6]]}
["< ГЭСНс * 2015_s * 15_15_зр >",null,"ПК РИК (вер.1.3.140604)",null,null,null,null,"Форма по МДС 81-35.2004"]
[]
[null,"Объект: ","Содержание дорог 2015-2017"]
["ЛОКАЛЬНАЯ СМЕТА № 15_15_зр"]
["(Локальный сметный расчет)"]
["Автомобильные дороги регионального или межмуниципального значения с автобусным движением с допустимым уровнем содержания  - норматив \"Авт\" (ЗИМНИЕ РАБОТЫ)"]
[null,"Основание: ","Техническое задание и перечень видов и объёмов работ на содержание автодорог на год, на 1"]
[null,null,null,null,"Сметная стоимость:",{"$f":"TEXT((H688)/1000,\"# ##0\"&GetSeparator()&\"000\")","v":" 67,552"},null,"тыс. руб."]
["Составлена в текущих ценах на 3-й квартал 2013 г. по НБ: \"ГЭСНс-2001\"."]
[]
["№ поз","Шифр, номер норматива, код ресурса","Наименование работ и затрат, характеристика оборудования, масса","Единица измерения","Количество",null,"Сметная стоимость в текущих ценах"]
[null,null,null,"Кол-во механиза-торов","на единицу измерения","по проектным данным","на единицу измерения","общая"]
[1,2,3,4,5,6,7,8]
[null,"I. ЗЕМЛЯНОЕ  ПОЛОТНО"]
[null,"1.Обочины"]
["1.","ГЭСНс 01-05-003-01","Очистка обочин от снега плужными снегоочистителями на базе автомобиля (КДМ) мощностью от 210 до 270 л.с.","10 км обочины",null,6,{"$f":"ROUND(СУММПРОИЗВЕСЛИ(1,I16:I19,\"s\",E16:E19,G16:G19,0),2)+SUMIF(I16:I34,\"=NenormMatOtZPR\",G16:G34)","v":893.87},{"$f":"ROUND(СУММПРОИЗВЕСЛИ(F16,I16:I19,\"s\",E16:E19,G16:G19,0),0)+SUMIF(I16:I34,\"=NenormMatOtZPR\",H16:H34)","v":5363},"sum",null,null,null,{"$f":"ROUND(СУММПРОИЗВЕСЛИ(1,I16:I19,\"s\",E16:E19,M16:M19,0),2)+SUMIF(I16:I34,\"=NenormMatOtZPR\",M16:M34)","v":148.76},{"$f":"ROUND(СУММПРОИЗВЕСЛИ(F16,I16:I19,\"s\",E16:E19,M16:M19,0),0)+SUMIF(I16:I34,\"=NenormMatOtZPR\",N16:N34)","v":893}]
["1. 1.","2","Затраты труда машинистов","чел.-ч",{"$f":"ОКРУГЛВСЕ(СУММПРОИЗВЕСЛИ(1,K16:K19,\"mWithZTM\",D16:D19,E16:E19,-1)+СУММКОЭФПРОЦЕНТЕСЛИ(1,1,K16:K19,\"mWithZTM_Proch\",E16:E19,-1),11)","v":0.8},{"$f":"ОКРУГЛВСЕ(СУММПРОИЗВЕСЛИ(1,K16:K19,\"mWithZTM\",D16:D19,F16:F19,-1)+СУММКОЭФПРОЦЕНТЕСЛИ(1,1,K16:K19,\"mWithZTM_Proch\",F16:F19,-1),11)","v":4.8},{"$f":"IF(F17=0,0,ROUND(H17/F17,3))","v":174.375},{"$f":"ROUND(СУММЕСЛИДА1НЕ1(L16:L19,\"mWithZPM\",D16:D19,0,H16:H19),0)","v":837},null,"Ж",null,null,{"$f":"IF(F17=0,0,ROUND(N17/F17,3))","v":13.542},{"$f":"ROUND(СУММЕСЛИДА1НЕ1(L16:L19,\"mWithZPM\",D16:D19,0,N16:N19),0)","v":65}]
["1. 2.",{"$f":"ПОЛУЧШИФР(Ресурсы!A41,1)","v":"СЦЭСМ 121342"},{"$f":"Ресурсы!B41","v":"Машины дорожные комбинированные, мощностью от 210 до 270 л.с."},"маш.-ч",0.8,{"$f":"ОКРУГЛВСЕ(IF(E18=\"\",0,E18)*IF(F16=\"\",0,F16),11)","v":4.8},{"$f":"Ресурсы!D41","v":1117.3399999999999},{"$f":"ROUND(IF(F18=\"\",0,F18)*IF(G18=\"\",0,G18),0)","v":5363},"s","IsMash",null,null,{"$f":"Ресурсы!C41","v":185.95},{"$f":"ROUND(IF(F18=\"\",0,F18)*IF(M18=\"\",0,M18),0)","v":893}]
[null,null,null,{"$f":"Ресурсы!G41","v":1},null,null,{"$f":"Ресурсы!F41","v":174.31},{"$f":"ROUND(IF(F18=\"\",0,F18)*IF(G19=\"\",0,G19),0)","v":837},null,null,"mWithZTM","mWithZPM",{"$f":"Ресурсы!E41","v":13.5},{"$f":"ROUND(IF(F18=\"\",0,F18)*IF(M19=\"\",0,M19),0)","v":65}]
[null,null,"Зарплата рабочих"]
[null,null,"Эксплуатация машин",null,null,null,null,5363,null,null,null,null,null,893]
[null,null,"в т.ч. зарплата машинистов",null,null,null,null,837,null,null,null,null,null,65]
[null,null,"Материалы"]
[null,null,"в т.ч. Вспомогательные материалы от стоимости материалов"]
[null,null,"в т.ч. Вспомогательные ненормируемые материалы",null,null,null,null,null,"NenormMatOtZPR"]
[null,null,"в т.ч. Ненормированная з.п. рабочих"]
[null,null,"в т.ч. Ненормированная стоимость эксплуатации машин"]
[null,null,"в т.ч. Ненормированная оплата механизаторов"]
[null,null,"Накладные расходы",null,null,null,11.7,{"$f":"IF('Текущие цены с учетом расхода'!N6>0,'Текущие цены с учетом расхода'!N6,IF('Текущие цены с учетом расхода'!N6<0,'Текущие цены с учетом расхода'!N6,\"\"))","v":627},null,"Nakl",null,null,11.7,{"$f":"IF('Базовые цены с учетом расхода'!N6>0,'Базовые цены с учетом расхода'!N6,IF('Базовые цены с учетом расхода'!N6<0,'Базовые цены с учетом расхода'!N6,\"\"))","v":104}]
[null,null,"НР от ЗПР",null,null,null,null,{"$f":"IF('Текущие цены с учетом расхода'!P6>0,'Текущие цены с учетом расхода'!P6,IF('Текущие цены с учетом расхода'!P6<0,'Текущие цены с учетом расхода'!P6,\"\"))","v":""},null,"Nakl_ZPR",null,null,null,{"$f":"IF('Базовые цены с учетом расхода'!P6>0,'Базовые цены с учетом расхода'!P6,IF('Базовые цены с учетом расхода'!P6<0,'Базовые цены с учетом расхода'!P6,\"\"))","v":""}]
[null,null,"НР от ЗПМ",null,null,null,null,{"$f":"IF('Текущие цены с учетом расхода'!Q6>0,'Текущие цены с учетом расхода'!Q6,IF('Текущие цены с учетом расхода'!Q6<0,'Текущие цены с учетом расхода'!Q6,\"\"))","v":""},null,"Nakl_ZPM",null,null,null,{"$f":"IF('Базовые цены с учетом расхода'!Q6>0,'Базовые цены с учетом расхода'!Q6,IF('Базовые цены с учетом расхода'!Q6<0,'Базовые цены с учетом расхода'!Q6,\"\"))","v":""}]
[null,null,"Плановые накопления / Сметная прибыль",null,null,null,8,{"$f":"IF('Текущие цены с учетом расхода'!O6>0,'Текущие цены с учетом расхода'!O6,IF('Текущие цены с учетом расхода'!O6<0,'Текущие цены с учетом расхода'!O6,\"\"))","v":479},null,"Plan",null,null,8,{"$f":"IF('Базовые цены с учетом расхода'!O6>0,'Базовые цены с учетом расхода'!O6,IF('Базовые цены с учетом расхода'!O6<0,'Базовые цены с учетом расхода'!O6,\"\"))","v":80}]
[null,null,"СП от ЗПР",null,null,null,null,{"$f":"IF('Текущие цены с учетом расхода'!R6>0,'Текущие цены с учетом расхода'!R6,IF('Текущие цены с учетом расхода'!R6<0,'Текущие цены с учетом расхода'!R6,\"\"))","v":""},null,"Plan_ZPR",null,null,null,{"$f":"IF('Базовые цены с учетом расхода'!R6>0,'Базовые цены с учетом расхода'!R6,IF('Базовые цены с учетом расхода'!R6<0,'Базовые цены с учетом расхода'!R6,\"\"))","v":""}]
[null,null,"СП от ЗПМ",null,null,null,null,{"$f":"IF('Текущие цены с учетом расхода'!S6>0,'Текущие цены с учетом расхода'!S6,IF('Текущие цены с учетом расхода'!S6<0,'Текущие цены с учетом расхода'!S6,\"\"))","v":""},null,"Plan_ZPM",null,null,null,{"$f":"IF('Базовые цены с учетом расхода'!S6>0,'Базовые цены с учетом расхода'!S6,IF('Базовые цены с учетом расхода'!S6<0,'Базовые цены с учетом расхода'!S6,\"\"))","v":""}]
["2.","ГЭСНс 01-05-007-01","Уборка снежных валов автогрейдерами","10 км вала",null,0.8,{"$f":"ROUND(СУММПРОИЗВЕСЛИ(1,I35:I38,\"s\",E35:E38,G35:G38,0),2)+SUMIF(I35:I53,\"=NenormMatOtZPR\",G35:G53)","v":1533.44},{"$f":"ROUND(СУММПРОИЗВЕСЛИ(F35,I35:I38,\"s\",E35:E38,G35:G38,0),0)+SUMIF(I35:I53,\"=NenormMatOtZPR\",H35:H53)","v":1227},"sum",null,null,null,{"$f":"ROUND(СУММПРОИЗВЕСЛИ(1,I35:I38,\"s\",E35:E38,M35:M38,0),2)+SUMIF(I35:I53,\"=NenormMatOtZPR\",M35:M53)","v":196.8},{"$f":"ROUND(СУММПРОИЗВЕСЛИ(F35,I35:I38,\"s\",E35:E38,M35:M38,0),0)+SUMIF(I35:I53,\"=NenormMatOtZPR\",N35:N53)","v":157}]
["2. 1.","2","Затраты труда машинистов","чел.-ч",{"$f":"ОКРУГЛВСЕ(СУММПРОИЗВЕСЛИ(1,K35:K38,\"mWithZTM\",D35:D38,E35:E38,-1)+СУММКОЭФПРОЦЕНТЕСЛИ(1,1,K35:K38,\"mWithZTM_Proch\",E35:E38,-1),11)","v":1.6},{"$f":"ОКРУГЛВСЕ(СУММПРОИЗВЕСЛИ(1,K35:K38,\"mWithZTM\",D35:D38,F35:F38,-1)+СУММКОЭФПРОЦЕНТЕСЛИ(1,1,K35:K38,\"mWithZTM_Proch\",F35:F38,-1),11)","v":1.28},{"$f":"IF(F36=0,0,ROUND(H36/F36,3))","v":167.18799999999999},{"$f":"ROUND(СУММЕСЛИДА1НЕ1(L35:L38,\"mWithZPM\",D35:D38,0,H35:H38),0)","v":214},null,"Ж",null,null,{"$f":"IF(F36=0,0,ROUND(N36/F36,3))","v":13.281000000000001},{"$f":"ROUND(СУММЕСЛИДА1НЕ1(L35:L38,\"mWithZPM\",D35:D38,0,N35:N38),0)","v":17}]
["2. 2.",{"$f":"ПОЛУЧШИФР(Ресурсы!A39,1)","v":"СЦЭСМ 120202"},{"$f":"Ресурсы!B39","v":"Автогрейдеры среднего типа 99 кВт (135 л.с.)"},"маш.-ч",1.6,{"$f":"ОКРУГЛВСЕ(IF(E37=\"\",0,E37)*IF(F35=\"\",0,F35),11)","v":1.28},{"$f":"Ресурсы!D39","v":958.4},{"$f":"ROUND(IF(F37=\"\",0,F37)*IF(G37=\"\",0,G37),0)","v":1227},"s","IsMash",null,null,{"$f":"Ресурсы!C39","v":123},{"$f":"ROUND(IF(F37=\"\",0,F37)*IF(M37=\"\",0,M37),0)","v":157}]
[null,null,null,{"$f":"Ресурсы!G39","v":1},null,null,{"$f":"Ресурсы!F39","v":166.8},{"$f":"ROUND(IF(F37=\"\",0,F37)*IF(G38=\"\",0,G38),0)","v":214},null,null,"mWithZTM","mWithZPM",{"$f":"Ресурсы!E39","v":13.5},{"$f":"ROUND(IF(F37=\"\",0,F37)*IF(M38=\"\",0,M38),0)","v":17}]
[null,null,"Зарплата рабочих"]
[null,null,"Эксплуатация машин",null,null,null,null,1227,null,null,null,null,null,157]
[null,null,"в т.ч. зарплата машинистов",null,null,null,null,214,null,null,null,null,null,17]
[null,null,"Материалы"]
[null,null,"в т.ч. Вспомогательные материалы от стоимости материалов"]
[null,null,"в т.ч. Вспомогательные ненормируемые материалы",null,null,null,null,null,"NenormMatOtZPR"]
[null,null,"в т.ч. Ненормированная з.п. рабочих"]
[null,null,"в т.ч. Ненормированная стоимость эксплуатации машин"]
[null,null,"в т.ч. Ненормированная оплата механизаторов"]
[null,null,"Накладные расходы",null,null,null,11.7,{"$f":"IF('Текущие цены с учетом расхода'!N7>0,'Текущие цены с учетом расхода'!N7,IF('Текущие цены с учетом расхода'!N7<0,'Текущие цены с учетом расхода'!N7,\"\"))","v":144},null,"Nakl",null,null,11.7,{"$f":"IF('Базовые цены с учетом расхода'!N7>0,'Базовые цены с учетом расхода'!N7,IF('Базовые цены с учетом расхода'!N7<0,'Базовые цены с учетом расхода'!N7,\"\"))","v":18}]
[null,null,"НР от ЗПР",null,null,null,null,{"$f":"IF('Текущие цены с учетом расхода'!P7>0,'Текущие цены с учетом расхода'!P7,IF('Текущие цены с учетом расхода'!P7<0,'Текущие цены с учетом расхода'!P7,\"\"))","v":""},null,"Nakl_ZPR",null,null,null,{"$f":"IF('Базовые цены с учетом расхода'!P7>0,'Базовые цены с учетом расхода'!P7,IF('Базовые цены с учетом расхода'!P7<0,'Базовые цены с учетом расхода'!P7,\"\"))","v":""}]
[null,null,"НР от ЗПМ",null,null,null,null,{"$f":"IF('Текущие цены с учетом расхода'!Q7>0,'Текущие цены с учетом расхода'!Q7,IF('Текущие цены с учетом расхода'!Q7<0,'Текущие цены с учетом расхода'!Q7,\"\"))","v":""},null,"Nakl_ZPM",null,null,null,{"$f":"IF('Базовые цены с учетом расхода'!Q7>0,'Базовые цены с учетом расхода'!Q7,IF('Базовые цены с учетом расхода'!Q7<0,'Базовые цены с учетом расхода'!Q7,\"\"))","v":""}]
[null,null,"Плановые накопления / Сметная прибыль",null,null,null,8,{"$f":"IF('Текущие цены с учетом расхода'!O7>0,'Текущие цены с учетом расхода'!O7,IF('Текущие цены с учетом расхода'!O7<0,'Текущие цены с учетом расхода'!O7,\"\"))","v":110},null,"Plan",null,null,8,{"$f":"IF('Базовые цены с учетом расхода'!O7>0,'Базовые цены с учетом расхода'!O7,IF('Базовые цены с учетом расхода'!O7<0,'Базовые цены с учетом расхода'!O7,\"\"))","v":14}]
[null,null,"СП от ЗПР",null,null,null,null,{"$f":"IF('Текущие цены с учетом расхода'!R7>0,'Текущие цены с учетом расхода'!R7,IF('Текущие цены с учетом расхода'!R7<0,'Текущие цены с учетом расхода'!R7,\"\"))","v":""},null,"Plan_ZPR",null,null,null,{"$f":"IF('Базовые цены с учетом расхода'!R7>0,'Базовые цены с учетом расхода'!R7,IF('Базовые цены с учетом расхода'!R7<0,'Базовые цены с учетом расхода'!R7,\"\"))","v":""}]
[null,null,"СП от ЗПМ",null,null,null,null,{"$f":"IF('Текущие цены с учетом расхода'!S7>0,'Текущие цены с учетом расхода'!S7,IF('Текущие цены с учетом расхода'!S7<0,'Текущие цены с учетом расхода'!S7,\"\"))","v":""},null,"Plan_ZPM",null,null,null,{"$f":"IF('Базовые цены с учетом расхода'!S7>0,'Базовые цены с учетом расхода'!S7,IF('Базовые цены с учетом расхода'!S7<0,'Базовые цены с учетом расхода'!S7,\"\"))","v":""}]
["3.","ГЭСНс 01-05-001-01","Удаление снежного вала шнекороторными снегоочистителями на базе автомобиля","10 км вала",null,0.1,{"$f":"ROUND(СУММПРОИЗВЕСЛИ(1,I54:I57,\"s\",E54:E57,G54:G57,0),2)+SUMIF(I54:I72,\"=NenormMatOtZPR\",G54:G72)","v":11881.98},{"$f":"ROUND(СУММПРОИЗВЕСЛИ(F54,I54:I57,\"s\",E54:E57,G54:G57,0),0)+SUMIF(I54:I72,\"=NenormMatOtZPR\",H54:H72)","v":1188},"sum",null,null,null,{"$f":"ROUND(СУММПРОИЗВЕСЛИ(1,I54:I57,\"s\",E54:E57,M54:M57,0),2)+SUMIF(I54:I72,\"=NenormMatOtZPR\",M54:M72)","v":2205.63},{"$f":"ROUND(СУММПРОИЗВЕСЛИ(F54,I54:I57,\"s\",E54:E57,M54:M57,0),0)+SUMIF(I54:I72,\"=NenormMatOtZPR\",N54:N72)","v":221}]
["3. 1.","2","Затраты труда машинистов","чел.-ч",{"$f":"ОКРУГЛВСЕ(СУММПРОИЗВЕСЛИ(1,K54:K57,\"mWithZTM\",D54:D57,E54:E57,-1)+СУММКОЭФПРОЦЕНТЕСЛИ(1,1,K54:K57,\"mWithZTM_Proch\",E54:E57,-1),11)","v":7.07},{"$f":"ОКРУГЛВСЕ(СУММПРОИЗВЕСЛИ(1,K54:K57,\"mWithZTM\",D54:D57,F54:F57,-1)+СУММКОЭФПРОЦЕНТЕСЛИ(1,1,K54:K57,\"mWithZTM_Proch\",F54:F57,-1),11)","v":0.70699999999999996},{"$f":"IF(F55=0,0,ROUND(H55/F55,3))","v":142.857},{"$f":"ROUND(СУММЕСЛИДА1НЕ1(L54:L57,\"mWithZPM\",D54:D57,0,H54:H57),0)","v":101},null,"Ж",null,null,{"$f":"IF(F55=0,0,ROUND(N55/F55,3))","v":11.315},{"$f":"ROUND(СУММЕСЛИДА1НЕ1(L54:L57,\"mWithZPM\",D54:D57,0,N54:N57),0)","v":8}]
["3. 2.",{"$f":"ПОЛУЧШИФР(Ресурсы!A43,1)","v":"СЦЭСМ 121902"},{"$f":"Ресурсы!B43","v":"Снегоочистители на автомобиле шнекороторные"},"маш.-ч",7.07,{"$f":"ОКРУГЛВСЕ(IF(E56=\"\",0,E56)*IF(F54=\"\",0,F54),11)","v":0.70699999999999996},{"$f":"Ресурсы!D43","v":1680.62},{"$f":"ROUND(IF(F56=\"\",0,F56)*IF(G56=\"\",0,G56),0)","v":1188},"s","IsMash",null,null,{"$f":"Ресурсы!C43","v":311.97000000000003},{"$f":"ROUND(IF(F56=\"\",0,F56)*IF(M56=\"\",0,M56),0)","v":221}]
[null,null,null,{"$f":"Ресурсы!G43","v":1},null,null,{"$f":"Ресурсы!F43","v":142.80000000000001},{"$f":"ROUND(IF(F56=\"\",0,F56)*IF(G57=\"\",0,G57),0)","v":101},null,null,"mWithZTM","mWithZPM",{"$f":"Ресурсы!E43","v":11.6},{"$f":"ROUND(IF(F56=\"\",0,F56)*IF(M57=\"\",0,M57),0)","v":8}]
[null,null,"Зарплата рабочих"]
[null,null,"Эксплуатация машин",null,null,null,null,1188,null,null,null,null,null,221]
[null,null,"в т.ч. зарплата машинистов",null,null,null,null,101,null,null,null,null,null,8]
[null,null,"Материалы"]
[null,null,"в т.ч. Вспомогательные материалы от стоимости материалов"]
[null,null,"в т.ч. Вспомогательные ненормируемые материалы",null,null,null,null,null,"NenormMatOtZPR"]
[null,null,"в т.ч. Ненормированная з.п. рабочих"]
[null,null,"в т.ч. Ненормированная стоимость эксплуатации машин"]
[null,null,"в т.ч. Ненормированная оплата механизаторов"]
[null,null,"Накладные расходы",null,null,null,11.7,{"$f":"IF('Текущие цены с учетом расхода'!N8>0,'Текущие цены с учетом расхода'!N8,IF('Текущие цены с учетом расхода'!N8<0,'Текущие цены с учетом расхода'!N8,\"\"))","v":139},null,"Nakl",null,null,11.7,{"$f":"IF('Базовые цены с учетом расхода'!N8>0,'Базовые цены с учетом расхода'!N8,IF('Базовые цены с учетом расхода'!N8<0,'Базовые цены с учетом расхода'!N8,\"\"))","v":26}]
[null,null,"НР от ЗПР",null,null,null,null,{"$f":"IF('Текущие цены с учетом расхода'!P8>0,'Текущие цены с учетом расхода'!P8,IF('Текущие цены с учетом расхода'!P8<0,'Текущие цены с учетом расхода'!P8,\"\"))","v":""},null,"Nakl_ZPR",null,null,null,{"$f":"IF('Базовые цены с учетом расхода'!P8>0,'Базовые цены с учетом расхода'!P8,IF('Базовые цены с учетом расхода'!P8<0,'Базовые цены с учетом расхода'!P8,\"\"))","v":""}]
[null,null,"НР от ЗПМ",null,null,null,null,{"$f":"IF('Текущие цены с учетом расхода'!Q8>0,'Текущие цены с учетом расхода'!Q8,IF('Текущие цены с учетом расхода'!Q8<0,'Текущие цены с учетом расхода'!Q8,\"\"))","v":""},null,"Nakl_ZPM",null,null,null,{"$f":"IF('Базовые цены с учетом расхода'!Q8>0,'Базовые цены с учетом расхода'!Q8,IF('Базовые цены с учетом расхода'!Q8<0,'Базовые цены с учетом расхода'!Q8,\"\"))","v":""}]
[null,null,"Плановые накопления / Сметная прибыль",null,null,null,8,{"$f":"IF('Текущие цены с учетом расхода'!O8>0,'Текущие цены с учетом расхода'!O8,IF('Текущие цены с учетом расхода'!O8<0,'Текущие цены с учетом расхода'!O8,\"\"))","v":106},null,"Plan",null,null,8,{"$f":"IF('Базовые цены с учетом расхода'!O8>0,'Базовые цены с учетом расхода'!O8,IF('Базовые цены с учетом расхода'!O8<0,'Базовые цены с учетом расхода'!O8,\"\"))","v":20}]
[null,null,"СП от ЗПР",null,null,null,null,{"$f":"IF('Текущие цены с учетом расхода'!R8>0,'Текущие цены с учетом расхода'!R8,IF('Текущие цены с учетом расхода'!R8<0,'Текущие цены с учетом расхода'!R8,\"\"))","v":""},null,"Plan_ZPR",null,null,null,{"$f":"IF('Базовые цены с учетом расхода'!R8>0,'Базовые цены с учетом расхода'!R8,IF('Базовые цены с учетом расхода'!R8<0,'Базовые цены с учетом расхода'!R8,\"\"))","v":""}]
[null,null,"СП от ЗПМ",null,null,null,null,{"$f":"IF('Текущие цены с учетом расхода'!S8>0,'Текущие цены с учетом расхода'!S8,IF('Текущие цены с учетом расхода'!S8<0,'Текущие цены с учетом расхода'!S8,\"\"))","v":""},null,"Plan_ZPM",null,null,null,{"$f":"IF('Базовые цены с учетом расхода'!S8>0,'Базовые цены с учетом расхода'!S8,IF('Базовые цены с учетом расхода'!S8<0,'Базовые цены с учетом расхода'!S8,\"\"))","v":""}]
[null,"2.Водоотвод"]
["4.","ГЭСНс 01-05-012-01","Устройство траншей в снегу бульдозерами","10 км",null,1.4999999999999999E-2,{"$f":"ROUND(СУММПРОИЗВЕСЛИ(1,I74:I77,\"s\",E74:E77,G74:G77,0),2)+SUMIF(I74:I92,\"=NenormMatOtZPR\",G74:G92)","v":2423.52},{"$f":"ROUND(СУММПРОИЗВЕСЛИ(F74,I74:I77,\"s\",E74:E77,G74:G77,0),0)+SUMIF(I74:I92,\"=NenormMatOtZPR\",H74:H92)","v":36},"sum",null,null,null,{"$f":"ROUND(СУММПРОИЗВЕСЛИ(1,I74:I77,\"s\",E74:E77,M74:M77,0),2)+SUMIF(I74:I92,\"=NenormMatOtZPR\",M74:M92)","v":316.83999999999997},{"$f":"ROUND(СУММПРОИЗВЕСЛИ(F74,I74:I77,\"s\",E74:E77,M74:M77,0),0)+SUMIF(I74:I92,\"=NenormMatOtZPR\",N74:N92)","v":5}]
["4. 1.","2","Затраты труда машинистов","чел.-ч",{"$f":"ОКРУГЛВСЕ(СУММПРОИЗВЕСЛИ(1,K74:K77,\"mWithZTM\",D74:D77,E74:E77,-1)+СУММКОЭФПРОЦЕНТЕСЛИ(1,1,K74:K77,\"mWithZTM_Proch\",E74:E77,-1),11)","v":3.96},{"$f":"ОКРУГЛВСЕ(СУММПРОИЗВЕСЛИ(1,K74:K77,\"mWithZTM\",D74:D77,F74:F77,-1)+СУММКОЭФПРОЦЕНТЕСЛИ(1,1,K74:K77,\"mWithZTM_Proch\",F74:F77,-1),11)","v":5.9400000000000001E-2},{"$f":"IF(F75=0,0,ROUND(H75/F75,3))","v":185.185},{"$f":"ROUND(СУММЕСЛИДА1НЕ1(L74:L77,\"mWithZPM\",D74:D77,0,H74:H77),0)","v":11},null,"Ж",null,null,{"$f":"IF(F75=0,0,ROUND(N75/F75,3))","v":16.835000000000001},{"$f":"ROUND(СУММЕСЛИДА1НЕ1(L74:L77,\"mWithZPM\",D74:D77,0,N74:N77),0)","v":1}]
["4. 2.",{"$f":"ПОЛУЧШИФР(Ресурсы!A37,1)","v":"СЦЭСМ 070149"},{"$f":"Ресурсы!B37","v":"Бульдозеры при работе на других видах строительства 79 кВт (108 л.с.)"},"маш.-ч",3.96,{"$f":"ОКРУГЛВСЕ(IF(E76=\"\",0,E76)*IF(F74=\"\",0,F74),11)","v":5.9400000000000001E-2},{"$f":"Ресурсы!D37","v":612},{"$f":"ROUND(IF(F76=\"\",0,F76)*IF(G76=\"\",0,G76),0)","v":36},"s","IsMash",null,null,{"$f":"Ресурсы!C37","v":80.010000000000005},{"$f":"ROUND(IF(F76=\"\",0,F76)*IF(M76=\"\",0,M76),0)","v":5}]
[null,null,null,{"$f":"Ресурсы!G37","v":1},null,null,{"$f":"Ресурсы!F37","v":178},{"$f":"ROUND(IF(F76=\"\",0,F76)*IF(G77=\"\",0,G77),0)","v":11},null,null,"mWithZTM","mWithZPM",{"$f":"Ресурсы!E37","v":14.4},{"$f":"ROUND(IF(F76=\"\",0,F76)*IF(M77=\"\",0,M77),0)","v":1}]
[null,null,"Зарплата рабочих"]
[null,null,"Эксплуатация машин",null,null,null,null,36,null,null,null,null,null,5]
[null,null,"в т.ч. зарплата машинистов",null,null,null,null,11,null,null,null,null,null,1]
[null,null,"Материалы"]
[null,null,"в т.ч. Вспомогательные материалы от стоимости материалов"]
[null,null,"в т.ч. Вспомогательные ненормируемые материалы",null,null,null,null,null,"NenormMatOtZPR"]
[null,null,"в т.ч. Ненормированная з.п. рабочих"]
[null,null,"в т.ч. Ненормированная стоимость эксплуатации машин"]
[null,null,"в т.ч. Ненормированная оплата механизаторов"]
[null,null,"Накладные расходы",null,null,null,11.7,{"$f":"IF('Текущие цены с учетом расхода'!N9>0,'Текущие цены с учетом расхода'!N9,IF('Текущие цены с учетом расхода'!N9<0,'Текущие цены с учетом расхода'!N9,\"\"))","v":4},null,"Nakl",null,null,11.7,{"$f":"IF('Базовые цены с учетом расхода'!N9>0,'Базовые цены с учетом расхода'!N9,IF('Базовые цены с учетом расхода'!N9<0,'Базовые цены с учетом расхода'!N9,\"\"))","v":1}]
[null,null,"НР от ЗПР",null,null,null,null,{"$f":"IF('Текущие цены с учетом расхода'!P9>0,'Текущие цены с учетом расхода'!P9,IF('Текущие цены с учетом расхода'!P9<0,'Текущие цены с учетом расхода'!P9,\"\"))","v":""},null,"Nakl_ZPR",null,null,null,{"$f":"IF('Базовые цены с учетом расхода'!P9>0,'Базовые цены с учетом расхода'!P9,IF('Базовые цены с учетом расхода'!P9<0,'Базовые цены с учетом расхода'!P9,\"\"))","v":""}]
[null,null,"НР от ЗПМ",null,null,null,null,{"$f":"IF('Текущие цены с учетом расхода'!Q9>0,'Текущие цены с учетом расхода'!Q9,IF('Текущие цены с учетом расхода'!Q9<0,'Текущие цены с учетом расхода'!Q9,\"\"))","v":""},null,"Nakl_ZPM",null,null,null,{"$f":"IF('Базовые цены с учетом расхода'!Q9>0,'Базовые цены с учетом расхода'!Q9,IF('Базовые цены с учетом расхода'!Q9<0,'Базовые цены с учетом расхода'!Q9,\"\"))","v":""}]
[null,null,"Плановые накопления / Сметная прибыль",null,null,null,8,{"$f":"IF('Текущие цены с учетом расхода'!O9>0,'Текущие цены с учетом расхода'!O9,IF('Текущие цены с учетом расхода'!O9<0,'Текущие цены с учетом расхода'!O9,\"\"))","v":3},null,"Plan",null,null,8,{"$f":"IF('Базовые цены с учетом расхода'!O9>0,'Базовые цены с учетом расхода'!O9,IF('Базовые цены с учетом расхода'!O9<0,'Базовые цены с учетом расхода'!O9,\"\"))","v":""}]
[null,null,"СП от ЗПР",null,null,null,null,{"$f":"IF('Текущие цены с учетом расхода'!R9>0,'Текущие цены с учетом расхода'!R9,IF('Текущие цены с учетом расхода'!R9<0,'Текущие цены с учетом расхода'!R9,\"\"))","v":""},null,"Plan_ZPR",null,null,null,{"$f":"IF('Базовые цены с учетом расхода'!R9>0,'Базовые цены с учетом расхода'!R9,IF('Базовые цены с учетом расхода'!R9<0,'Базовые цены с учетом расхода'!R9,\"\"))","v":""}]
[null,null,"СП от ЗПМ",null,null,null,null,{"$f":"IF('Текущие цены с учетом расхода'!S9>0,'Текущие цены с учетом расхода'!S9,IF('Текущие цены с учетом расхода'!S9<0,'Текущие цены с учетом расхода'!S9,\"\"))","v":""},null,"Plan_ZPM",null,null,null,{"$f":"IF('Базовые цены с учетом расхода'!S9>0,'Базовые цены с учетом расхода'!S9,IF('Базовые цены с учетом расхода'!S9<0,'Базовые цены с учетом расхода'!S9,\"\"))","v":""}]
[null,"II. АСФАЛЬТОБЕТОННОЕ   ПОКРЫТИЕ"]
["5.","ГЭСНс 01-05-002-02","Очистка дороги от снега плужным оборудованием на базе комбинированной дорожной машины мощностью от 210 до 270 л.с.","10000 м2",null,12,{"$f":"ROUND(СУММПРОИЗВЕСЛИ(1,I94:I97,\"s\",E94:E97,G94:G97,0),2)+SUMIF(I94:I112,\"=NenormMatOtZPR\",G94:G112)","v":324.02999999999997},{"$f":"ROUND(СУММПРОИЗВЕСЛИ(F94,I94:I97,\"s\",E94:E97,G94:G97,0),0)+SUMIF(I94:I112,\"=NenormMatOtZPR\",H94:H112)","v":3888},"sum",null,null,null,{"$f":"ROUND(СУММПРОИЗВЕСЛИ(1,I94:I97,\"s\",E94:E97,M94:M97,0),2)+SUMIF(I94:I112,\"=NenormMatOtZPR\",M94:M112)","v":53.93},{"$f":"ROUND(СУММПРОИЗВЕСЛИ(F94,I94:I97,\"s\",E94:E97,M94:M97,0),0)+SUMIF(I94:I112,\"=NenormMatOtZPR\",N94:N112)","v":647}]
["5. 1.","2","Затраты труда машинистов","чел.-ч",{"$f":"ОКРУГЛВСЕ(СУММПРОИЗВЕСЛИ(1,K94:K97,\"mWithZTM\",D94:D97,E94:E97,-1)+СУММКОЭФПРОЦЕНТЕСЛИ(1,1,K94:K97,\"mWithZTM_Proch\",E94:E97,-1),11)","v":0.28999999999999998},{"$f":"ОКРУГЛВСЕ(СУММПРОИЗВЕСЛИ(1,K94:K97,\"mWithZTM\",D94:D97,F94:F97,-1)+СУММКОЭФПРОЦЕНТЕСЛИ(1,1,K94:K97,\"mWithZTM_Proch\",F94:F97,-1),11)","v":3.48},{"$f":"IF(F95=0,0,ROUND(H95/F95,3))","v":174.42500000000001},{"$f":"ROUND(СУММЕСЛИДА1НЕ1(L94:L97,\"mWithZPM\",D94:D97,0,H94:H97),0)","v":607},null,"Ж",null,null,{"$f":"IF(F95=0,0,ROUND(N95/F95,3))","v":13.506},{"$f":"ROUND(СУММЕСЛИДА1НЕ1(L94:L97,\"mWithZPM\",D94:D97,0,N94:N97),0)","v":47}]
["5. 2.",{"$f":"ПОЛУЧШИФР(Ресурсы!A41,1)","v":"СЦЭСМ 121342"},{"$f":"Ресурсы!B41","v":"Машины дорожные комбинированные, мощностью от 210 до 270 л.с."},"маш.-ч",0.28999999999999998,{"$f":"ОКРУГЛВСЕ(IF(E96=\"\",0,E96)*IF(F94=\"\",0,F94),11)","v":3.48},{"$f":"Ресурсы!D41","v":1117.3399999999999},{"$f":"ROUND(IF(F96=\"\",0,F96)*IF(G96=\"\",0,G96),0)","v":3888},"s","IsMash",null,null,{"$f":"Ресурсы!C41","v":185.95},{"$f":"ROUND(IF(F96=\"\",0,F96)*IF(M96=\"\",0,M96),0)","v":647}]
[null,null,null,{"$f":"Ресурсы!G41","v":1},null,null,{"$f":"Ресурсы!F41","v":174.31},{"$f":"ROUND(IF(F96=\"\",0,F96)*IF(G97=\"\",0,G97),0)","v":607},null,null,"mWithZTM","mWithZPM",{"$f":"Ресурсы!E41","v":13.5},{"$f":"ROUND(IF(F96=\"\",0,F96)*IF(M97=\"\",0,M97),0)","v":47}]
[null,null,"Зарплата рабочих"]
[null,null,"Эксплуатация машин",null,null,null,null,3888,null,null,null,null,null,647]
[null,null,"в т.ч. зарплата машинистов",null,null,null,null,607,null,null,null,null,null,47]
[null,null,"Материалы"]
[null,null,"в т.ч. Вспомогательные материалы от стоимости материалов"]
[null,null,"в т.ч. Вспомогательные ненормируемые материалы",null,null,null,null,null,"NenormMatOtZPR"]
[null,null,"в т.ч. Ненормированная з.п. рабочих"]
[null,null,"в т.ч. Ненормированная стоимость эксплуатации машин"]
[null,null,"в т.ч. Ненормированная оплата механизаторов"]
[null,null,"Накладные расходы",null,null,null,11.7,{"$f":"IF('Текущие цены с учетом расхода'!N10>0,'Текущие цены с учетом расхода'!N10,IF('Текущие цены с учетом расхода'!N10<0,'Текущие цены с учетом расхода'!N10,\"\"))","v":455},null,"Nakl",null,null,11.7,{"$f":"IF('Базовые цены с учетом расхода'!N10>0,'Базовые цены с учетом расхода'!N10,IF('Базовые цены с учетом расхода'!N10<0,'Базовые цены с учетом расхода'!N10,\"\"))","v":76}]
[null,null,"НР от ЗПР",null,null,null,null,{"$f":"IF('Текущие цены с учетом расхода'!P10>0,'Текущие цены с учетом расхода'!P10,IF('Текущие цены с учетом расхода'!P10<0,'Текущие цены с учетом расхода'!P10,\"\"))","v":""},null,"Nakl_ZPR",null,null,null,{"$f":"IF('Базовые цены с учетом расхода'!P10>0,'Базовые цены с учетом расхода'!P10,IF('Базовые цены с учетом расхода'!P10<0,'Базовые цены с учетом расхода'!P10,\"\"))","v":""}]
[null,null,"НР от ЗПМ",null,null,null,null,{"$f":"IF('Текущие цены с учетом расхода'!Q10>0,'Текущие цены с учетом расхода'!Q10,IF('Текущие цены с учетом расхода'!Q10<0,'Текущие цены с учетом расхода'!Q10,\"\"))","v":""},null,"Nakl_ZPM",null,null,null,{"$f":"IF('Базовые цены с учетом расхода'!Q10>0,'Базовые цены с учетом расхода'!Q10,IF('Базовые цены с учетом расхода'!Q10<0,'Базовые цены с учетом расхода'!Q10,\"\"))","v":""}]
[null,null,"Плановые накопления / Сметная прибыль",null,null,null,8,{"$f":"IF('Текущие цены с учетом расхода'!O10>0,'Текущие цены с учетом расхода'!O10,IF('Текущие цены с учетом расхода'!O10<0,'Текущие цены с учетом расхода'!O10,\"\"))","v":347},null,"Plan",null,null,8,{"$f":"IF('Базовые цены с учетом расхода'!O10>0,'Базовые цены с учетом расхода'!O10,IF('Базовые цены с учетом расхода'!O10<0,'Базовые цены с учетом расхода'!O10,\"\"))","v":58}]
[null,null,"СП от ЗПР",null,null,null,null,{"$f":"IF('Текущие цены с учетом расхода'!R10>0,'Текущие цены с учетом расхода'!R10,IF('Текущие цены с учетом расхода'!R10<0,'Текущие цены с учетом расхода'!R10,\"\"))","v":""},null,"Plan_ZPR",null,null,null,{"$f":"IF('Базовые цены с учетом расхода'!R10>0,'Базовые цены с учетом расхода'!R10,IF('Базовые цены с учетом расхода'!R10<0,'Базовые цены с учетом расхода'!R10,\"\"))","v":""}]
[null,null,"СП от ЗПМ",null,null,null,null,{"$f":"IF('Текущие цены с учетом расхода'!S10>0,'Текущие цены с учетом расхода'!S10,IF('Текущие цены с учетом расхода'!S10<0,'Текущие цены с учетом расхода'!S10,\"\"))","v":""},null,"Plan_ZPM",null,null,null,{"$f":"IF('Базовые цены с учетом расхода'!S10>0,'Базовые цены с учетом расхода'!S10,IF('Базовые цены с учетом расхода'!S10<0,'Базовые цены с учетом расхода'!S10,\"\"))","v":""}]
["6.","ВрСНиРс-05-026-1","Приготовление пескосоляной смеси соотношение 1:9 бульдозерами","100 м3",null,0.17879999999999999,{"$f":"ROUND(СУММПРОИЗВЕСЛИ(1,I113:I119,\"s\",E113:E119,G113:G119,0),2)+SUMIF(I113:I134,\"=NenormMatOtZPR\",G113:G134)","v":57541.62},{"$f":"ROUND(СУММПРОИЗВЕСЛИ(F113,I113:I119,\"s\",E113:E119,G113:G119,0),0)+SUMIF(I113:I134,\"=NenormMatOtZPR\",H113:H134)","v":10288},"sum",null,null,null,{"$f":"ROUND(СУММПРОИЗВЕСЛИ(1,I113:I119,\"s\",E113:E119,M113:M119,0),2)+SUMIF(I113:I134,\"=NenormMatOtZPR\",M113:M134)","v":0},{"$f":"ROUND(СУММПРОИЗВЕСЛИ(F113,I113:I119,\"s\",E113:E119,M113:M119,0),0)+SUMIF(I113:I134,\"=NenormMatOtZPR\",N113:N134)","v":0}]
[null,null,{"$f":"IF(ROUND((186*0.15/1.56)/100,4)=F113,\"Объем: 186*0.15/1.56\",\"\")","v":"Объем: 186*0.15/1.56"}]
["6. 1.","ГЭСН 2","Затраты труда машинистов","чел.-ч",{"$f":"ОКРУГЛВСЕ(СУММПРОИЗВЕСЛИ(1,K113:K119,\"mWithZTM\",D113:D119,E113:E119,-1)+СУММКОЭФПРОЦЕНТЕСЛИ(1,1,K113:K119,\"mWithZTM_Proch\",E113:E119,-1),11)","v":7.63},{"$f":"ОКРУГЛВСЕ(СУММПРОИЗВЕСЛИ(1,K113:K119,\"mWithZTM\",D113:D119,F113:F119,-1)+СУММКОЭФПРОЦЕНТЕСЛИ(1,1,K113:K119,\"mWithZTM_Proch\",F113:F119,-1),11)","v":1.364244},{"$f":"IF(F115=0,0,ROUND(H115/F115,3))","v":178.12100000000001},{"$f":"ROUND(СУММЕСЛИДА1НЕ1(L113:L119,\"mWithZPM\",D113:D119,0,H113:H119),0)","v":243},null,"Ж",null,null,{"$f":"IF(F115=0,0,ROUND(N115/F115,3))","v":0},{"$f":"ROUND(СУММЕСЛИДА1НЕ1(L113:L119,\"mWithZPM\",D113:D119,0,N113:N119),0)","v":0}]
["6. 2.",{"$f":"ПОЛУЧШИФР(Ресурсы!A38,1)","v":"СЦЭСМ 070149"},{"$f":"Ресурсы!B38","v":"Бульдозеры при работе на других видах строительства (кроме водохозяйственного) 79 (108) кВт (л.с.)"},"маш.-ч",7.63,{"$f":"ОКРУГЛВСЕ(IF(E116=\"\",0,E116)*IF(F113=\"\",0,F113),11)","v":1.364244},{"$f":"Ресурсы!D38","v":612},{"$f":"ROUND(IF(F116=\"\",0,F116)*IF(G116=\"\",0,G116),0)","v":835},"s","IsMash",null,null,{"$f":"Ресурсы!C38","v":0},{"$f":"ROUND(IF(F116=\"\",0,F116)*IF(M116=\"\",0,M116),0)","v":0}]
[null,null,null,{"$f":"Ресурсы!G38","v":1},null,null,{"$f":"Ресурсы!F38","v":178},{"$f":"ROUND(IF(F116=\"\",0,F116)*IF(G117=\"\",0,G117),0)","v":243},null,null,"mWithZTM","mWithZPM",{"$f":"Ресурсы!E38","v":0},{"$f":"ROUND(IF(F116=\"\",0,F116)*IF(M117=\"\",0,M117),0)","v":0}]
["6. 3.",{"$f":"ПОЛУЧШИФР(Ресурсы!A22,0)","v":"с113-0277"},{"$f":"Ресурсы!B22","v":"Концентрат минеральный Галит (соль техническая)"},"т",12,{"$f":"ОКРУГЛВСЕ(IF(E118=\"\",0,E118)*IF(F113=\"\",0,F113),11)","v":2.1456},{"$f":"ROUND(Ресурсы!D22*Начисления!AV11,2)","v":1902.88},{"$f":"ROUND(IF(F118=\"\",0,F118)*IF(G118=\"\",0,G118),0)","v":4083},"s","IsMater",null,null,{"$f":"ROUND(Ресурсы!C22*Начисления!AV11,2)","v":0},{"$f":"ROUND(IF(F118=\"\",0,F118)*IF(M118=\"\",0,M118),0)","v":0}]
["6. 4.",{"$f":"ПОЛУЧШИФР(Ресурсы!A27,0)","v":"с408-0122"},{"$f":"Ресурсы!B27","v":"Песок природный для строительных работ средний"},"м3",90,{"$f":"ОКРУГЛВСЕ(IF(E119=\"\",0,E119)*IF(F113=\"\",0,F113),11)","v":16.091999999999999},{"$f":"ROUND(Ресурсы!D27*Начисления!AV11,2)","v":333.75},{"$f":"ROUND(IF(F119=\"\",0,F119)*IF(G119=\"\",0,G119),0)","v":5371},"s","IsMater",null,null,{"$f":"ROUND(Ресурсы!C27*Начисления!AV11,2)","v":0},{"$f":"ROUND(IF(F119=\"\",0,F119)*IF(M119=\"\",0,M119),0)","v":0}]
[null,null,"Зарплата рабочих"]
[null,null,"Эксплуатация машин",null,null,null,null,835]
[null,null,"в т.ч. зарплата машинистов",null,null,null,null,243]
[null,null,"Материалы",null,null,null,null,9454]
[null,null,"в т.ч. Вспомогательные материалы от стоимости материалов"]
[null,null,"в т.ч. Вспомогательные ненормируемые материалы",null,null,null,null,null,"NenormMatOtZPR"]
[null,null,"в т.ч. Ненормированная з.п. рабочих"]
[null,null,"в т.ч. Ненормированная стоимость эксплуатации машин"]
[null,null,"в т.ч. Ненормированная оплата механизаторов"]
[null,null,"Накладные расходы",null,null,null,11.7,{"$f":"IF('Текущие цены с учетом расхода'!N11>0,'Текущие цены с учетом расхода'!N11,IF('Текущие цены с учетом расхода'!N11<0,'Текущие цены с учетом расхода'!N11,\"\"))","v":1204},null,"Nakl",null,null,null,{"$f":"IF('Базовые цены с учетом расхода'!N11>0,'Базовые цены с учетом расхода'!N11,IF('Базовые цены с учетом расхода'!N11<0,'Базовые цены с учетом расхода'!N11,\"\"))","v":""}]
[null,null,"НР от ЗПР",null,null,null,null,{"$f":"IF('Текущие цены с учетом расхода'!P11>0,'Текущие цены с учетом расхода'!P11,IF('Текущие цены с учетом расхода'!P11<0,'Текущие цены с учетом расхода'!P11,\"\"))","v":""},null,"Nakl_ZPR",null,null,null,{"$f":"IF('Базовые цены с учетом расхода'!P11>0,'Базовые цены с учетом расхода'!P11,IF('Базовые цены с учетом расхода'!P11<0,'Базовые цены с учетом расхода'!P11,\"\"))","v":""}]
[null,null,"НР от ЗПМ",null,null,null,null,{"$f":"IF('Текущие цены с учетом расхода'!Q11>0,'Текущие цены с учетом расхода'!Q11,IF('Текущие цены с учетом расхода'!Q11<0,'Текущие цены с учетом расхода'!Q11,\"\"))","v":""},null,"Nakl_ZPM",null,null,null,{"$f":"IF('Базовые цены с учетом расхода'!Q11>0,'Базовые цены с учетом расхода'!Q11,IF('Базовые цены с учетом расхода'!Q11<0,'Базовые цены с учетом расхода'!Q11,\"\"))","v":""}]
[null,null,"Плановые накопления / Сметная прибыль",null,null,null,8,{"$f":"IF('Текущие цены с учетом расхода'!O11>0,'Текущие цены с учетом расхода'!O11,IF('Текущие цены с учетом расхода'!O11<0,'Текущие цены с учетом расхода'!O11,\"\"))","v":919},null,"Plan",null,null,null,{"$f":"IF('Базовые цены с учетом расхода'!O11>0,'Базовые цены с учетом расхода'!O11,IF('Базовые цены с учетом расхода'!O11<0,'Базовые цены с учетом расхода'!O11,\"\"))","v":""}]
[null,null,"СП от ЗПР",null,null,null,null,{"$f":"IF('Текущие цены с учетом расхода'!R11>0,'Текущие цены с учетом расхода'!R11,IF('Текущие цены с учетом расхода'!R11<0,'Текущие цены с учетом расхода'!R11,\"\"))","v":""},null,"Plan_ZPR",null,null,null,{"$f":"IF('Базовые цены с учетом расхода'!R11>0,'Базовые цены с учетом расхода'!R11,IF('Базовые цены с учетом расхода'!R11<0,'Базовые цены с учетом расхода'!R11,\"\"))","v":""}]
[null,null,"СП от ЗПМ",null,null,null,null,{"$f":"IF('Текущие цены с учетом расхода'!S11>0,'Текущие цены с учетом расхода'!S11,IF('Текущие цены с учетом расхода'!S11<0,'Текущие цены с учетом расхода'!S11,\"\"))","v":""},null,"Plan_ZPM",null,null,null,{"$f":"IF('Базовые цены с учетом расхода'!S11>0,'Базовые цены с учетом расхода'!S11,IF('Базовые цены с учетом расхода'!S11<0,'Базовые цены с учетом расхода'!S11,\"\"))","v":""}]
["7.","ГЭСНс 01-05-011-01","Доставка противогололедных материалов к месту распределения комбинированной дорожной машины мощностью от 210 до 270 л.с.","10 км расстояния доставки",null,0.5,{"$f":"ROUND(СУММПРОИЗВЕСЛИ(1,I135:I138,\"s\",E135:E138,G135:G138,0),2)+SUMIF(I135:I153,\"=NenormMatOtZPR\",G135:G153)","v":670.4},{"$f":"ROUND(СУММПРОИЗВЕСЛИ(F135,I135:I138,\"s\",E135:E138,G135:G138,0),0)+SUMIF(I135:I153,\"=NenormMatOtZPR\",H135:H153)","v":335},"sum",null,null,null,{"$f":"ROUND(СУММПРОИЗВЕСЛИ(1,I135:I138,\"s\",E135:E138,M135:M138,0),2)+SUMIF(I135:I153,\"=NenormMatOtZPR\",M135:M153)","v":111.57},{"$f":"ROUND(СУММПРОИЗВЕСЛИ(F135,I135:I138,\"s\",E135:E138,M135:M138,0),0)+SUMIF(I135:I153,\"=NenormMatOtZPR\",N135:N153)","v":56}]
["7. 1.","2","Затраты труда машинистов","чел.-ч",{"$f":"ОКРУГЛВСЕ(СУММПРОИЗВЕСЛИ(1,K135:K138,\"mWithZTM\",D135:D138,E135:E138,-1)+СУММКОЭФПРОЦЕНТЕСЛИ(1,1,K135:K138,\"mWithZTM_Proch\",E135:E138,-1),11)","v":0.6},{"$f":"ОКРУГЛВСЕ(СУММПРОИЗВЕСЛИ(1,K135:K138,\"mWithZTM\",D135:D138,F135:F138,-1)+СУММКОЭФПРОЦЕНТЕСЛИ(1,1,K135:K138,\"mWithZTM_Proch\",F135:F138,-1),11)","v":0.3},{"$f":"IF(F136=0,0,ROUND(H136/F136,3))","v":173.333},{"$f":"ROUND(СУММЕСЛИДА1НЕ1(L135:L138,\"mWithZPM\",D135:D138,0,H135:H138),0)","v":52},null,"Ж",null,null,{"$f":"IF(F136=0,0,ROUND(N136/F136,3))","v":13.333},{"$f":"ROUND(СУММЕСЛИДА1НЕ1(L135:L138,\"mWithZPM\",D135:D138,0,N135:N138),0)","v":4}]
["7. 2.",{"$f":"ПОЛУЧШИФР(Ресурсы!A41,1)","v":"СЦЭСМ 121342"},{"$f":"Ресурсы!B41","v":"Машины дорожные комбинированные, мощностью от 210 до 270 л.с."},"маш.-ч",0.6,{"$f":"ОКРУГЛВСЕ(IF(E137=\"\",0,E137)*IF(F135=\"\",0,F135),11)","v":0.3},{"$f":"Ресурсы!D41","v":1117.3399999999999},{"$f":"ROUND(IF(F137=\"\",0,F137)*IF(G137=\"\",0,G137),0)","v":335},"s","IsMash",null,null,{"$f":"Ресурсы!C41","v":185.95},{"$f":"ROUND(IF(F137=\"\",0,F137)*IF(M137=\"\",0,M137),0)","v":56}]
[null,null,null,{"$f":"Ресурсы!G41","v":1},null,null,{"$f":"Ресурсы!F41","v":174.31},{"$f":"ROUND(IF(F137=\"\",0,F137)*IF(G138=\"\",0,G138),0)","v":52},null,null,"mWithZTM","mWithZPM",{"$f":"Ресурсы!E41","v":13.5},{"$f":"ROUND(IF(F137=\"\",0,F137)*IF(M138=\"\",0,M138),0)","v":4}]
[null,null,"Зарплата рабочих"]
[null,null,"Эксплуатация машин",null,null,null,null,335,null,null,null,null,null,56]
[null,null,"в т.ч. зарплата машинистов",null,null,null,null,52,null,null,null,null,null,4]
[null,null,"Материалы"]
[null,null,"в т.ч. Вспомогательные материалы от стоимости материалов"]
[null,null,"в т.ч. Вспомогательные ненормируемые материалы",null,null,null,null,null,"NenormMatOtZPR"]
[null,null,"в т.ч. Ненормированная з.п. рабочих"]
[null,null,"в т.ч. Ненормированная стоимость эксплуатации машин"]
[null,null,"в т.ч. Ненормированная оплата механизаторов"]
[null,null,"Накладные расходы",null,null,null,11.7,{"$f":"IF('Текущие цены с учетом расхода'!N12>0,'Текущие цены с учетом расхода'!N12,IF('Текущие цены с учетом расхода'!N12<0,'Текущие цены с учетом расхода'!N12,\"\"))","v":39},null,"Nakl",null,null,11.7,{"$f":"IF('Базовые цены с учетом расхода'!N12>0,'Базовые цены с учетом расхода'!N12,IF('Базовые цены с учетом расхода'!N12<0,'Базовые цены с учетом расхода'!N12,\"\"))","v":7}]
[null,null,"НР от ЗПР",null,null,null,null,{"$f":"IF('Текущие цены с учетом расхода'!P12>0,'Текущие цены с учетом расхода'!P12,IF('Текущие цены с учетом расхода'!P12<0,'Текущие цены с учетом расхода'!P12,\"\"))","v":""},null,"Nakl_ZPR",null,null,null,{"$f":"IF('Базовые цены с учетом расхода'!P12>0,'Базовые цены с учетом расхода'!P12,IF('Базовые цены с учетом расхода'!P12<0,'Базовые цены с учетом расхода'!P12,\"\"))","v":""}]
[null,null,"НР от ЗПМ",null,null,null,null,{"$f":"IF('Текущие цены с учетом расхода'!Q12>0,'Текущие цены с учетом расхода'!Q12,IF('Текущие цены с учетом расхода'!Q12<0,'Текущие цены с учетом расхода'!Q12,\"\"))","v":""},null,"Nakl_ZPM",null,null,null,{"$f":"IF('Базовые цены с учетом расхода'!Q12>0,'Базовые цены с учетом расхода'!Q12,IF('Базовые цены с учетом расхода'!Q12<0,'Базовые цены с учетом расхода'!Q12,\"\"))","v":""}]
[null,null,"Плановые накопления / Сметная прибыль",null,null,null,8,{"$f":"IF('Текущие цены с учетом расхода'!O12>0,'Текущие цены с учетом расхода'!O12,IF('Текущие цены с учетом расхода'!O12<0,'Текущие цены с учетом расхода'!O12,\"\"))","v":30},null,"Plan",null,null,8,{"$f":"IF('Базовые цены с учетом расхода'!O12>0,'Базовые цены с учетом расхода'!O12,IF('Базовые цены с учетом расхода'!O12<0,'Базовые цены с учетом расхода'!O12,\"\"))","v":5}]
[null,null,"СП от ЗПР",null,null,null,null,{"$f":"IF('Текущие цены с учетом расхода'!R12>0,'Текущие цены с учетом расхода'!R12,IF('Текущие цены с учетом расхода'!R12<0,'Текущие цены с учетом расхода'!R12,\"\"))","v":""},null,"Plan_ZPR",null,null,null,{"$f":"IF('Базовые цены с учетом расхода'!R12>0,'Базовые цены с учетом расхода'!R12,IF('Базовые цены с учетом расхода'!R12<0,'Базовые цены с учетом расхода'!R12,\"\"))","v":""}]
[null,null,"СП от ЗПМ",null,null,null,null,{"$f":"IF('Текущие цены с учетом расхода'!S12>0,'Текущие цены с учетом расхода'!S12,IF('Текущие цены с учетом расхода'!S12<0,'Текущие цены с учетом расхода'!S12,\"\"))","v":""},null,"Plan_ZPM",null,null,null,{"$f":"IF('Базовые цены с учетом расхода'!S12>0,'Базовые цены с учетом расхода'!S12,IF('Базовые цены с учетом расхода'!S12<0,'Базовые цены с учетом расхода'!S12,\"\"))","v":""}]
["8.","ГЭСНс 01-05-010-01","Распределение пескосоляной смеси или фрикционных материалов комбинированной дорожной машины мощностью от 210 до 270 л.с.","10000 м2",null,18.600000000000001,{"$f":"ROUND(СУММПРОИЗВЕСЛИ(1,I154:I159,\"s\",E154:E159,G154:G159,0),2)+SUMIF(I154:I174,\"=NenormMatOtZPR\",G154:G174)","v":755.69},{"$f":"ROUND(СУММПРОИЗВЕСЛИ(F154,I154:I159,\"s\",E154:E159,G154:G159,0),0)+SUMIF(I154:I174,\"=NenormMatOtZPR\",H154:H174)","v":14056},"sum",null,null,null,{"$f":"ROUND(СУММПРОИЗВЕСЛИ(1,I154:I159,\"s\",E154:E159,M154:M159,0),2)+SUMIF(I154:I174,\"=NenormMatOtZPR\",M154:M174)","v":125.81},{"$f":"ROUND(СУММПРОИЗВЕСЛИ(F154,I154:I159,\"s\",E154:E159,M154:M159,0),0)+SUMIF(I154:I174,\"=NenormMatOtZPR\",N154:N174)","v":2340}]
["8. 1.","2","Затраты труда машинистов","чел.-ч",{"$f":"ОКРУГЛВСЕ(СУММПРОИЗВЕСЛИ(1,K154:K159,\"mWithZTM\",D154:D159,E154:E159,-1)+СУММКОЭФПРОЦЕНТЕСЛИ(1,1,K154:K159,\"mWithZTM_Proch\",E154:E159,-1),11)","v":0.72},{"$f":"ОКРУГЛВСЕ(СУММПРОИЗВЕСЛИ(1,K154:K159,\"mWithZTM\",D154:D159,F154:F159,-1)+СУММКОЭФПРОЦЕНТЕСЛИ(1,1,K154:K159,\"mWithZTM_Proch\",F154:F159,-1),11)","v":13.391999999999999},{"$f":"IF(F155=0,0,ROUND(H155/F155,3))","v":170.774},{"$f":"ROUND(СУММЕСЛИДА1НЕ1(L154:L159,\"mWithZPM\",D154:D159,0,H154:H159),0)","v":2287},null,"Ж",null,null,{"$f":"IF(F155=0,0,ROUND(N155/F155,3))","v":13.292},{"$f":"ROUND(СУММЕСЛИДА1НЕ1(L154:L159,\"mWithZPM\",D154:D159,0,N154:N159),0)","v":178}]
["8. 2.",{"$f":"ПОЛУЧШИФР(Ресурсы!A34,1)","v":"СЦЭСМ 031811"},{"$f":"Ресурсы!B34","v":"Погрузчики одноковшовые универсальные фронтальные пневмоколесные 2 т"},"маш.-ч",0.08,{"$f":"ОКРУГЛВСЕ(IF(E156=\"\",0,E156)*IF(F154=\"\",0,F154),11)","v":1.488},{"$f":"Ресурсы!D34","v":507.45},{"$f":"ROUND(IF(F156=\"\",0,F156)*IF(G156=\"\",0,G156),0)","v":755},"s","IsMash",null,null,{"$f":"Ресурсы!C34","v":85},{"$f":"ROUND(IF(F156=\"\",0,F156)*IF(M156=\"\",0,M156),0)","v":126}]
[null,null,null,{"$f":"Ресурсы!G34","v":1},null,null,{"$f":"Ресурсы!F34","v":142.80000000000001},{"$f":"ROUND(IF(F156=\"\",0,F156)*IF(G157=\"\",0,G157),0)","v":212},null,null,"mWithZTM","mWithZPM",{"$f":"Ресурсы!E34","v":11.6},{"$f":"ROUND(IF(F156=\"\",0,F156)*IF(M157=\"\",0,M157),0)","v":17}]
["8. 3.",{"$f":"ПОЛУЧШИФР(Ресурсы!A41,1)","v":"СЦЭСМ 121342"},{"$f":"Ресурсы!B41","v":"Машины дорожные комбинированные, мощностью от 210 до 270 л.с."},"маш.-ч",0.64,{"$f":"ОКРУГЛВСЕ(IF(E158=\"\",0,E158)*IF(F154=\"\",0,F154),11)","v":11.904},{"$f":"Ресурсы!D41","v":1117.3399999999999},{"$f":"ROUND(IF(F158=\"\",0,F158)*IF(G158=\"\",0,G158),0)","v":13301},"s","IsMash",null,null,{"$f":"Ресурсы!C41","v":185.95},{"$f":"ROUND(IF(F158=\"\",0,F158)*IF(M158=\"\",0,M158),0)","v":2214}]
[null,null,null,{"$f":"Ресурсы!G41","v":1},null,null,{"$f":"Ресурсы!F41","v":174.31},{"$f":"ROUND(IF(F158=\"\",0,F158)*IF(G159=\"\",0,G159),0)","v":2075},null,null,"mWithZTM","mWithZPM",{"$f":"Ресурсы!E41","v":13.5},{"$f":"ROUND(IF(F158=\"\",0,F158)*IF(M159=\"\",0,M159),0)","v":161}]
[null,null,"Зарплата рабочих"]
[null,null,"Эксплуатация машин",null,null,null,null,14056,null,null,null,null,null,2340]
[null,null,"в т.ч. зарплата машинистов",null,null,null,null,2287,null,null,null,null,null,178]
[null,null,"Материалы"]
[null,null,"в т.ч. Вспомогательные материалы от стоимости материалов"]
[null,null,"в т.ч. Вспомогательные ненормируемые материалы",null,null,null,null,null,"NenormMatOtZPR"]
[null,null,"в т.ч. Ненормированная з.п. рабочих"]
[null,null,"в т.ч. Ненормированная стоимость эксплуатации машин"]
[null,null,"в т.ч. Ненормированная оплата механизаторов"]
[null,null,"Накладные расходы",null,null,null,11.7,{"$f":"IF('Текущие цены с учетом расхода'!N13>0,'Текущие цены с учетом расхода'!N13,IF('Текущие цены с учетом расхода'!N13<0,'Текущие цены с учетом расхода'!N13,\"\"))","v":1645},null,"Nakl",null,null,11.7,{"$f":"IF('Базовые цены с учетом расхода'!N13>0,'Базовые цены с учетом расхода'!N13,IF('Базовые цены с учетом расхода'!N13<0,'Базовые цены с учетом расхода'!N13,\"\"))","v":274}]
[null,null,"НР от ЗПР",null,null,null,null,{"$f":"IF('Текущие цены с учетом расхода'!P13>0,'Текущие цены с учетом расхода'!P13,IF('Текущие цены с учетом расхода'!P13<0,'Текущие цены с учетом расхода'!P13,\"\"))","v":""},null,"Nakl_ZPR",null,null,null,{"$f":"IF('Базовые цены с учетом расхода'!P13>0,'Базовые цены с учетом расхода'!P13,IF('Базовые цены с учетом расхода'!P13<0,'Базовые цены с учетом расхода'!P13,\"\"))","v":""}]
[null,null,"НР от ЗПМ",null,null,null,null,{"$f":"IF('Текущие цены с учетом расхода'!Q13>0,'Текущие цены с учетом расхода'!Q13,IF('Текущие цены с учетом расхода'!Q13<0,'Текущие цены с учетом расхода'!Q13,\"\"))","v":""},null,"Nakl_ZPM",null,null,null,{"$f":"IF('Базовые цены с учетом расхода'!Q13>0,'Базовые цены с учетом расхода'!Q13,IF('Базовые цены с учетом расхода'!Q13<0,'Базовые цены с учетом расхода'!Q13,\"\"))","v":""}]
[null,null,"Плановые накопления / Сметная прибыль",null,null,null,8,{"$f":"IF('Текущие цены с учетом расхода'!O13>0,'Текущие цены с учетом расхода'!O13,IF('Текущие цены с учетом расхода'!O13<0,'Текущие цены с учетом расхода'!O13,\"\"))","v":1256},null,"Plan",null,null,8,{"$f":"IF('Базовые цены с учетом расхода'!O13>0,'Базовые цены с учетом расхода'!O13,IF('Базовые цены с учетом расхода'!O13<0,'Базовые цены с учетом расхода'!O13,\"\"))","v":209}]
[null,null,"СП от ЗПР",null,null,null,null,{"$f":"IF('Текущие цены с учетом расхода'!R13>0,'Текущие цены с учетом расхода'!R13,IF('Текущие цены с учетом расхода'!R13<0,'Текущие цены с учетом расхода'!R13,\"\"))","v":""},null,"Plan_ZPR",null,null,null,{"$f":"IF('Базовые цены с учетом расхода'!R13>0,'Базовые цены с учетом расхода'!R13,IF('Базовые цены с учетом расхода'!R13<0,'Базовые цены с учетом расхода'!R13,\"\"))","v":""}]
[null,null,"СП от ЗПМ",null,null,null,null,{"$f":"IF('Текущие цены с учетом расхода'!S13>0,'Текущие цены с учетом расхода'!S13,IF('Текущие цены с учетом расхода'!S13<0,'Текущие цены с учетом расхода'!S13,\"\"))","v":""},null,"Plan_ZPM",null,null,null,{"$f":"IF('Базовые цены с учетом расхода'!S13>0,'Базовые цены с учетом расхода'!S13,IF('Базовые цены с учетом расхода'!S13<0,'Базовые цены с учетом расхода'!S13,\"\"))","v":""}]
["9.","ГЭСНс 01-05-002-02","Очистка дороги от снега плужным оборудованием на базе комбинированной дорожной машины мощностью от 210 до 270 л.с. (планировка проезжей части со снежным накатом)","10000 м2",null,27.6,{"$f":"ROUND(СУММПРОИЗВЕСЛИ(1,I175:I178,\"s\",E175:E178,G175:G178,0),2)+SUMIF(I175:I193,\"=NenormMatOtZPR\",G175:G193)","v":324.02999999999997},{"$f":"ROUND(СУММПРОИЗВЕСЛИ(F175,I175:I178,\"s\",E175:E178,G175:G178,0),0)+SUMIF(I175:I193,\"=NenormMatOtZPR\",H175:H193)","v":8943},"sum",null,null,null,{"$f":"ROUND(СУММПРОИЗВЕСЛИ(1,I175:I178,\"s\",E175:E178,M175:M178,0),2)+SUMIF(I175:I193,\"=NenormMatOtZPR\",M175:M193)","v":53.93},{"$f":"ROUND(СУММПРОИЗВЕСЛИ(F175,I175:I178,\"s\",E175:E178,M175:M178,0),0)+SUMIF(I175:I193,\"=NenormMatOtZPR\",N175:N193)","v":1488}]
["9. 1.","2","Затраты труда машинистов","чел.-ч",{"$f":"ОКРУГЛВСЕ(СУММПРОИЗВЕСЛИ(1,K175:K178,\"mWithZTM\",D175:D178,E175:E178,-1)+СУММКОЭФПРОЦЕНТЕСЛИ(1,1,K175:K178,\"mWithZTM_Proch\",E175:E178,-1),11)","v":0.28999999999999998},{"$f":"ОКРУГЛВСЕ(СУММПРОИЗВЕСЛИ(1,K175:K178,\"mWithZTM\",D175:D178,F175:F178,-1)+СУММКОЭФПРОЦЕНТЕСЛИ(1,1,K175:K178,\"mWithZTM_Proch\",F175:F178,-1),11)","v":8.0039999999999996},{"$f":"IF(F176=0,0,ROUND(H176/F176,3))","v":174.28800000000001},{"$f":"ROUND(СУММЕСЛИДА1НЕ1(L175:L178,\"mWithZPM\",D175:D178,0,H175:H178),0)","v":1395},null,"Ж",null,null,{"$f":"IF(F176=0,0,ROUND(N176/F176,3))","v":13.493},{"$f":"ROUND(СУММЕСЛИДА1НЕ1(L175:L178,\"mWithZPM\",D175:D178,0,N175:N178),0)","v":108}]
["9. 2.",{"$f":"ПОЛУЧШИФР(Ресурсы!A41,1)","v":"СЦЭСМ 121342"},{"$f":"Ресурсы!B41","v":"Машины дорожные комбинированные, мощностью от 210 до 270 л.с."},"маш.-ч",0.28999999999999998,{"$f":"ОКРУГЛВСЕ(IF(E177=\"\",0,E177)*IF(F175=\"\",0,F175),11)","v":8.0039999999999996},{"$f":"Ресурсы!D41","v":1117.3399999999999},{"$f":"ROUND(IF(F177=\"\",0,F177)*IF(G177=\"\",0,G177),0)","v":8943},"s","IsMash",null,null,{"$f":"Ресурсы!C41","v":185.95},{"$f":"ROUND(IF(F177=\"\",0,F177)*IF(M177=\"\",0,M177),0)","v":1488}]
[null,null,null,{"$f":"Ресурсы!G41","v":1},null,null,{"$f":"Ресурсы!F41","v":174.31},{"$f":"ROUND(IF(F177=\"\",0,F177)*IF(G178=\"\",0,G178),0)","v":1395},null,null,"mWithZTM","mWithZPM",{"$f":"Ресурсы!E41","v":13.5},{"$f":"ROUND(IF(F177=\"\",0,F177)*IF(M178=\"\",0,M178),0)","v":108}]
[null,null,"Зарплата рабочих"]
[null,null,"Эксплуатация машин",null,null,null,null,8943,null,null,null,null,null,1488]
[null,null,"в т.ч. зарплата машинистов",null,null,null,null,1395,null,null,null,null,null,108]
[null,null,"Материалы"]
[null,null,"в т.ч. Вспомогательные материалы от стоимости материалов"]
[null,null,"в т.ч. Вспомогательные ненормируемые материалы",null,null,null,null,null,"NenormMatOtZPR"]
[null,null,"в т.ч. Ненормированная з.п. рабочих"]
[null,null,"в т.ч. Ненормированная стоимость эксплуатации машин"]
[null,null,"в т.ч. Ненормированная оплата механизаторов"]
[null,null,"Накладные расходы",null,null,null,11.7,{"$f":"IF('Текущие цены с учетом расхода'!N14>0,'Текущие цены с учетом расхода'!N14,IF('Текущие цены с учетом расхода'!N14<0,'Текущие цены с учетом расхода'!N14,\"\"))","v":1046},null,"Nakl",null,null,11.7,{"$f":"IF('Базовые цены с учетом расхода'!N14>0,'Базовые цены с учетом расхода'!N14,IF('Базовые цены с учетом расхода'!N14<0,'Базовые цены с учетом расхода'!N14,\"\"))","v":174}]
[null,null,"НР от ЗПР",null,null,null,null,{"$f":"IF('Текущие цены с учетом расхода'!P14>0,'Текущие цены с учетом расхода'!P14,IF('Текущие цены с учетом расхода'!P14<0,'Текущие цены с учетом расхода'!P14,\"\"))","v":""},null,"Nakl_ZPR",null,null,null,{"$f":"IF('Базовые цены с учетом расхода'!P14>0,'Базовые цены с учетом расхода'!P14,IF('Базовые цены с учетом расхода'!P14<0,'Базовые цены с учетом расхода'!P14,\"\"))","v":""}]
[null,null,"НР от ЗПМ",null,null,null,null,{"$f":"IF('Текущие цены с учетом расхода'!Q14>0,'Текущие цены с учетом расхода'!Q14,IF('Текущие цены с учетом расхода'!Q14<0,'Текущие цены с учетом расхода'!Q14,\"\"))","v":""},null,"Nakl_ZPM",null,null,null,{"$f":"IF('Базовые цены с учетом расхода'!Q14>0,'Базовые цены с учетом расхода'!Q14,IF('Базовые цены с учетом расхода'!Q14<0,'Базовые цены с учетом расхода'!Q14,\"\"))","v":""}]
[null,null,"Плановые накопления / Сметная прибыль",null,null,null,8,{"$f":"IF('Текущие цены с учетом расхода'!O14>0,'Текущие цены с учетом расхода'!O14,IF('Текущие цены с учетом расхода'!O14<0,'Текущие цены с учетом расхода'!O14,\"\"))","v":799},null,"Plan",null,null,8,{"$f":"IF('Базовые цены с учетом расхода'!O14>0,'Базовые цены с учетом расхода'!O14,IF('Базовые цены с учетом расхода'!O14<0,'Базовые цены с учетом расхода'!O14,\"\"))","v":133}]
[null,null,"СП от ЗПР",null,null,null,null,{"$f":"IF('Текущие цены с учетом расхода'!R14>0,'Текущие цены с учетом расхода'!R14,IF('Текущие цены с учетом расхода'!R14<0,'Текущие цены с учетом расхода'!R14,\"\"))","v":""},null,"Plan_ZPR",null,null,null,{"$f":"IF('Базовые цены с учетом расхода'!R14>0,'Базовые цены с учетом расхода'!R14,IF('Базовые цены с учетом расхода'!R14<0,'Базовые цены с учетом расхода'!R14,\"\"))","v":""}]
[null,null,"СП от ЗПМ",null,null,null,null,{"$f":"IF('Текущие цены с учетом расхода'!S14>0,'Текущие цены с учетом расхода'!S14,IF('Текущие цены с учетом расхода'!S14<0,'Текущие цены с учетом расхода'!S14,\"\"))","v":""},null,"Plan_ZPM",null,null,null,{"$f":"IF('Базовые цены с учетом расхода'!S14>0,'Базовые цены с учетом расхода'!S14,IF('Базовые цены с учетом расхода'!S14<0,'Базовые цены с учетом расхода'!S14,\"\"))","v":""}]
["10.","ГЭСНс 01-05-006-01","Очистка дороги от снега средними автогрейдерами, снег уплотненный до 300 мм (планировка проезжей части со снежным накатом)","10000 м2",null,1.2,{"$f":"ROUND(СУММПРОИЗВЕСЛИ(1,I194:I197,\"s\",E194:E197,G194:G197,0),2)+SUMIF(I194:I212,\"=NenormMatOtZPR\",G194:G212)","v":814.64},{"$f":"ROUND(СУММПРОИЗВЕСЛИ(F194,I194:I197,\"s\",E194:E197,G194:G197,0),0)+SUMIF(I194:I212,\"=NenormMatOtZPR\",H194:H212)","v":978},"sum",null,null,null,{"$f":"ROUND(СУММПРОИЗВЕСЛИ(1,I194:I197,\"s\",E194:E197,M194:M197,0),2)+SUMIF(I194:I212,\"=NenormMatOtZPR\",M194:M212)","v":104.55},{"$f":"ROUND(СУММПРОИЗВЕСЛИ(F194,I194:I197,\"s\",E194:E197,M194:M197,0),0)+SUMIF(I194:I212,\"=NenormMatOtZPR\",N194:N212)","v":125}]
["10. 1.","2","Затраты труда машинистов","чел.-ч",{"$f":"ОКРУГЛВСЕ(СУММПРОИЗВЕСЛИ(1,K194:K197,\"mWithZTM\",D194:D197,E194:E197,-1)+СУММКОЭФПРОЦЕНТЕСЛИ(1,1,K194:K197,\"mWithZTM_Proch\",E194:E197,-1),11)","v":0.85},{"$f":"ОКРУГЛВСЕ(СУММПРОИЗВЕСЛИ(1,K194:K197,\"mWithZTM\",D194:D197,F194:F197,-1)+СУММКОЭФПРОЦЕНТЕСЛИ(1,1,K194:K197,\"mWithZTM_Proch\",F194:F197,-1),11)","v":1.02},{"$f":"IF(F195=0,0,ROUND(H195/F195,3))","v":166.667},{"$f":"ROUND(СУММЕСЛИДА1НЕ1(L194:L197,\"mWithZPM\",D194:D197,0,H194:H197),0)","v":170},null,"Ж",null,null,{"$f":"IF(F195=0,0,ROUND(N195/F195,3))","v":13.725},{"$f":"ROUND(СУММЕСЛИДА1НЕ1(L194:L197,\"mWithZPM\",D194:D197,0,N194:N197),0)","v":14}]
["10. 2.",{"$f":"ПОЛУЧШИФР(Ресурсы!A39,1)","v":"СЦЭСМ 120202"},{"$f":"Ресурсы!B39","v":"Автогрейдеры среднего типа 99 кВт (135 л.с.)"},"маш.-ч",0.85,{"$f":"ОКРУГЛВСЕ(IF(E196=\"\",0,E196)*IF(F194=\"\",0,F194),11)","v":1.02},{"$f":"Ресурсы!D39","v":958.4},{"$f":"ROUND(IF(F196=\"\",0,F196)*IF(G196=\"\",0,G196),0)","v":978},"s","IsMash",null,null,{"$f":"Ресурсы!C39","v":123},{"$f":"ROUND(IF(F196=\"\",0,F196)*IF(M196=\"\",0,M196),0)","v":125}]
[null,null,null,{"$f":"Ресурсы!G39","v":1},null,null,{"$f":"Ресурсы!F39","v":166.8},{"$f":"ROUND(IF(F196=\"\",0,F196)*IF(G197=\"\",0,G197),0)","v":170},null,null,"mWithZTM","mWithZPM",{"$f":"Ресурсы!E39","v":13.5},{"$f":"ROUND(IF(F196=\"\",0,F196)*IF(M197=\"\",0,M197),0)","v":14}]
[null,null,"Зарплата рабочих"]
[null,null,"Эксплуатация машин",null,null,null,null,978,null,null,null,null,null,125]
[null,null,"в т.ч. зарплата машинистов",null,null,null,null,170,null,null,null,null,null,14]
[null,null,"Материалы"]
[null,null,"в т.ч. Вспомогательные материалы от стоимости материалов"]
[null,null,"в т.ч. Вспомогательные ненормируемые материалы",null,null,null,null,null,"NenormMatOtZPR"]
[null,null,"в т.ч. Ненормированная з.п. рабочих"]
[null,null,"в т.ч. Ненормированная стоимость эксплуатации машин"]
[null,null,"в т.ч. Ненормированная оплата механизаторов"]
[null,null,"Накладные расходы",null,null,null,11.7,{"$f":"IF('Текущие цены с учетом расхода'!N15>0,'Текущие цены с учетом расхода'!N15,IF('Текущие цены с учетом расхода'!N15<0,'Текущие цены с учетом расхода'!N15,\"\"))","v":114},null,"Nakl",null,null,11.7,{"$f":"IF('Базовые цены с учетом расхода'!N15>0,'Базовые цены с учетом расхода'!N15,IF('Базовые цены с учетом расхода'!N15<0,'Базовые цены с учетом расхода'!N15,\"\"))","v":15}]
[null,null,"НР от ЗПР",null,null,null,null,{"$f":"IF('Текущие цены с учетом расхода'!P15>0,'Текущие цены с учетом расхода'!P15,IF('Текущие цены с учетом расхода'!P15<0,'Текущие цены с учетом расхода'!P15,\"\"))","v":""},null,"Nakl_ZPR",null,null,null,{"$f":"IF('Базовые цены с учетом расхода'!P15>0,'Базовые цены с учетом расхода'!P15,IF('Базовые цены с учетом расхода'!P15<0,'Базовые цены с учетом расхода'!P15,\"\"))","v":""}]
[null,null,"НР от ЗПМ",null,null,null,null,{"$f":"IF('Текущие цены с учетом расхода'!Q15>0,'Текущие цены с учетом расхода'!Q15,IF('Текущие цены с учетом расхода'!Q15<0,'Текущие цены с учетом расхода'!Q15,\"\"))","v":""},null,"Nakl_ZPM",null,null,null,{"$f":"IF('Базовые цены с учетом расхода'!Q15>0,'Базовые цены с учетом расхода'!Q15,IF('Базовые цены с учетом расхода'!Q15<0,'Базовые цены с учетом расхода'!Q15,\"\"))","v":""}]
[null,null,"Плановые накопления / Сметная прибыль",null,null,null,8,{"$f":"IF('Текущие цены с учетом расхода'!O15>0,'Текущие цены с учетом расхода'!O15,IF('Текущие цены с учетом расхода'!O15<0,'Текущие цены с учетом расхода'!O15,\"\"))","v":87},null,"Plan",null,null,8,{"$f":"IF('Базовые цены с учетом расхода'!O15>0,'Базовые цены с учетом расхода'!O15,IF('Базовые цены с учетом расхода'!O15<0,'Базовые цены с учетом расхода'!O15,\"\"))","v":11}]
[null,null,"СП от ЗПР",null,null,null,null,{"$f":"IF('Текущие цены с учетом расхода'!R15>0,'Текущие цены с учетом расхода'!R15,IF('Текущие цены с учетом расхода'!R15<0,'Текущие цены с учетом расхода'!R15,\"\"))","v":""},null,"Plan_ZPR",null,null,null,{"$f":"IF('Базовые цены с учетом расхода'!R15>0,'Базовые цены с учетом расхода'!R15,IF('Базовые цены с учетом расхода'!R15<0,'Базовые цены с учетом расхода'!R15,\"\"))","v":""}]
[null,null,"СП от ЗПМ",null,null,null,null,{"$f":"IF('Текущие цены с учетом расхода'!S15>0,'Текущие цены с учетом расхода'!S15,IF('Текущие цены с учетом расхода'!S15<0,'Текущие цены с учетом расхода'!S15,\"\"))","v":""},null,"Plan_ZPM",null,null,null,{"$f":"IF('Базовые цены с учетом расхода'!S15>0,'Базовые цены с учетом расхода'!S15,IF('Базовые цены с учетом расхода'!S15<0,'Базовые цены с учетом расхода'!S15,\"\"))","v":""}]
["11.","ГЭСНс 01-02-013-01","Ямочный ремонт покрытий из черного щебня холодным способом","100 м2",null,5.4999999999999997E-3,{"$f":"ROUND(СУММПРОИЗВЕСЛИ(1,I213:I222,\"s\",E213:E222,G213:G222,0),2)+SUMIF(I213:I237,\"=NenormMatOtZPR\",G213:G237)","v":29831.39},{"$f":"ROUND(СУММПРОИЗВЕСЛИ(F213,I213:I222,\"s\",E213:E222,G213:G222,0),0)+SUMIF(I213:I237,\"=NenormMatOtZPR\",H213:H237)","v":164},"sum",null,null,null,{"$f":"ROUND(СУММПРОИЗВЕСЛИ(1,I213:I222,\"s\",E213:E222,M213:M222,0),2)+SUMIF(I213:I237,\"=NenormMatOtZPR\",M213:M237)","v":2045.33},{"$f":"ROUND(СУММПРОИЗВЕСЛИ(F213,I213:I222,\"s\",E213:E222,M213:M222,0),0)+SUMIF(I213:I237,\"=NenormMatOtZPR\",N213:N237)","v":11}]
["11. 1.","2","Затраты труда машинистов","чел.-ч",{"$f":"ОКРУГЛВСЕ(СУММПРОИЗВЕСЛИ(1,K213:K222,\"mWithZTM\",D213:D222,E213:E222,-1)+СУММКОЭФПРОЦЕНТЕСЛИ(1,1,K213:K222,\"mWithZTM_Proch\",E213:E222,-1),11)","v":14.42},{"$f":"ОКРУГЛВСЕ(СУММПРОИЗВЕСЛИ(1,K213:K222,\"mWithZTM\",D213:D222,F213:F222,-1)+СУММКОЭФПРОЦЕНТЕСЛИ(1,1,K213:K222,\"mWithZTM_Proch\",F213:F222,-1),11)","v":7.9310000000000005E-2},{"$f":"IF(F214=0,0,ROUND(H214/F214,3))","v":151.30500000000001},{"$f":"ROUND(СУММЕСЛИДА1НЕ1(L213:L222,\"mWithZPM\",D213:D222,0,H213:H222),0)","v":12},null,"Ж",null,null,{"$f":"IF(F214=0,0,ROUND(N214/F214,3))","v":12.609},{"$f":"ROUND(СУММЕСЛИДА1НЕ1(L213:L222,\"mWithZPM\",D213:D222,0,N213:N222),0)","v":1}]
["11. 2.",{"$f":"ПОЛУЧШИФР(Ресурсы!A3,1)","v":"0-4001"},{"$f":"Ресурсы!B3","v":"Дорожный рабочий 1 разряда"},"чел.-ч",14.42,{"$f":"ОКРУГЛВСЕ(IF(E215=\"\",0,E215)*IF(F213=\"\",0,F213),11)","v":7.9310000000000005E-2},{"$f":"Ресурсы!D3","v":92.69},{"$f":"ROUND(IF(F215=\"\",0,F215)*IF(G215=\"\",0,G215),0)","v":7},"s","Г",null,null,{"$f":"Ресурсы!C3","v":7.19},{"$f":"ROUND(IF(F215=\"\",0,F215)*IF(M215=\"\",0,M215),0)","v":1}]
["11. 3.",{"$f":"ПОЛУЧШИФР(Ресурсы!A5,1)","v":"0-4003"},{"$f":"Ресурсы!B5","v":"Дорожный рабочий 3 разряда"},"чел.-ч",14.42,{"$f":"ОКРУГЛВСЕ(IF(E216=\"\",0,E216)*IF(F213=\"\",0,F213),11)","v":7.9310000000000005E-2},{"$f":"Ресурсы!D5","v":109.94},{"$f":"ROUND(IF(F216=\"\",0,F216)*IF(G216=\"\",0,G216),0)","v":9},"s","Г",null,null,{"$f":"Ресурсы!C5","v":8.5299999999999994},{"$f":"ROUND(IF(F216=\"\",0,F216)*IF(M216=\"\",0,M216),0)","v":1}]
["11. 4.",{"$f":"ПОЛУЧШИФР(Ресурсы!A6,1)","v":"0-4004"},{"$f":"Ресурсы!B6","v":"Дорожный рабочий 4 разряда"},"чел.-ч",14.42,{"$f":"ОКРУГЛВСЕ(IF(E217=\"\",0,E217)*IF(F213=\"\",0,F213),11)","v":7.9310000000000005E-2},{"$f":"Ресурсы!D6","v":124.02},{"$f":"ROUND(IF(F217=\"\",0,F217)*IF(G217=\"\",0,G217),0)","v":10},"s","Г",null,null,{"$f":"Ресурсы!C6","v":9.6199999999999992},{"$f":"ROUND(IF(F217=\"\",0,F217)*IF(M217=\"\",0,M217),0)","v":1}]
["11. 5.",{"$f":"ПОЛУЧШИФР(Ресурсы!A40,1)","v":"СЦЭСМ 121011"},{"$f":"Ресурсы!B40","v":"Котлы битумные передвижные 400 л"},"маш.-ч",14.42,{"$f":"ОКРУГЛВСЕ(IF(E218=\"\",0,E218)*IF(F213=\"\",0,F213),11)","v":7.9310000000000005E-2},{"$f":"Ресурсы!D40","v":158.25},{"$f":"ROUND(IF(F218=\"\",0,F218)*IF(G218=\"\",0,G218),0)","v":13},"s","IsMash",null,null,{"$f":"Ресурсы!C40","v":30},{"$f":"ROUND(IF(F218=\"\",0,F218)*IF(M218=\"\",0,M218),0)","v":2}]
["11. 6.",{"$f":"ПОЛУЧШИФР(Ресурсы!A42,1)","v":"СЦЭСМ 121550"},{"$f":"Ресурсы!B42","v":"Машины дорожной службы (машина дорожного мастера)"},"маш.-ч",14.42,{"$f":"ОКРУГЛВСЕ(IF(E219=\"\",0,E219)*IF(F213=\"\",0,F213),11)","v":7.9310000000000005E-2},{"$f":"Ресурсы!D42","v":552.54999999999995},{"$f":"ROUND(IF(F219=\"\",0,F219)*IF(G219=\"\",0,G219),0)","v":44},"s","IsMash",null,null,{"$f":"Ресурсы!C42","v":86.5},{"$f":"ROUND(IF(F219=\"\",0,F219)*IF(M219=\"\",0,M219),0)","v":7}]
[null,null,null,{"$f":"Ресурсы!G42","v":1},null,null,{"$f":"Ресурсы!F42","v":149.81},{"$f":"ROUND(IF(F219=\"\",0,F219)*IF(G220=\"\",0,G220),0)","v":12},null,null,"mWithZTM","mWithZPM",{"$f":"Ресурсы!E42","v":11.6},{"$f":"ROUND(IF(F219=\"\",0,F219)*IF(M220=\"\",0,M220),0)","v":1}]
["11. 7.",{"$f":"ПОЛУЧШИФР(Ресурсы!A14,0)","v":"с101-1556"},{"$f":"Ресурсы!B14","v":"Битумы нефтяные дорожные марки БНД-60/90, БНД-90/130 первый сорт"},"т",3.1E-2,{"$f":"ОКРУГЛВСЕ(IF(E221=\"\",0,E221)*IF(F213=\"\",0,F213),11)","v":1.705E-4},{"$f":"ROUND(Ресурсы!D14*Начисления!AV16,2)","v":14016.54},{"$f":"ROUND(IF(F221=\"\",0,F221)*IF(G221=\"\",0,G221),0)","v":2},"s","IsMater",null,null,{"$f":"ROUND(Ресурсы!C14*Начисления!AV16,2)","v":0},{"$f":"ROUND(IF(F221=\"\",0,F221)*IF(M221=\"\",0,M221),0)","v":0}]
["11. 8.",{"$f":"ПОЛУЧШИФР(Ресурсы!A29,0)","v":"с410-0074"},{"$f":"Ресурсы!B29","v":"Щебень черный горячий, фракция 20-25 мм"},"т",11.93,{"$f":"ОКРУГЛВСЕ(IF(E222=\"\",0,E222)*IF(F213=\"\",0,F213),11)","v":6.5615000000000007E-2},{"$f":"ROUND(Ресурсы!D29*Начисления!AV16,2)","v":1210.1300000000001},{"$f":"ROUND(IF(F222=\"\",0,F222)*IF(G222=\"\",0,G222),0)","v":79},"s","IsMater",null,null,{"$f":"ROUND(Ресурсы!C29*Начисления!AV16,2)","v":0},{"$f":"ROUND(IF(F222=\"\",0,F222)*IF(M222=\"\",0,M222),0)","v":0}]
[null,null,"Зарплата рабочих",null,null,null,null,26,null,null,null,null,null,2]
[null,null,"Эксплуатация машин",null,null,null,null,56,null,null,null,null,null,9]
[null,null,"в т.ч. зарплата машинистов",null,null,null,null,12,null,null,null,null,null,1]
[null,null,"Материалы",null,null,null,null,82]
[null,null,"в т.ч. Вспомогательные материалы от стоимости материалов"]
[null,null,"в т.ч. Вспомогательные ненормируемые материалы",null,null,null,null,null,"NenormMatOtZPR"]
[null,null,"в т.ч. Ненормированная з.п. рабочих"]
[null,null,"в т.ч. Ненормированная стоимость эксплуатации машин"]
[null,null,"в т.ч. Ненормированная оплата механизаторов"]
[null,null,"Накладные расходы",null,null,null,11.7,{"$f":"IF('Текущие цены с учетом расхода'!N16>0,'Текущие цены с учетом расхода'!N16,IF('Текущие цены с учетом расхода'!N16<0,'Текущие цены с учетом расхода'!N16,\"\"))","v":19},null,"Nakl",null,null,11.7,{"$f":"IF('Базовые цены с учетом расхода'!N16>0,'Базовые цены с учетом расхода'!N16,IF('Базовые цены с учетом расхода'!N16<0,'Базовые цены с учетом расхода'!N16,\"\"))","v":1}]
[null,null,"НР от ЗПР",null,null,null,null,{"$f":"IF('Текущие цены с учетом расхода'!P16>0,'Текущие цены с учетом расхода'!P16,IF('Текущие цены с учетом расхода'!P16<0,'Текущие цены с учетом расхода'!P16,\"\"))","v":""},null,"Nakl_ZPR",null,null,null,{"$f":"IF('Базовые цены с учетом расхода'!P16>0,'Базовые цены с учетом расхода'!P16,IF('Базовые цены с учетом расхода'!P16<0,'Базовые цены с учетом расхода'!P16,\"\"))","v":""}]
[null,null,"НР от ЗПМ",null,null,null,null,{"$f":"IF('Текущие цены с учетом расхода'!Q16>0,'Текущие цены с учетом расхода'!Q16,IF('Текущие цены с учетом расхода'!Q16<0,'Текущие цены с учетом расхода'!Q16,\"\"))","v":""},null,"Nakl_ZPM",null,null,null,{"$f":"IF('Базовые цены с учетом расхода'!Q16>0,'Базовые цены с учетом расхода'!Q16,IF('Базовые цены с учетом расхода'!Q16<0,'Базовые цены с учетом расхода'!Q16,\"\"))","v":""}]
[null,null,"Плановые накопления / Сметная прибыль",null,null,null,8,{"$f":"IF('Текущие цены с учетом расхода'!O16>0,'Текущие цены с учетом расхода'!O16,IF('Текущие цены с учетом расхода'!O16<0,'Текущие цены с учетом расхода'!O16,\"\"))","v":15},null,"Plan",null,null,8,{"$f":"IF('Базовые цены с учетом расхода'!O16>0,'Базовые цены с учетом расхода'!O16,IF('Базовые цены с учетом расхода'!O16<0,'Базовые цены с учетом расхода'!O16,\"\"))","v":1}]
[null,null,"СП от ЗПР",null,null,null,null,{"$f":"IF('Текущие цены с учетом расхода'!R16>0,'Текущие цены с учетом расхода'!R16,IF('Текущие цены с учетом расхода'!R16<0,'Текущие цены с учетом расхода'!R16,\"\"))","v":""},null,"Plan_ZPR",null,null,null,{"$f":"IF('Базовые цены с учетом расхода'!R16>0,'Базовые цены с учетом расхода'!R16,IF('Базовые цены с учетом расхода'!R16<0,'Базовые цены с учетом расхода'!R16,\"\"))","v":""}]
[null,null,"СП от ЗПМ",null,null,null,null,{"$f":"IF('Текущие цены с учетом расхода'!S16>0,'Текущие цены с учетом расхода'!S16,IF('Текущие цены с учетом расхода'!S16<0,'Текущие цены с учетом расхода'!S16,\"\"))","v":""},null,"Plan_ZPM",null,null,null,{"$f":"IF('Базовые цены с учетом расхода'!S16>0,'Базовые цены с учетом расхода'!S16,IF('Базовые цены с учетом расхода'!S16<0,'Базовые цены с учетом расхода'!S16,\"\"))","v":""}]
["12.","ГЭСНс 01-10-001-03","Погрузка материалов погрузчиками на пневмоколесном ходу с перемещением на расстояние до 10 м снег","100 м3",null,0.05,{"$f":"ROUND(СУММПРОИЗВЕСЛИ(1,I238:I242,\"s\",E238:E242,G238:G242,0),2)+SUMIF(I238:I257,\"=NenormMatOtZPR\",G238:G257)","v":2075.4699999999998},{"$f":"ROUND(СУММПРОИЗВЕСЛИ(F238,I238:I242,\"s\",E238:E242,G238:G242,0),0)+SUMIF(I238:I257,\"=NenormMatOtZPR\",H238:H257)","v":104},"sum",null,null,null,{"$f":"ROUND(СУММПРОИЗВЕСЛИ(1,I238:I242,\"s\",E238:E242,M238:M242,0),2)+SUMIF(I238:I257,\"=NenormMatOtZPR\",M238:M257)","v":347.65},{"$f":"ROUND(СУММПРОИЗВЕСЛИ(F238,I238:I242,\"s\",E238:E242,M238:M242,0),0)+SUMIF(I238:I257,\"=NenormMatOtZPR\",N238:N257)","v":17}]
[null,null,{"$f":"IF(ROUND((1/0.2)/100,9)=F238,\"Объем: 1/0.2\",\"\")","v":"Объем: 1/0.2"}]
["12. 1.","2","Затраты труда машинистов","чел.-ч",{"$f":"ОКРУГЛВСЕ(СУММПРОИЗВЕСЛИ(1,K238:K242,\"mWithZTM\",D238:D242,E238:E242,-1)+СУММКОЭФПРОЦЕНТЕСЛИ(1,1,K238:K242,\"mWithZTM_Proch\",E238:E242,-1),11)","v":4.09},{"$f":"ОКРУГЛВСЕ(СУММПРОИЗВЕСЛИ(1,K238:K242,\"mWithZTM\",D238:D242,F238:F242,-1)+СУММКОЭФПРОЦЕНТЕСЛИ(1,1,K238:K242,\"mWithZTM_Proch\",F238:F242,-1),11)","v":0.20449999999999999},{"$f":"IF(F240=0,0,ROUND(H240/F240,3))","v":141.809},{"$f":"ROUND(СУММЕСЛИДА1НЕ1(L238:L242,\"mWithZPM\",D238:D242,0,H238:H242),0)","v":29},null,"Ж",null,null,{"$f":"IF(F240=0,0,ROUND(N240/F240,3))","v":9.7799999999999994},{"$f":"ROUND(СУММЕСЛИДА1НЕ1(L238:L242,\"mWithZPM\",D238:D242,0,N238:N242),0)","v":2}]
["12. 2.",{"$f":"ПОЛУЧШИФР(Ресурсы!A34,1)","v":"СЦЭСМ 031811"},{"$f":"Ресурсы!B34","v":"Погрузчики одноковшовые универсальные фронтальные пневмоколесные 2 т"},"маш.-ч",4.09,{"$f":"ОКРУГЛВСЕ(IF(E241=\"\",0,E241)*IF(F238=\"\",0,F238),11)","v":0.20449999999999999},{"$f":"Ресурсы!D34","v":507.45},{"$f":"ROUND(IF(F241=\"\",0,F241)*IF(G241=\"\",0,G241),0)","v":104},"s","IsMash",null,null,{"$f":"Ресурсы!C34","v":85},{"$f":"ROUND(IF(F241=\"\",0,F241)*IF(M241=\"\",0,M241),0)","v":17}]
[null,null,null,{"$f":"Ресурсы!G34","v":1},null,null,{"$f":"Ресурсы!F34","v":142.80000000000001},{"$f":"ROUND(IF(F241=\"\",0,F241)*IF(G242=\"\",0,G242),0)","v":29},null,null,"mWithZTM","mWithZPM",{"$f":"Ресурсы!E34","v":11.6},{"$f":"ROUND(IF(F241=\"\",0,F241)*IF(M242=\"\",0,M242),0)","v":2}]
[null,null,"Зарплата рабочих"]
[null,null,"Эксплуатация машин",null,null,null,null,104,null,null,null,null,null,17]
[null,null,"в т.ч. зарплата машинистов",null,null,null,null,29,null,null,null,null,null,2]
[null,null,"Материалы"]
[null,null,"в т.ч. Вспомогательные материалы от стоимости материалов"]
[null,null,"в т.ч. Вспомогательные ненормируемые материалы",null,null,null,null,null,"NenormMatOtZPR"]
[null,null,"в т.ч. Ненормированная з.п. рабочих"]
[null,null,"в т.ч. Ненормированная стоимость эксплуатации машин"]
[null,null,"в т.ч. Ненормированная оплата механизаторов"]
[null,null,"Накладные расходы",null,null,null,11.7,{"$f":"IF('Текущие цены с учетом расхода'!N17>0,'Текущие цены с учетом расхода'!N17,IF('Текущие цены с учетом расхода'!N17<0,'Текущие цены с учетом расхода'!N17,\"\"))","v":12},null,"Nakl",null,null,11.7,{"$f":"IF('Базовые цены с учетом расхода'!N17>0,'Базовые цены с учетом расхода'!N17,IF('Базовые цены с учетом расхода'!N17<0,'Базовые цены с учетом расхода'!N17,\"\"))","v":2}]
[null,null,"НР от ЗПР",null,null,null,null,{"$f":"IF('Текущие цены с учетом расхода'!P17>0,'Текущие цены с учетом расхода'!P17,IF('Текущие цены с учетом расхода'!P17<0,'Текущие цены с учетом расхода'!P17,\"\"))","v":""},null,"Nakl_ZPR",null,null,null,{"$f":"IF('Базовые цены с учетом расхода'!P17>0,'Базовые цены с учетом расхода'!P17,IF('Базовые цены с учетом расхода'!P17<0,'Базовые цены с учетом расхода'!P17,\"\"))","v":""}]
[null,null,"НР от ЗПМ",null,null,null,null,{"$f":"IF('Текущие цены с учетом расхода'!Q17>0,'Текущие цены с учетом расхода'!Q17,IF('Текущие цены с учетом расхода'!Q17<0,'Текущие цены с учетом расхода'!Q17,\"\"))","v":""},null,"Nakl_ZPM",null,null,null,{"$f":"IF('Базовые цены с учетом расхода'!Q17>0,'Базовые цены с учетом расхода'!Q17,IF('Базовые цены с учетом расхода'!Q17<0,'Базовые цены с учетом расхода'!Q17,\"\"))","v":""}]
[null,null,"Плановые накопления / Сметная прибыль",null,null,null,8,{"$f":"IF('Текущие цены с учетом расхода'!O17>0,'Текущие цены с учетом расхода'!O17,IF('Текущие цены с учетом расхода'!O17<0,'Текущие цены с учетом расхода'!O17,\"\"))","v":9},null,"Plan",null,null,8,{"$f":"IF('Базовые цены с учетом расхода'!O17>0,'Базовые цены с учетом расхода'!O17,IF('Базовые цены с учетом расхода'!O17<0,'Базовые цены с учетом расхода'!O17,\"\"))","v":2}]
[null,null,"СП от ЗПР",null,null,null,null,{"$f":"IF('Текущие цены с учетом расхода'!R17>0,'Текущие цены с учетом расхода'!R17,IF('Текущие цены с учетом расхода'!R17<0,'Текущие цены с учетом расхода'!R17,\"\"))","v":""},null,"Plan_ZPR",null,null,null,{"$f":"IF('Базовые цены с учетом расхода'!R17>0,'Базовые цены с учетом расхода'!R17,IF('Базовые цены с учетом расхода'!R17<0,'Базовые цены с учетом расхода'!R17,\"\"))","v":""}]
[null,null,"СП от ЗПМ",null,null,null,null,{"$f":"IF('Текущие цены с учетом расхода'!S17>0,'Текущие цены с учетом расхода'!S17,IF('Текущие цены с учетом расхода'!S17<0,'Текущие цены с учетом расхода'!S17,\"\"))","v":""},null,"Plan_ZPM",null,null,null,{"$f":"IF('Базовые цены с учетом расхода'!S17>0,'Базовые цены с учетом расхода'!S17,IF('Базовые цены с учетом расхода'!S17<0,'Базовые цены с учетом расхода'!S17,\"\"))","v":""}]
["13.","ГЭСНс 01-11-002-13","Простой автомобилей-самосвалов под погрузкой-разгрузкой грузов 2-го класса при погрузке механизированным способом грузоподъемность 10 т","100 т",null,0.01,{"$f":"ROUND(СУММПРОИЗВЕСЛИ(1,I258:I261,\"s\",E258:E261,G258:G261,0),2)+SUMIF(I258:I276,\"=NenormMatOtZPR\",G258:G276)","v":2702.7},{"$f":"ROUND(СУММПРОИЗВЕСЛИ(F258,I258:I261,\"s\",E258:E261,G258:G261,0),0)+SUMIF(I258:I276,\"=NenormMatOtZPR\",H258:H276)","v":27},"sum",null,null,null,{"$f":"ROUND(СУММПРОИЗВЕСЛИ(1,I258:I261,\"s\",E258:E261,M258:M261,0),2)+SUMIF(I258:I276,\"=NenormMatOtZPR\",M258:M276)","v":433.01},{"$f":"ROUND(СУММПРОИЗВЕСЛИ(F258,I258:I261,\"s\",E258:E261,M258:M261,0),0)+SUMIF(I258:I276,\"=NenormMatOtZPR\",N258:N276)","v":4}]
["13. 0.","З1000-0001","Затраты труда машинистов","чел.ч",0,0,{"$f":"IF(F259=0,0,ROUND(H259/F259,3))","v":0},null,null,"Ж",null,null,{"$f":"IF(F259=0,0,ROUND(N259/F259,3))","v":0}]
["13. 1.",{"$f":"ПОЛУЧШИФР(Ресурсы!A44,1)","v":"СЦЭСМ 400052"},{"$f":"Ресурсы!B44","v":"Автомобиль-самосвал, грузоподъемность до 10 т"},"маш.-ч",3.85,{"$f":"ОКРУГЛВСЕ(IF(E260=\"\",0,E260)*IF(F258=\"\",0,F258),11)","v":3.85E-2},{"$f":"Ресурсы!D44","v":702},{"$f":"ROUND(IF(F260=\"\",0,F260)*IF(G260=\"\",0,G260),0)","v":27},"s","IsMash",null,null,{"$f":"Ресурсы!C44","v":112.47},{"$f":"ROUND(IF(F260=\"\",0,F260)*IF(M260=\"\",0,M260),0)","v":4}]
[null,null,null,{"$f":"Ресурсы!G44","v":1},null,null,{"$f":"Ресурсы!F44","v":142.80000000000001},{"$f":"ROUND(IF(F260=\"\",0,F260)*IF(G261=\"\",0,G261),0)","v":5},null,null,null,null,{"$f":"Ресурсы!E44","v":13.5},{"$f":"ROUND(IF(F260=\"\",0,F260)*IF(M261=\"\",0,M261),0)","v":1}]
[null,null,"Зарплата рабочих"]
[null,null,"Эксплуатация машин",null,null,null,null,27,null,null,null,null,null,4]
[null,null,"в т.ч. зарплата машинистов"]
[null,null,"Материалы"]
[null,null,"в т.ч. Вспомогательные материалы от стоимости материалов"]
[null,null,"в т.ч. Вспомогательные ненормируемые материалы",null,null,null,null,null,"NenormMatOtZPR"]
[null,null,"в т.ч. Ненормированная з.п. рабочих"]
[null,null,"в т.ч. Ненормированная стоимость эксплуатации машин"]
[null,null,"в т.ч. Ненормированная оплата механизаторов"]
[null,null,"Накладные расходы",null,null,null,11.7,{"$f":"IF('Текущие цены с учетом расхода'!N18>0,'Текущие цены с учетом расхода'!N18,IF('Текущие цены с учетом расхода'!N18<0,'Текущие цены с учетом расхода'!N18,\"\"))","v":3},null,"Nakl",null,null,11.7,{"$f":"IF('Базовые цены с учетом расхода'!N18>0,'Базовые цены с учетом расхода'!N18,IF('Базовые цены с учетом расхода'!N18<0,'Базовые цены с учетом расхода'!N18,\"\"))","v":""}]
[null,null,"НР от ЗПР",null,null,null,null,{"$f":"IF('Текущие цены с учетом расхода'!P18>0,'Текущие цены с учетом расхода'!P18,IF('Текущие цены с учетом расхода'!P18<0,'Текущие цены с учетом расхода'!P18,\"\"))","v":""},null,"Nakl_ZPR",null,null,null,{"$f":"IF('Базовые цены с учетом расхода'!P18>0,'Базовые цены с учетом расхода'!P18,IF('Базовые цены с учетом расхода'!P18<0,'Базовые цены с учетом расхода'!P18,\"\"))","v":""}]
[null,null,"НР от ЗПМ",null,null,null,null,{"$f":"IF('Текущие цены с учетом расхода'!Q18>0,'Текущие цены с учетом расхода'!Q18,IF('Текущие цены с учетом расхода'!Q18<0,'Текущие цены с учетом расхода'!Q18,\"\"))","v":""},null,"Nakl_ZPM",null,null,null,{"$f":"IF('Базовые цены с учетом расхода'!Q18>0,'Базовые цены с учетом расхода'!Q18,IF('Базовые цены с учетом расхода'!Q18<0,'Базовые цены с учетом расхода'!Q18,\"\"))","v":""}]
[null,null,"Плановые накопления / Сметная прибыль",null,null,null,8,{"$f":"IF('Текущие цены с учетом расхода'!O18>0,'Текущие цены с учетом расхода'!O18,IF('Текущие цены с учетом расхода'!O18<0,'Текущие цены с учетом расхода'!O18,\"\"))","v":2},null,"Plan",null,null,8,{"$f":"IF('Базовые цены с учетом расхода'!O18>0,'Базовые цены с учетом расхода'!O18,IF('Базовые цены с учетом расхода'!O18<0,'Базовые цены с учетом расхода'!O18,\"\"))","v":""}]
[null,null,"СП от ЗПР",null,null,null,null,{"$f":"IF('Текущие цены с учетом расхода'!R18>0,'Текущие цены с учетом расхода'!R18,IF('Текущие цены с учетом расхода'!R18<0,'Текущие цены с учетом расхода'!R18,\"\"))","v":""},null,"Plan_ZPR",null,null,null,{"$f":"IF('Базовые цены с учетом расхода'!R18>0,'Базовые цены с учетом расхода'!R18,IF('Базовые цены с учетом расхода'!R18<0,'Базовые цены с учетом расхода'!R18,\"\"))","v":""}]
[null,null,"СП от ЗПМ",null,null,null,null,{"$f":"IF('Текущие цены с учетом расхода'!S18>0,'Текущие цены с учетом расхода'!S18,IF('Текущие цены с учетом расхода'!S18<0,'Текущие цены с учетом расхода'!S18,\"\"))","v":""},null,"Plan_ZPM",null,null,null,{"$f":"IF('Базовые цены с учетом расхода'!S18>0,'Базовые цены с учетом расхода'!S18,IF('Базовые цены с учетом расхода'!S18<0,'Базовые цены с учетом расхода'!S18,\"\"))","v":""}]
["14.","ГЭСНс 01-11-002-21","При перевозке грузов 2-го класса по дорогам с усовершествованным типом покрытия на расстояние свыше 3 км принимать на каждый километр (добавлять к нормам 12 - 16) грузоподъемность 10 т на 10 км","100 т",null,0.1,{"$f":"ROUND(СУММПРОИЗВЕСЛИ(1,I277:I281,\"s\",E277:E281,G277:G281,0),2)+SUMIF(I277:I296,\"=NenormMatOtZPR\",G277:G296)","v":477.36},{"$f":"ROUND(СУММПРОИЗВЕСЛИ(F277,I277:I281,\"s\",E277:E281,G277:G281,0),0)+SUMIF(I277:I296,\"=NenormMatOtZPR\",H277:H296)","v":48},"sum",null,null,null,{"$f":"ROUND(СУММПРОИЗВЕСЛИ(1,I277:I281,\"s\",E277:E281,M277:M281,0),2)+SUMIF(I277:I296,\"=NenormMatOtZPR\",M277:M296)","v":76.48},{"$f":"ROUND(СУММПРОИЗВЕСЛИ(F277,I277:I281,\"s\",E277:E281,M277:M281,0),0)+SUMIF(I277:I296,\"=NenormMatOtZPR\",N277:N296)","v":8}]
[null,null,{"$f":"IF(ROUND((1*10)/100,9)=F277,\"Объем: 1*10\",\"\")","v":"Объем: 1*10"}]
["14. 0.","З1000-0001","Затраты труда машинистов","чел.ч",0,0,{"$f":"IF(F279=0,0,ROUND(H279/F279,3))","v":0},null,null,"Ж",null,null,{"$f":"IF(F279=0,0,ROUND(N279/F279,3))","v":0}]
["14. 1.",{"$f":"ПОЛУЧШИФР(Ресурсы!A44,1)","v":"СЦЭСМ 400052"},{"$f":"Ресурсы!B44","v":"Автомобиль-самосвал, грузоподъемность до 10 т"},"маш.-ч",0.68,{"$f":"ОКРУГЛВСЕ(IF(E280=\"\",0,E280)*IF(F277=\"\",0,F277),11)","v":6.8000000000000005E-2},{"$f":"Ресурсы!D44","v":702},{"$f":"ROUND(IF(F280=\"\",0,F280)*IF(G280=\"\",0,G280),0)","v":48},"s","IsMash",null,null,{"$f":"Ресурсы!C44","v":112.47},{"$f":"ROUND(IF(F280=\"\",0,F280)*IF(M280=\"\",0,M280),0)","v":8}]
[null,null,null,{"$f":"Ресурсы!G44","v":1},null,null,{"$f":"Ресурсы!F44","v":142.80000000000001},{"$f":"ROUND(IF(F280=\"\",0,F280)*IF(G281=\"\",0,G281),0)","v":10},null,null,null,null,{"$f":"Ресурсы!E44","v":13.5},{"$f":"ROUND(IF(F280=\"\",0,F280)*IF(M281=\"\",0,M281),0)","v":1}]
[null,null,"Зарплата рабочих"]
[null,null,"Эксплуатация машин",null,null,null,null,48,null,null,null,null,null,8]
[null,null,"в т.ч. зарплата машинистов"]
[null,null,"Материалы"]
[null,null,"в т.ч. Вспомогательные материалы от стоимости материалов"]
[null,null,"в т.ч. Вспомогательные ненормируемые материалы",null,null,null,null,null,"NenormMatOtZPR"]
[null,null,"в т.ч. Ненормированная з.п. рабочих"]
[null,null,"в т.ч. Ненормированная стоимость эксплуатации машин"]
[null,null,"в т.ч. Ненормированная оплата механизаторов"]
[null,null,"Накладные расходы",null,null,null,11.7,{"$f":"IF('Текущие цены с учетом расхода'!N19>0,'Текущие цены с учетом расхода'!N19,IF('Текущие цены с учетом расхода'!N19<0,'Текущие цены с учетом расхода'!N19,\"\"))","v":6},null,"Nakl",null,null,11.7,{"$f":"IF('Базовые цены с учетом расхода'!N19>0,'Базовые цены с учетом расхода'!N19,IF('Базовые цены с учетом расхода'!N19<0,'Базовые цены с учетом расхода'!N19,\"\"))","v":1}]
[null,null,"НР от ЗПР",null,null,null,null,{"$f":"IF('Текущие цены с учетом расхода'!P19>0,'Текущие цены с учетом расхода'!P19,IF('Текущие цены с учетом расхода'!P19<0,'Текущие цены с учетом расхода'!P19,\"\"))","v":""},null,"Nakl_ZPR",null,null,null,{"$f":"IF('Базовые цены с учетом расхода'!P19>0,'Базовые цены с учетом расхода'!P19,IF('Базовые цены с учетом расхода'!P19<0,'Базовые цены с учетом расхода'!P19,\"\"))","v":""}]
[null,null,"НР от ЗПМ",null,null,null,null,{"$f":"IF('Текущие цены с учетом расхода'!Q19>0,'Текущие цены с учетом расхода'!Q19,IF('Текущие цены с учетом расхода'!Q19<0,'Текущие цены с учетом расхода'!Q19,\"\"))","v":""},null,"Nakl_ZPM",null,null,null,{"$f":"IF('Базовые цены с учетом расхода'!Q19>0,'Базовые цены с учетом расхода'!Q19,IF('Базовые цены с учетом расхода'!Q19<0,'Базовые цены с учетом расхода'!Q19,\"\"))","v":""}]
[null,null,"Плановые накопления / Сметная прибыль",null,null,null,8,{"$f":"IF('Текущие цены с учетом расхода'!O19>0,'Текущие цены с учетом расхода'!O19,IF('Текущие цены с учетом расхода'!O19<0,'Текущие цены с учетом расхода'!O19,\"\"))","v":4},null,"Plan",null,null,8,{"$f":"IF('Базовые цены с учетом расхода'!O19>0,'Базовые цены с учетом расхода'!O19,IF('Базовые цены с учетом расхода'!O19<0,'Базовые цены с учетом расхода'!O19,\"\"))","v":1}]
[null,null,"СП от ЗПР",null,null,null,null,{"$f":"IF('Текущие цены с учетом расхода'!R19>0,'Текущие цены с учетом расхода'!R19,IF('Текущие цены с учетом расхода'!R19<0,'Текущие цены с учетом расхода'!R19,\"\"))","v":""},null,"Plan_ZPR",null,null,null,{"$f":"IF('Базовые цены с учетом расхода'!R19>0,'Базовые цены с учетом расхода'!R19,IF('Базовые цены с учетом расхода'!R19<0,'Базовые цены с учетом расхода'!R19,\"\"))","v":""}]
[null,null,"СП от ЗПМ",null,null,null,null,{"$f":"IF('Текущие цены с учетом расхода'!S19>0,'Текущие цены с учетом расхода'!S19,IF('Текущие цены с учетом расхода'!S19<0,'Текущие цены с учетом расхода'!S19,\"\"))","v":""},null,"Plan_ZPM",null,null,null,{"$f":"IF('Базовые цены с учетом расхода'!S19>0,'Базовые цены с учетом расхода'!S19,IF('Базовые цены с учетом расхода'!S19<0,'Базовые цены с учетом расхода'!S19,\"\"))","v":""}]
[null,"III. ИСКУССТВЕННЫЕ  СООРУЖЕНИЯ"]
[null,"5.Трубы"]
["15.","ГЭСНс 01-05-016-01","Закрытие на зиму и открытие водопропускных труб, диаметр отверстия до 1 м2","10 труб",null,6.8000000000000005E-2,{"$f":"ROUND(СУММПРОИЗВЕСЛИ(1,I299:I303,\"s\",E299:E303,G299:G303,0),2)+SUMIF(I299:I318,\"=NenormMatOtZPR\",G299:G318)","v":1248.54},{"$f":"ROUND(СУММПРОИЗВЕСЛИ(F299,I299:I303,\"s\",E299:E303,G299:G303,0),0)+SUMIF(I299:I318,\"=NenormMatOtZPR\",H299:H318)","v":85},"sum",null,null,null,{"$f":"ROUND(СУММПРОИЗВЕСЛИ(1,I299:I303,\"s\",E299:E303,M299:M303,0),2)+SUMIF(I299:I318,\"=NenormMatOtZPR\",M299:M318)","v":136.99},{"$f":"ROUND(СУММПРОИЗВЕСЛИ(F299,I299:I303,\"s\",E299:E303,M299:M303,0),0)+SUMIF(I299:I318,\"=NenormMatOtZPR\",N299:N318)","v":9}]
["15. 1.","2","Затраты труда машинистов","чел.-ч",{"$f":"ОКРУГЛВСЕ(СУММПРОИЗВЕСЛИ(1,K299:K303,\"mWithZTM\",D299:D303,E299:E303,-1)+СУММКОЭФПРОЦЕНТЕСЛИ(1,1,K299:K303,\"mWithZTM_Proch\",E299:E303,-1),11)","v":0.92},{"$f":"ОКРУГЛВСЕ(СУММПРОИЗВЕСЛИ(1,K299:K303,\"mWithZTM\",D299:D303,F299:F303,-1)+СУММКОЭФПРОЦЕНТЕСЛИ(1,1,K299:K303,\"mWithZTM_Proch\",F299:F303,-1),11)","v":6.2560000000000004E-2},{"$f":"IF(F300=0,0,ROUND(H300/F300,3))","v":143.86199999999999},{"$f":"ROUND(СУММЕСЛИДА1НЕ1(L299:L303,\"mWithZPM\",D299:D303,0,H299:H303),0)","v":9},null,"Ж",null,null,{"$f":"IF(F300=0,0,ROUND(N300/F300,3))","v":15.984999999999999},{"$f":"ROUND(СУММЕСЛИДА1НЕ1(L299:L303,\"mWithZPM\",D299:D303,0,N299:N303),0)","v":1}]
["15. 2.",{"$f":"ПОЛУЧШИФР(Ресурсы!A4,1)","v":"0-4002"},{"$f":"Ресурсы!B4","v":"Дорожный рабочий 2 разряда"},"чел.-ч",7.36,{"$f":"ОКРУГЛВСЕ(IF(E301=\"\",0,E301)*IF(F299=\"\",0,F299),11)","v":0.50048000000000004},{"$f":"Ресурсы!D4","v":100.57},{"$f":"ROUND(IF(F301=\"\",0,F301)*IF(G301=\"\",0,G301),0)","v":50},"s","Г",null,null,{"$f":"Ресурсы!C4","v":7.8},{"$f":"ROUND(IF(F301=\"\",0,F301)*IF(M301=\"\",0,M301),0)","v":4}]
["15. 3.",{"$f":"ПОЛУЧШИФР(Ресурсы!A42,1)","v":"СЦЭСМ 121550"},{"$f":"Ресурсы!B42","v":"Машины дорожной службы (машина дорожного мастера)"},"маш.-ч",0.92,{"$f":"ОКРУГЛВСЕ(IF(E302=\"\",0,E302)*IF(F299=\"\",0,F299),11)","v":6.2560000000000004E-2},{"$f":"Ресурсы!D42","v":552.54999999999995},{"$f":"ROUND(IF(F302=\"\",0,F302)*IF(G302=\"\",0,G302),0)","v":35},"s","IsMash",null,null,{"$f":"Ресурсы!C42","v":86.5},{"$f":"ROUND(IF(F302=\"\",0,F302)*IF(M302=\"\",0,M302),0)","v":5}]
[null,null,null,{"$f":"Ресурсы!G42","v":1},null,null,{"$f":"Ресурсы!F42","v":149.81},{"$f":"ROUND(IF(F302=\"\",0,F302)*IF(G303=\"\",0,G303),0)","v":9},null,null,"mWithZTM","mWithZPM",{"$f":"Ресурсы!E42","v":11.6},{"$f":"ROUND(IF(F302=\"\",0,F302)*IF(M303=\"\",0,M303),0)","v":1}]
[null,null,"Зарплата рабочих",null,null,null,null,50,null,null,null,null,null,4]
[null,null,"Эксплуатация машин",null,null,null,null,35,null,null,null,null,null,5]
[null,null,"в т.ч. зарплата машинистов",null,null,null,null,9,null,null,null,null,null,1]
[null,null,"Материалы"]
[null,null,"в т.ч. Вспомогательные материалы от стоимости материалов"]
[null,null,"в т.ч. Вспомогательные ненормируемые материалы",null,null,null,null,null,"NenormMatOtZPR"]
[null,null,"в т.ч. Ненормированная з.п. рабочих"]
[null,null,"в т.ч. Ненормированная стоимость эксплуатации машин"]
[null,null,"в т.ч. Ненормированная оплата механизаторов"]
[null,null,"Накладные расходы",null,null,null,11.7,{"$f":"IF('Текущие цены с учетом расхода'!N20>0,'Текущие цены с учетом расхода'!N20,IF('Текущие цены с учетом расхода'!N20<0,'Текущие цены с учетом расхода'!N20,\"\"))","v":10},null,"Nakl",null,null,11.7,{"$f":"IF('Базовые цены с учетом расхода'!N20>0,'Базовые цены с учетом расхода'!N20,IF('Базовые цены с учетом расхода'!N20<0,'Базовые цены с учетом расхода'!N20,\"\"))","v":1}]
[null,null,"НР от ЗПР",null,null,null,null,{"$f":"IF('Текущие цены с учетом расхода'!P20>0,'Текущие цены с учетом расхода'!P20,IF('Текущие цены с учетом расхода'!P20<0,'Текущие цены с учетом расхода'!P20,\"\"))","v":""},null,"Nakl_ZPR",null,null,null,{"$f":"IF('Базовые цены с учетом расхода'!P20>0,'Базовые цены с учетом расхода'!P20,IF('Базовые цены с учетом расхода'!P20<0,'Базовые цены с учетом расхода'!P20,\"\"))","v":""}]
[null,null,"НР от ЗПМ",null,null,null,null,{"$f":"IF('Текущие цены с учетом расхода'!Q20>0,'Текущие цены с учетом расхода'!Q20,IF('Текущие цены с учетом расхода'!Q20<0,'Текущие цены с учетом расхода'!Q20,\"\"))","v":""},null,"Nakl_ZPM",null,null,null,{"$f":"IF('Базовые цены с учетом расхода'!Q20>0,'Базовые цены с учетом расхода'!Q20,IF('Базовые цены с учетом расхода'!Q20<0,'Базовые цены с учетом расхода'!Q20,\"\"))","v":""}]
[null,null,"Плановые накопления / Сметная прибыль",null,null,null,8,{"$f":"IF('Текущие цены с учетом расхода'!O20>0,'Текущие цены с учетом расхода'!O20,IF('Текущие цены с учетом расхода'!O20<0,'Текущие цены с учетом расхода'!O20,\"\"))","v":8},null,"Plan",null,null,8,{"$f":"IF('Базовые цены с учетом расхода'!O20>0,'Базовые цены с учетом расхода'!O20,IF('Базовые цены с учетом расхода'!O20<0,'Базовые цены с учетом расхода'!O20,\"\"))","v":1}]
[null,null,"СП от ЗПР",null,null,null,null,{"$f":"IF('Текущие цены с учетом расхода'!R20>0,'Текущие цены с учетом расхода'!R20,IF('Текущие цены с учетом расхода'!R20<0,'Текущие цены с учетом расхода'!R20,\"\"))","v":""},null,"Plan_ZPR",null,null,null,{"$f":"IF('Базовые цены с учетом расхода'!R20>0,'Базовые цены с учетом расхода'!R20,IF('Базовые цены с учетом расхода'!R20<0,'Базовые цены с учетом расхода'!R20,\"\"))","v":""}]
[null,null,"СП от ЗПМ",null,null,null,null,{"$f":"IF('Текущие цены с учетом расхода'!S20>0,'Текущие цены с учетом расхода'!S20,IF('Текущие цены с учетом расхода'!S20<0,'Текущие цены с учетом расхода'!S20,\"\"))","v":""},null,"Plan_ZPM",null,null,null,{"$f":"IF('Базовые цены с учетом расхода'!S20>0,'Базовые цены с учетом расхода'!S20,IF('Базовые цены с учетом расхода'!S20<0,'Базовые цены с учетом расхода'!S20,\"\"))","v":""}]
["16.","ГЭСНс 01-05-017-01","Ремонт щитов для закрытия отверстий труб","100 шт.",null,7.0000000000000001E-3,{"$f":"ROUND(СУММПРОИЗВЕСЛИ(1,I319:I324,\"s\",E319:E324,G319:G324,0),2)+SUMIF(I319:I339,\"=NenormMatOtZPR\",G319:G339)","v":30470.04},{"$f":"ROUND(СУММПРОИЗВЕСЛИ(F319,I319:I324,\"s\",E319:E324,G319:G324,0),0)+SUMIF(I319:I339,\"=NenormMatOtZPR\",H319:H339)","v":213},"sum",null,null,null,{"$f":"ROUND(СУММПРОИЗВЕСЛИ(1,I319:I324,\"s\",E319:E324,M319:M324,0),2)+SUMIF(I319:I339,\"=NenormMatOtZPR\",M319:M339)","v":7781.58},{"$f":"ROUND(СУММПРОИЗВЕСЛИ(F319,I319:I324,\"s\",E319:E324,M319:M324,0),0)+SUMIF(I319:I339,\"=NenormMatOtZPR\",N319:N339)","v":54}]
["16. 0.","З1000-0001","Затраты труда машинистов","чел.ч",0,0,{"$f":"IF(F320=0,0,ROUND(H320/F320,3))","v":0},null,null,"Ж",null,null,{"$f":"IF(F320=0,0,ROUND(N320/F320,3))","v":0}]
["16. 1.",{"$f":"ПОЛУЧШИФР(Ресурсы!A4,1)","v":"0-4002"},{"$f":"Ресурсы!B4","v":"Дорожный рабочий 2 разряда"},"чел.-ч",19.48,{"$f":"ОКРУГЛВСЕ(IF(E321=\"\",0,E321)*IF(F319=\"\",0,F319),11)","v":0.13636000000000001},{"$f":"Ресурсы!D4","v":100.57},{"$f":"ROUND(IF(F321=\"\",0,F321)*IF(G321=\"\",0,G321),0)","v":14},"s","Г",null,null,{"$f":"Ресурсы!C4","v":7.8},{"$f":"ROUND(IF(F321=\"\",0,F321)*IF(M321=\"\",0,M321),0)","v":1}]
["16. 2.",{"$f":"ПОЛУЧШИФР(Ресурсы!A5,1)","v":"0-4003"},{"$f":"Ресурсы!B5","v":"Дорожный рабочий 3 разряда"},"чел.-ч",13.91,{"$f":"ОКРУГЛВСЕ(IF(E322=\"\",0,E322)*IF(F319=\"\",0,F319),11)","v":9.7369999999999998E-2},{"$f":"Ресурсы!D5","v":109.94},{"$f":"ROUND(IF(F322=\"\",0,F322)*IF(G322=\"\",0,G322),0)","v":11},"s","Г",null,null,{"$f":"Ресурсы!C5","v":8.5299999999999994},{"$f":"ROUND(IF(F322=\"\",0,F322)*IF(M322=\"\",0,M322),0)","v":1}]
["16. 3.",{"$f":"ПОЛУЧШИФР(Ресурсы!A16,1)","v":"ССЦ 101-1805"},{"$f":"Ресурсы!B16","v":"Гвозди строительные"},"т",1.2E-2,{"$f":"ОКРУГЛВСЕ(IF(E323=\"\",0,E323)*IF(F319=\"\",0,F319),11)","v":8.3999999999999995E-5},{"$f":"ROUND(Ресурсы!D16*Начисления!AV21,2)","v":30959.39},{"$f":"ROUND(IF(F323=\"\",0,F323)*IF(G323=\"\",0,G323),0)","v":3},"s","IsMater",null,null,{"$f":"ROUND(Ресурсы!C16*Начисления!AV21,2)","v":11978},{"$f":"ROUND(IF(F323=\"\",0,F323)*IF(M323=\"\",0,M323),0)","v":1}]
["16. 4.",{"$f":"ПОЛУЧШИФР(Ресурсы!A21,1)","v":"ССЦ 102-0113"},{"$f":"Ресурсы!B21","v":"Доски обрезные хвойных пород длиной 2-3,75 м, шириной 75-150 мм, толщиной 25 мм, III сорта"},"м3",7.05,{"$f":"ОКРУГЛВСЕ(IF(E324=\"\",0,E324)*IF(F319=\"\",0,F319),11)","v":4.9349999999999998E-2},{"$f":"ROUND(Ресурсы!D21*Начисления!AV21,2)","v":3774.49},{"$f":"ROUND(IF(F324=\"\",0,F324)*IF(G324=\"\",0,G324),0)","v":186},"s","IsMater",null,null,{"$f":"ROUND(Ресурсы!C21*Начисления!AV21,2)","v":1045},{"$f":"ROUND(IF(F324=\"\",0,F324)*IF(M324=\"\",0,M324),0)","v":52}]
[null,null,"Зарплата рабочих",null,null,null,null,24,null,null,null,null,null,2]
[null,null,"Эксплуатация машин"]
[null,null,"в т.ч. зарплата машинистов"]
[null,null,"Материалы",null,null,null,null,189,null,null,null,null,null,53]
[null,null,"в т.ч. Вспомогательные материалы от стоимости материалов"]
[null,null,"в т.ч. Вспомогательные ненормируемые материалы",null,null,null,null,null,"NenormMatOtZPR"]
[null,null,"в т.ч. Ненормированная з.п. рабочих"]
[null,null,"в т.ч. Ненормированная стоимость эксплуатации машин"]
[null,null,"в т.ч. Ненормированная оплата механизаторов"]
[null,null,"Накладные расходы",null,null,null,11.7,{"$f":"IF('Текущие цены с учетом расхода'!N21>0,'Текущие цены с учетом расхода'!N21,IF('Текущие цены с учетом расхода'!N21<0,'Текущие цены с учетом расхода'!N21,\"\"))","v":25},null,"Nakl",null,null,11.7,{"$f":"IF('Базовые цены с учетом расхода'!N21>0,'Базовые цены с учетом расхода'!N21,IF('Базовые цены с учетом расхода'!N21<0,'Базовые цены с учетом расхода'!N21,\"\"))","v":6}]
[null,null,"НР от ЗПР",null,null,null,null,{"$f":"IF('Текущие цены с учетом расхода'!P21>0,'Текущие цены с учетом расхода'!P21,IF('Текущие цены с учетом расхода'!P21<0,'Текущие цены с учетом расхода'!P21,\"\"))","v":""},null,"Nakl_ZPR",null,null,null,{"$f":"IF('Базовые цены с учетом расхода'!P21>0,'Базовые цены с учетом расхода'!P21,IF('Базовые цены с учетом расхода'!P21<0,'Базовые цены с учетом расхода'!P21,\"\"))","v":""}]
[null,null,"НР от ЗПМ",null,null,null,null,{"$f":"IF('Текущие цены с учетом расхода'!Q21>0,'Текущие цены с учетом расхода'!Q21,IF('Текущие цены с учетом расхода'!Q21<0,'Текущие цены с учетом расхода'!Q21,\"\"))","v":""},null,"Nakl_ZPM",null,null,null,{"$f":"IF('Базовые цены с учетом расхода'!Q21>0,'Базовые цены с учетом расхода'!Q21,IF('Базовые цены с учетом расхода'!Q21<0,'Базовые цены с учетом расхода'!Q21,\"\"))","v":""}]
[null,null,"Плановые накопления / Сметная прибыль",null,null,null,8,{"$f":"IF('Текущие цены с учетом расхода'!O21>0,'Текущие цены с учетом расхода'!O21,IF('Текущие цены с учетом расхода'!O21<0,'Текущие цены с учетом расхода'!O21,\"\"))","v":19},null,"Plan",null,null,8,{"$f":"IF('Базовые цены с учетом расхода'!O21>0,'Базовые цены с учетом расхода'!O21,IF('Базовые цены с учетом расхода'!O21<0,'Базовые цены с учетом расхода'!O21,\"\"))","v":5}]
[null,null,"СП от ЗПР",null,null,null,null,{"$f":"IF('Текущие цены с учетом расхода'!R21>0,'Текущие цены с учетом расхода'!R21,IF('Текущие цены с учетом расхода'!R21<0,'Текущие цены с учетом расхода'!R21,\"\"))","v":""},null,"Plan_ZPR",null,null,null,{"$f":"IF('Базовые цены с учетом расхода'!R21>0,'Базовые цены с учетом расхода'!R21,IF('Базовые цены с учетом расхода'!R21<0,'Базовые цены с учетом расхода'!R21,\"\"))","v":""}]
[null,null,"СП от ЗПМ",null,null,null,null,{"$f":"IF('Текущие цены с учетом расхода'!S21>0,'Текущие цены с учетом расхода'!S21,IF('Текущие цены с учетом расхода'!S21<0,'Текущие цены с учетом расхода'!S21,\"\"))","v":""},null,"Plan_ZPM",null,null,null,{"$f":"IF('Базовые цены с учетом расхода'!S21>0,'Базовые цены с учетом расхода'!S21,IF('Базовые цены с учетом расхода'!S21<0,'Базовые цены с учетом расхода'!S21,\"\"))","v":""}]
["17.","ГЭСНс 01-05-015-02","Изготовление указательных вех со светоотражающими элементами","100 шт.",null,5.0000000000000001E-3,{"$f":"ROUND(СУММПРОИЗВЕСЛИ(1,I340:I344,\"s\",E340:E344,G340:G344,0),2)+SUMIF(I340:I359,\"=NenormMatOtZPR\",G340:G359)","v":9531.15},{"$f":"ROUND(СУММПРОИЗВЕСЛИ(F340,I340:I344,\"s\",E340:E344,G340:G344,0),0)+SUMIF(I340:I359,\"=NenormMatOtZPR\",H340:H359)","v":48},"sum",null,null,null,{"$f":"ROUND(СУММПРОИЗВЕСЛИ(1,I340:I344,\"s\",E340:E344,M340:M344,0),2)+SUMIF(I340:I359,\"=NenormMatOtZPR\",M340:M359)","v":1561.03},{"$f":"ROUND(СУММПРОИЗВЕСЛИ(F340,I340:I344,\"s\",E340:E344,M340:M344,0),0)+SUMIF(I340:I359,\"=NenormMatOtZPR\",N340:N359)","v":8}]
["17. 0.","З1000-0001","Затраты труда машинистов","чел.ч",0,0,{"$f":"IF(F341=0,0,ROUND(H341/F341,3))","v":0},null,null,"Ж",null,null,{"$f":"IF(F341=0,0,ROUND(N341/F341,3))","v":0}]
["17. 1.",{"$f":"ПОЛУЧШИФР(Ресурсы!A6,1)","v":"0-4004"},{"$f":"Ресурсы!B6","v":"Дорожный рабочий 4 разряда"},"чел.-ч",38.11,{"$f":"ОКРУГЛВСЕ(IF(E342=\"\",0,E342)*IF(F340=\"\",0,F340),11)","v":0.19055},{"$f":"Ресурсы!D6","v":124.02},{"$f":"ROUND(IF(F342=\"\",0,F342)*IF(G342=\"\",0,G342),0)","v":24},"s","Г",null,null,{"$f":"Ресурсы!C6","v":9.6199999999999992},{"$f":"ROUND(IF(F342=\"\",0,F342)*IF(M342=\"\",0,M342),0)","v":2}]
["17. 2.",{"$f":"ПОЛУЧШИФР(Ресурсы!A15,1)","v":"ССЦ 101-1579"},{"$f":"Ресурсы!B15","v":"Пленка для дорожных знаков с покрытием обратной стороны клеевым составом"},"1000 м2",4.0000000000000001E-3,{"$f":"ОКРУГЛВСЕ(IF(E343=\"\",0,E343)*IF(F340=\"\",0,F340),11)","v":2.0000000000000002E-5},{"$f":"ROUND(Ресурсы!D15*Начисления!AV22,2)","v":681443.95},{"$f":"ROUND(IF(F343=\"\",0,F343)*IF(G343=\"\",0,G343),0)","v":14},"s","IsMater",null,null,{"$f":"ROUND(Ресурсы!C15*Начисления!AV22,2)","v":133601.79999999999},{"$f":"ROUND(IF(F343=\"\",0,F343)*IF(M343=\"\",0,M343),0)","v":3}]
["17. 3.",{"$f":"ПОЛУЧШИФР(Ресурсы!A20,1)","v":"ССЦ 102-0085"},{"$f":"Ресурсы!B20","v":"Бруски обрезные хвойных пород длиной 2-3,75 м, шириной 75-150 мм, толщиной 40-75 мм, III сорта"},"м3",0.6,{"$f":"ОКРУГЛВСЕ(IF(E344=\"\",0,E344)*IF(F340=\"\",0,F340),11)","v":3.0000000000000001E-3},{"$f":"ROUND(Ресурсы!D20*Начисления!AV22,2)","v":3464.96},{"$f":"ROUND(IF(F344=\"\",0,F344)*IF(G344=\"\",0,G344),0)","v":10},"s","IsMater",null,null,{"$f":"ROUND(Ресурсы!C20*Начисления!AV22,2)","v":1100},{"$f":"ROUND(IF(F344=\"\",0,F344)*IF(M344=\"\",0,M344),0)","v":3}]
[null,null,"Зарплата рабочих",null,null,null,null,24,null,null,null,null,null,2]
[null,null,"Эксплуатация машин"]
[null,null,"в т.ч. зарплата машинистов"]
[null,null,"Материалы",null,null,null,null,24,null,null,null,null,null,6]
[null,null,"в т.ч. Вспомогательные материалы от стоимости материалов"]
[null,null,"в т.ч. Вспомогательные ненормируемые материалы",null,null,null,null,null,"NenormMatOtZPR"]
[null,null,"в т.ч. Ненормированная з.п. рабочих"]
[null,null,"в т.ч. Ненормированная стоимость эксплуатации машин"]
[null,null,"в т.ч. Ненормированная оплата механизаторов"]
[null,null,"Накладные расходы",null,null,null,11.7,{"$f":"IF('Текущие цены с учетом расхода'!N22>0,'Текущие цены с учетом расхода'!N22,IF('Текущие цены с учетом расхода'!N22<0,'Текущие цены с учетом расхода'!N22,\"\"))","v":6},null,"Nakl",null,null,11.7,{"$f":"IF('Базовые цены с учетом расхода'!N22>0,'Базовые цены с учетом расхода'!N22,IF('Базовые цены с учетом расхода'!N22<0,'Базовые цены с учетом расхода'!N22,\"\"))","v":1}]
[null,null,"НР от ЗПР",null,null,null,null,{"$f":"IF('Текущие цены с учетом расхода'!P22>0,'Текущие цены с учетом расхода'!P22,IF('Текущие цены с учетом расхода'!P22<0,'Текущие цены с учетом расхода'!P22,\"\"))","v":""},null,"Nakl_ZPR",null,null,null,{"$f":"IF('Базовые цены с учетом расхода'!P22>0,'Базовые цены с учетом расхода'!P22,IF('Базовые цены с учетом расхода'!P22<0,'Базовые цены с учетом расхода'!P22,\"\"))","v":""}]
[null,null,"НР от ЗПМ",null,null,null,null,{"$f":"IF('Текущие цены с учетом расхода'!Q22>0,'Текущие цены с учетом расхода'!Q22,IF('Текущие цены с учетом расхода'!Q22<0,'Текущие цены с учетом расхода'!Q22,\"\"))","v":""},null,"Nakl_ZPM",null,null,null,{"$f":"IF('Базовые цены с учетом расхода'!Q22>0,'Базовые цены с учетом расхода'!Q22,IF('Базовые цены с учетом расхода'!Q22<0,'Базовые цены с учетом расхода'!Q22,\"\"))","v":""}]
[null,null,"Плановые накопления / Сметная прибыль",null,null,null,8,{"$f":"IF('Текущие цены с учетом расхода'!O22>0,'Текущие цены с учетом расхода'!O22,IF('Текущие цены с учетом расхода'!O22<0,'Текущие цены с учетом расхода'!O22,\"\"))","v":4},null,"Plan",null,null,8,{"$f":"IF('Базовые цены с учетом расхода'!O22>0,'Базовые цены с учетом расхода'!O22,IF('Базовые цены с учетом расхода'!O22<0,'Базовые цены с учетом расхода'!O22,\"\"))","v":1}]
[null,null,"СП от ЗПР",null,null,null,null,{"$f":"IF('Текущие цены с учетом расхода'!R22>0,'Текущие цены с учетом расхода'!R22,IF('Текущие цены с учетом расхода'!R22<0,'Текущие цены с учетом расхода'!R22,\"\"))","v":""},null,"Plan_ZPR",null,null,null,{"$f":"IF('Базовые цены с учетом расхода'!R22>0,'Базовые цены с учетом расхода'!R22,IF('Базовые цены с учетом расхода'!R22<0,'Базовые цены с учетом расхода'!R22,\"\"))","v":""}]
[null,null,"СП от ЗПМ",null,null,null,null,{"$f":"IF('Текущие цены с учетом расхода'!S22>0,'Текущие цены с учетом расхода'!S22,IF('Текущие цены с учетом расхода'!S22<0,'Текущие цены с учетом расхода'!S22,\"\"))","v":""},null,"Plan_ZPM",null,null,null,{"$f":"IF('Базовые цены с учетом расхода'!S22>0,'Базовые цены с учетом расхода'!S22,IF('Базовые цены с учетом расхода'!S22<0,'Базовые цены с учетом расхода'!S22,\"\"))","v":""}]
["18.","ГЭСНс 01-05-015-03","Установка указательных вех в снег","100 шт.",null,5.0000000000000001E-3,{"$f":"ROUND(СУММПРОИЗВЕСЛИ(1,I360:I364,\"s\",E360:E364,G360:G364,0),2)+SUMIF(I360:I379,\"=NenormMatOtZPR\",G360:G379)","v":219.61},{"$f":"ROUND(СУММПРОИЗВЕСЛИ(F360,I360:I364,\"s\",E360:E364,G360:G364,0),0)+SUMIF(I360:I379,\"=NenormMatOtZPR\",H360:H379)","v":1},"sum",null,null,null,{"$f":"ROUND(СУММПРОИЗВЕСЛИ(1,I360:I364,\"s\",E360:E364,M360:M364,0),2)+SUMIF(I360:I379,\"=NenormMatOtZPR\",M360:M379)","v":27.07},{"$f":"ROUND(СУММПРОИЗВЕСЛИ(F360,I360:I364,\"s\",E360:E364,M360:M364,0),0)+SUMIF(I360:I379,\"=NenormMatOtZPR\",N360:N379)","v":0}]
["18. 1.","2","Затраты труда машинистов","чел.-ч",{"$f":"ОКРУГЛВСЕ(СУММПРОИЗВЕСЛИ(1,K360:K364,\"mWithZTM\",D360:D364,E360:E364,-1)+СУММКОЭФПРОЦЕНТЕСЛИ(1,1,K360:K364,\"mWithZTM_Proch\",E360:E364,-1),11)","v":0.23},{"$f":"ОКРУГЛВСЕ(СУММПРОИЗВЕСЛИ(1,K360:K364,\"mWithZTM\",D360:D364,F360:F364,-1)+СУММКОЭФПРОЦЕНТЕСЛИ(1,1,K360:K364,\"mWithZTM_Proch\",F360:F364,-1),11)","v":1.15E-3},{"$f":"IF(F361=0,0,ROUND(H361/F361,3))","v":0},{"$f":"ROUND(СУММЕСЛИДА1НЕ1(L360:L364,\"mWithZPM\",D360:D364,0,H360:H364),0)","v":0},null,"Ж",null,null,{"$f":"IF(F361=0,0,ROUND(N361/F361,3))","v":0},{"$f":"ROUND(СУММЕСЛИДА1НЕ1(L360:L364,\"mWithZPM\",D360:D364,0,N360:N364),0)","v":0}]
["18. 2.",{"$f":"ПОЛУЧШИФР(Ресурсы!A4,1)","v":"0-4002"},{"$f":"Ресурсы!B4","v":"Дорожный рабочий 2 разряда"},"чел.-ч",0.92,{"$f":"ОКРУГЛВСЕ(IF(E362=\"\",0,E362)*IF(F360=\"\",0,F360),11)","v":4.5999999999999999E-3},{"$f":"Ресурсы!D4","v":100.57},{"$f":"ROUND(IF(F362=\"\",0,F362)*IF(G362=\"\",0,G362),0)","v":0},"s","Г",null,null,{"$f":"Ресурсы!C4","v":7.8},{"$f":"ROUND(IF(F362=\"\",0,F362)*IF(M362=\"\",0,M362),0)","v":0}]
["18. 3.",{"$f":"ПОЛУЧШИФР(Ресурсы!A42,1)","v":"СЦЭСМ 121550"},{"$f":"Ресурсы!B42","v":"Машины дорожной службы (машина дорожного мастера)"},"маш.-ч",0.23,{"$f":"ОКРУГЛВСЕ(IF(E363=\"\",0,E363)*IF(F360=\"\",0,F360),11)","v":1.15E-3},{"$f":"Ресурсы!D42","v":552.54999999999995},{"$f":"ROUND(IF(F363=\"\",0,F363)*IF(G363=\"\",0,G363),0)","v":1},"s","IsMash",null,null,{"$f":"Ресурсы!C42","v":86.5},{"$f":"ROUND(IF(F363=\"\",0,F363)*IF(M363=\"\",0,M363),0)","v":0}]
[null,null,null,{"$f":"Ресурсы!G42","v":1},null,null,{"$f":"Ресурсы!F42","v":149.81},{"$f":"ROUND(IF(F363=\"\",0,F363)*IF(G364=\"\",0,G364),0)","v":0},null,null,"mWithZTM","mWithZPM",{"$f":"Ресурсы!E42","v":11.6},{"$f":"ROUND(IF(F363=\"\",0,F363)*IF(M364=\"\",0,M364),0)","v":0}]
[null,null,"Зарплата рабочих"]
[null,null,"Эксплуатация машин",null,null,null,null,1]
[null,null,"в т.ч. зарплата машинистов"]
[null,null,"Материалы"]
[null,null,"в т.ч. Вспомогательные материалы от стоимости материалов"]
[null,null,"в т.ч. Вспомогательные ненормируемые материалы",null,null,null,null,null,"NenormMatOtZPR"]
[null,null,"в т.ч. Ненормированная з.п. рабочих"]
[null,null,"в т.ч. Ненормированная стоимость эксплуатации машин"]
[null,null,"в т.ч. Ненормированная оплата механизаторов"]
[null,null,"Накладные расходы",null,null,null,11.7,{"$f":"IF('Текущие цены с учетом расхода'!N23>0,'Текущие цены с учетом расхода'!N23,IF('Текущие цены с учетом расхода'!N23<0,'Текущие цены с учетом расхода'!N23,\"\"))","v":""},null,"Nakl",null,null,null,{"$f":"IF('Базовые цены с учетом расхода'!N23>0,'Базовые цены с учетом расхода'!N23,IF('Базовые цены с учетом расхода'!N23<0,'Базовые цены с учетом расхода'!N23,\"\"))","v":""}]
[null,null,"НР от ЗПР",null,null,null,null,{"$f":"IF('Текущие цены с учетом расхода'!P23>0,'Текущие цены с учетом расхода'!P23,IF('Текущие цены с учетом расхода'!P23<0,'Текущие цены с учетом расхода'!P23,\"\"))","v":""},null,"Nakl_ZPR",null,null,null,{"$f":"IF('Базовые цены с учетом расхода'!P23>0,'Базовые цены с учетом расхода'!P23,IF('Базовые цены с учетом расхода'!P23<0,'Базовые цены с учетом расхода'!P23,\"\"))","v":""}]
[null,null,"НР от ЗПМ",null,null,null,null,{"$f":"IF('Текущие цены с учетом расхода'!Q23>0,'Текущие цены с учетом расхода'!Q23,IF('Текущие цены с учетом расхода'!Q23<0,'Текущие цены с учетом расхода'!Q23,\"\"))","v":""},null,"Nakl_ZPM",null,null,null,{"$f":"IF('Базовые цены с учетом расхода'!Q23>0,'Базовые цены с учетом расхода'!Q23,IF('Базовые цены с учетом расхода'!Q23<0,'Базовые цены с учетом расхода'!Q23,\"\"))","v":""}]
[null,null,"Плановые накопления / Сметная прибыль",null,null,null,8,{"$f":"IF('Текущие цены с учетом расхода'!O23>0,'Текущие цены с учетом расхода'!O23,IF('Текущие цены с учетом расхода'!O23<0,'Текущие цены с учетом расхода'!O23,\"\"))","v":""},null,"Plan",null,null,null,{"$f":"IF('Базовые цены с учетом расхода'!O23>0,'Базовые цены с учетом расхода'!O23,IF('Базовые цены с учетом расхода'!O23<0,'Базовые цены с учетом расхода'!O23,\"\"))","v":""}]
[null,null,"СП от ЗПР",null,null,null,null,{"$f":"IF('Текущие цены с учетом расхода'!R23>0,'Текущие цены с учетом расхода'!R23,IF('Текущие цены с учетом расхода'!R23<0,'Текущие цены с учетом расхода'!R23,\"\"))","v":""},null,"Plan_ZPR",null,null,null,{"$f":"IF('Базовые цены с учетом расхода'!R23>0,'Базовые цены с учетом расхода'!R23,IF('Базовые цены с учетом расхода'!R23<0,'Базовые цены с учетом расхода'!R23,\"\"))","v":""}]
[null,null,"СП от ЗПМ",null,null,null,null,{"$f":"IF('Текущие цены с учетом расхода'!S23>0,'Текущие цены с учетом расхода'!S23,IF('Текущие цены с учетом расхода'!S23<0,'Текущие цены с учетом расхода'!S23,\"\"))","v":""},null,"Plan_ZPM",null,null,null,{"$f":"IF('Базовые цены с учетом расхода'!S23>0,'Базовые цены с учетом расхода'!S23,IF('Базовые цены с учетом расхода'!S23<0,'Базовые цены с учетом расхода'!S23,\"\"))","v":""}]
["19.","ГЭСНс 01-05-018-01","Очистка отверстий труб от снега и льда","10 м отверстия",null,0.05,{"$f":"ROUND(СУММПРОИЗВЕСЛИ(1,I380:I384,\"s\",E380:E384,G380:G384,0),2)+SUMIF(I380:I399,\"=NenormMatOtZPR\",G380:G399)","v":461.42},{"$f":"ROUND(СУММПРОИЗВЕСЛИ(F380,I380:I384,\"s\",E380:E384,G380:G384,0),0)+SUMIF(I380:I399,\"=NenormMatOtZPR\",H380:H399)","v":23},"sum",null,null,null,{"$f":"ROUND(СУММПРОИЗВЕСЛИ(1,I380:I384,\"s\",E380:E384,M380:M384,0),2)+SUMIF(I380:I399,\"=NenormMatOtZPR\",M380:M399)","v":50.63},{"$f":"ROUND(СУММПРОИЗВЕСЛИ(F380,I380:I384,\"s\",E380:E384,M380:M384,0),0)+SUMIF(I380:I399,\"=NenormMatOtZPR\",N380:N399)","v":3}]
["19. 1.","2","Затраты труда машинистов","чел.-ч",{"$f":"ОКРУГЛВСЕ(СУММПРОИЗВЕСЛИ(1,K380:K384,\"mWithZTM\",D380:D384,E380:E384,-1)+СУММКОЭФПРОЦЕНТЕСЛИ(1,1,K380:K384,\"mWithZTM_Proch\",E380:E384,-1),11)","v":0.34},{"$f":"ОКРУГЛВСЕ(СУММПРОИЗВЕСЛИ(1,K380:K384,\"mWithZTM\",D380:D384,F380:F384,-1)+СУММКОЭФПРОЦЕНТЕСЛИ(1,1,K380:K384,\"mWithZTM_Proch\",F380:F384,-1),11)","v":1.7000000000000001E-2},{"$f":"IF(F381=0,0,ROUND(H381/F381,3))","v":176.471},{"$f":"ROUND(СУММЕСЛИДА1НЕ1(L380:L384,\"mWithZPM\",D380:D384,0,H380:H384),0)","v":3},null,"Ж",null,null,{"$f":"IF(F381=0,0,ROUND(N381/F381,3))","v":0},{"$f":"ROUND(СУММЕСЛИДА1НЕ1(L380:L384,\"mWithZPM\",D380:D384,0,N380:N384),0)","v":0}]
["19. 2.",{"$f":"ПОЛУЧШИФР(Ресурсы!A4,1)","v":"0-4002"},{"$f":"Ресурсы!B4","v":"Дорожный рабочий 2 разряда"},"чел.-ч",2.72,{"$f":"ОКРУГЛВСЕ(IF(E382=\"\",0,E382)*IF(F380=\"\",0,F380),11)","v":0.13600000000000001},{"$f":"Ресурсы!D4","v":100.57},{"$f":"ROUND(IF(F382=\"\",0,F382)*IF(G382=\"\",0,G382),0)","v":14},"s","Г",null,null,{"$f":"Ресурсы!C4","v":7.8},{"$f":"ROUND(IF(F382=\"\",0,F382)*IF(M382=\"\",0,M382),0)","v":1}]
["19. 3.",{"$f":"ПОЛУЧШИФР(Ресурсы!A42,1)","v":"СЦЭСМ 121550"},{"$f":"Ресурсы!B42","v":"Машины дорожной службы (машина дорожного мастера)"},"маш.-ч",0.34,{"$f":"ОКРУГЛВСЕ(IF(E383=\"\",0,E383)*IF(F380=\"\",0,F380),11)","v":1.7000000000000001E-2},{"$f":"Ресурсы!D42","v":552.54999999999995},{"$f":"ROUND(IF(F383=\"\",0,F383)*IF(G383=\"\",0,G383),0)","v":9},"s","IsMash",null,null,{"$f":"Ресурсы!C42","v":86.5},{"$f":"ROUND(IF(F383=\"\",0,F383)*IF(M383=\"\",0,M383),0)","v":1}]
[null,null,null,{"$f":"Ресурсы!G42","v":1},null,null,{"$f":"Ресурсы!F42","v":149.81},{"$f":"ROUND(IF(F383=\"\",0,F383)*IF(G384=\"\",0,G384),0)","v":3},null,null,"mWithZTM","mWithZPM",{"$f":"Ресурсы!E42","v":11.6},{"$f":"ROUND(IF(F383=\"\",0,F383)*IF(M384=\"\",0,M384),0)","v":0}]
[null,null,"Зарплата рабочих",null,null,null,null,14,null,null,null,null,null,1]
[null,null,"Эксплуатация машин",null,null,null,null,9,null,null,null,null,null,1]
[null,null,"в т.ч. зарплата машинистов",null,null,null,null,3]
[null,null,"Материалы"]
[null,null,"в т.ч. Вспомогательные материалы от стоимости материалов"]
[null,null,"в т.ч. Вспомогательные ненормируемые материалы",null,null,null,null,null,"NenormMatOtZPR"]
[null,null,"в т.ч. Ненормированная з.п. рабочих"]
[null,null,"в т.ч. Ненормированная стоимость эксплуатации машин"]
[null,null,"в т.ч. Ненормированная оплата механизаторов"]
[null,null,"Накладные расходы",null,null,null,11.7,{"$f":"IF('Текущие цены с учетом расхода'!N24>0,'Текущие цены с учетом расхода'!N24,IF('Текущие цены с учетом расхода'!N24<0,'Текущие цены с учетом расхода'!N24,\"\"))","v":3},null,"Nakl",null,null,11.7,{"$f":"IF('Базовые цены с учетом расхода'!N24>0,'Базовые цены с учетом расхода'!N24,IF('Базовые цены с учетом расхода'!N24<0,'Базовые цены с учетом расхода'!N24,\"\"))","v":""}]
[null,null,"НР от ЗПР",null,null,null,null,{"$f":"IF('Текущие цены с учетом расхода'!P24>0,'Текущие цены с учетом расхода'!P24,IF('Текущие цены с учетом расхода'!P24<0,'Текущие цены с учетом расхода'!P24,\"\"))","v":""},null,"Nakl_ZPR",null,null,null,{"$f":"IF('Базовые цены с учетом расхода'!P24>0,'Базовые цены с учетом расхода'!P24,IF('Базовые цены с учетом расхода'!P24<0,'Базовые цены с учетом расхода'!P24,\"\"))","v":""}]
[null,null,"НР от ЗПМ",null,null,null,null,{"$f":"IF('Текущие цены с учетом расхода'!Q24>0,'Текущие цены с учетом расхода'!Q24,IF('Текущие цены с учетом расхода'!Q24<0,'Текущие цены с учетом расхода'!Q24,\"\"))","v":""},null,"Nakl_ZPM",null,null,null,{"$f":"IF('Базовые цены с учетом расхода'!Q24>0,'Базовые цены с учетом расхода'!Q24,IF('Базовые цены с учетом расхода'!Q24<0,'Базовые цены с учетом расхода'!Q24,\"\"))","v":""}]
[null,null,"Плановые накопления / Сметная прибыль",null,null,null,8,{"$f":"IF('Текущие цены с учетом расхода'!O24>0,'Текущие цены с учетом расхода'!O24,IF('Текущие цены с учетом расхода'!O24<0,'Текущие цены с учетом расхода'!O24,\"\"))","v":2},null,"Plan",null,null,8,{"$f":"IF('Базовые цены с учетом расхода'!O24>0,'Базовые цены с учетом расхода'!O24,IF('Базовые цены с учетом расхода'!O24<0,'Базовые цены с учетом расхода'!O24,\"\"))","v":""}]
[null,null,"СП от ЗПР",null,null,null,null,{"$f":"IF('Текущие цены с учетом расхода'!R24>0,'Текущие цены с учетом расхода'!R24,IF('Текущие цены с учетом расхода'!R24<0,'Текущие цены с учетом расхода'!R24,\"\"))","v":""},null,"Plan_ZPR",null,null,null,{"$f":"IF('Базовые цены с учетом расхода'!R24>0,'Базовые цены с учетом расхода'!R24,IF('Базовые цены с учетом расхода'!R24<0,'Базовые цены с учетом расхода'!R24,\"\"))","v":""}]
[null,null,"СП от ЗПМ",null,null,null,null,{"$f":"IF('Текущие цены с учетом расхода'!S24>0,'Текущие цены с учетом расхода'!S24,IF('Текущие цены с учетом расхода'!S24<0,'Текущие цены с учетом расхода'!S24,\"\"))","v":""},null,"Plan_ZPM",null,null,null,{"$f":"IF('Базовые цены с учетом расхода'!S24>0,'Базовые цены с учетом расхода'!S24,IF('Базовые цены с учетом расхода'!S24<0,'Базовые цены с учетом расхода'!S24,\"\"))","v":""}]
[null,"IV.  ОБСТАНОВКА"]
[null,"6.Дорожные знаки"]
["20.","ГЭСНс 01-05-019-01","Очистка дорожных знаков от снега вручную","100 шт.",null,0.01,{"$f":"ROUND(СУММПРОИЗВЕСЛИ(1,I402:I406,\"s\",E402:E406,G402:G406,0),2)+SUMIF(I402:I421,\"=NenormMatOtZPR\",G402:G421)","v":624.27},{"$f":"ROUND(СУММПРОИЗВЕСЛИ(F402,I402:I406,\"s\",E402:E406,G402:G406,0),0)+SUMIF(I402:I421,\"=NenormMatOtZPR\",H402:H421)","v":6},"sum",null,null,null,{"$f":"ROUND(СУММПРОИЗВЕСЛИ(1,I402:I406,\"s\",E402:E406,M402:M406,0),2)+SUMIF(I402:I421,\"=NenormMatOtZPR\",M402:M421)","v":68.489999999999995},{"$f":"ROUND(СУММПРОИЗВЕСЛИ(F402,I402:I406,\"s\",E402:E406,M402:M406,0),0)+SUMIF(I402:I421,\"=NenormMatOtZPR\",N402:N421)","v":1}]
["20. 1.","2","Затраты труда машинистов","чел.-ч",{"$f":"ОКРУГЛВСЕ(СУММПРОИЗВЕСЛИ(1,K402:K406,\"mWithZTM\",D402:D406,E402:E406,-1)+СУММКОЭФПРОЦЕНТЕСЛИ(1,1,K402:K406,\"mWithZTM_Proch\",E402:E406,-1),11)","v":0.46},{"$f":"ОКРУГЛВСЕ(СУММПРОИЗВЕСЛИ(1,K402:K406,\"mWithZTM\",D402:D406,F402:F406,-1)+СУММКОЭФПРОЦЕНТЕСЛИ(1,1,K402:K406,\"mWithZTM_Proch\",F402:F406,-1),11)","v":4.5999999999999999E-3},{"$f":"IF(F403=0,0,ROUND(H403/F403,3))","v":217.39099999999999},{"$f":"ROUND(СУММЕСЛИДА1НЕ1(L402:L406,\"mWithZPM\",D402:D406,0,H402:H406),0)","v":1},null,"Ж",null,null,{"$f":"IF(F403=0,0,ROUND(N403/F403,3))","v":0},{"$f":"ROUND(СУММЕСЛИДА1НЕ1(L402:L406,\"mWithZPM\",D402:D406,0,N402:N406),0)","v":0}]
["20. 2.",{"$f":"ПОЛУЧШИФР(Ресурсы!A4,1)","v":"0-4002"},{"$f":"Ресурсы!B4","v":"Дорожный рабочий 2 разряда"},"чел.-ч",3.68,{"$f":"ОКРУГЛВСЕ(IF(E404=\"\",0,E404)*IF(F402=\"\",0,F402),11)","v":3.6799999999999999E-2},{"$f":"Ресурсы!D4","v":100.57},{"$f":"ROUND(IF(F404=\"\",0,F404)*IF(G404=\"\",0,G404),0)","v":4},"s","Г",null,null,{"$f":"Ресурсы!C4","v":7.8},{"$f":"ROUND(IF(F404=\"\",0,F404)*IF(M404=\"\",0,M404),0)","v":0}]
["20. 3.",{"$f":"ПОЛУЧШИФР(Ресурсы!A42,1)","v":"СЦЭСМ 121550"},{"$f":"Ресурсы!B42","v":"Машины дорожной службы (машина дорожного мастера)"},"маш.-ч",0.46,{"$f":"ОКРУГЛВСЕ(IF(E405=\"\",0,E405)*IF(F402=\"\",0,F402),11)","v":4.5999999999999999E-3},{"$f":"Ресурсы!D42","v":552.54999999999995},{"$f":"ROUND(IF(F405=\"\",0,F405)*IF(G405=\"\",0,G405),0)","v":3},"s","IsMash",null,null,{"$f":"Ресурсы!C42","v":86.5},{"$f":"ROUND(IF(F405=\"\",0,F405)*IF(M405=\"\",0,M405),0)","v":0}]
[null,null,null,{"$f":"Ресурсы!G42","v":1},null,null,{"$f":"Ресурсы!F42","v":149.81},{"$f":"ROUND(IF(F405=\"\",0,F405)*IF(G406=\"\",0,G406),0)","v":1},null,null,"mWithZTM","mWithZPM",{"$f":"Ресурсы!E42","v":11.6},{"$f":"ROUND(IF(F405=\"\",0,F405)*IF(M406=\"\",0,M406),0)","v":0}]
[null,null,"Зарплата рабочих",null,null,null,null,4]
[null,null,"Эксплуатация машин",null,null,null,null,3]
[null,null,"в т.ч. зарплата машинистов",null,null,null,null,1]
[null,null,"Материалы"]
[null,null,"в т.ч. Вспомогательные материалы от стоимости материалов"]
[null,null,"в т.ч. Вспомогательные ненормируемые материалы",null,null,null,null,null,"NenormMatOtZPR"]
[null,null,"в т.ч. Ненормированная з.п. рабочих"]
[null,null,"в т.ч. Ненормированная стоимость эксплуатации машин"]
[null,null,"в т.ч. Ненормированная оплата механизаторов"]
[null,null,"Накладные расходы",null,null,null,11.7,{"$f":"IF('Текущие цены с учетом расхода'!N25>0,'Текущие цены с учетом расхода'!N25,IF('Текущие цены с учетом расхода'!N25<0,'Текущие цены с учетом расхода'!N25,\"\"))","v":1},null,"Nakl",null,null,11.7,{"$f":"IF('Базовые цены с учетом расхода'!N25>0,'Базовые цены с учетом расхода'!N25,IF('Базовые цены с учетом расхода'!N25<0,'Базовые цены с учетом расхода'!N25,\"\"))","v":""}]
[null,null,"НР от ЗПР",null,null,null,null,{"$f":"IF('Текущие цены с учетом расхода'!P25>0,'Текущие цены с учетом расхода'!P25,IF('Текущие цены с учетом расхода'!P25<0,'Текущие цены с учетом расхода'!P25,\"\"))","v":""},null,"Nakl_ZPR",null,null,null,{"$f":"IF('Базовые цены с учетом расхода'!P25>0,'Базовые цены с учетом расхода'!P25,IF('Базовые цены с учетом расхода'!P25<0,'Базовые цены с учетом расхода'!P25,\"\"))","v":""}]
[null,null,"НР от ЗПМ",null,null,null,null,{"$f":"IF('Текущие цены с учетом расхода'!Q25>0,'Текущие цены с учетом расхода'!Q25,IF('Текущие цены с учетом расхода'!Q25<0,'Текущие цены с учетом расхода'!Q25,\"\"))","v":""},null,"Nakl_ZPM",null,null,null,{"$f":"IF('Базовые цены с учетом расхода'!Q25>0,'Базовые цены с учетом расхода'!Q25,IF('Базовые цены с учетом расхода'!Q25<0,'Базовые цены с учетом расхода'!Q25,\"\"))","v":""}]
[null,null,"Плановые накопления / Сметная прибыль",null,null,null,8,{"$f":"IF('Текущие цены с учетом расхода'!O25>0,'Текущие цены с учетом расхода'!O25,IF('Текущие цены с учетом расхода'!O25<0,'Текущие цены с учетом расхода'!O25,\"\"))","v":1},null,"Plan",null,null,8,{"$f":"IF('Базовые цены с учетом расхода'!O25>0,'Базовые цены с учетом расхода'!O25,IF('Базовые цены с учетом расхода'!O25<0,'Базовые цены с учетом расхода'!O25,\"\"))","v":""}]
[null,null,"СП от ЗПР",null,null,null,null,{"$f":"IF('Текущие цены с учетом расхода'!R25>0,'Текущие цены с учетом расхода'!R25,IF('Текущие цены с учетом расхода'!R25<0,'Текущие цены с учетом расхода'!R25,\"\"))","v":""},null,"Plan_ZPR",null,null,null,{"$f":"IF('Базовые цены с учетом расхода'!R25>0,'Базовые цены с учетом расхода'!R25,IF('Базовые цены с учетом расхода'!R25<0,'Базовые цены с учетом расхода'!R25,\"\"))","v":""}]
[null,null,"СП от ЗПМ",null,null,null,null,{"$f":"IF('Текущие цены с учетом расхода'!S25>0,'Текущие цены с учетом расхода'!S25,IF('Текущие цены с учетом расхода'!S25<0,'Текущие цены с учетом расхода'!S25,\"\"))","v":""},null,"Plan_ZPM",null,null,null,{"$f":"IF('Базовые цены с учетом расхода'!S25>0,'Базовые цены с учетом расхода'!S25,IF('Базовые цены с учетом расхода'!S25<0,'Базовые цены с учетом расхода'!S25,\"\"))","v":""}]
["21.","ГЭСНс 01-05-020-01","Разбрасывание снега возле стоек дорожных знаков, сигнальных столбиков, тумб и опор дорожного освещения","100 шт.",null,2E-3,{"$f":"ROUND(СУММПРОИЗВЕСЛИ(1,I422:I426,\"s\",E422:E426,G422:G426,0),2)+SUMIF(I422:I441,\"=NenormMatOtZPR\",G422:G441)","v":759.98},{"$f":"ROUND(СУММПРОИЗВЕСЛИ(F422,I422:I426,\"s\",E422:E426,G422:G426,0),0)+SUMIF(I422:I441,\"=NenormMatOtZPR\",H422:H441)","v":2},"sum",null,null,null,{"$f":"ROUND(СУММПРОИЗВЕСЛИ(1,I422:I426,\"s\",E422:E426,M422:M426,0),2)+SUMIF(I422:I441,\"=NenormMatOtZPR\",M422:M441)","v":83.38},{"$f":"ROUND(СУММПРОИЗВЕСЛИ(F422,I422:I426,\"s\",E422:E426,M422:M426,0),0)+SUMIF(I422:I441,\"=NenormMatOtZPR\",N422:N441)","v":0}]
["21. 1.","2","Затраты труда машинистов","чел.-ч",{"$f":"ОКРУГЛВСЕ(СУММПРОИЗВЕСЛИ(1,K422:K426,\"mWithZTM\",D422:D426,E422:E426,-1)+СУММКОЭФПРОЦЕНТЕСЛИ(1,1,K422:K426,\"mWithZTM_Proch\",E422:E426,-1),11)","v":0.56000000000000005},{"$f":"ОКРУГЛВСЕ(СУММПРОИЗВЕСЛИ(1,K422:K426,\"mWithZTM\",D422:D426,F422:F426,-1)+СУММКОЭФПРОЦЕНТЕСЛИ(1,1,K422:K426,\"mWithZTM_Proch\",F422:F426,-1),11)","v":1.1199999999999999E-3},{"$f":"IF(F423=0,0,ROUND(H423/F423,3))","v":0},{"$f":"ROUND(СУММЕСЛИДА1НЕ1(L422:L426,\"mWithZPM\",D422:D426,0,H422:H426),0)","v":0},null,"Ж",null,null,{"$f":"IF(F423=0,0,ROUND(N423/F423,3))","v":0},{"$f":"ROUND(СУММЕСЛИДА1НЕ1(L422:L426,\"mWithZPM\",D422:D426,0,N422:N426),0)","v":0}]
["21. 2.",{"$f":"ПОЛУЧШИФР(Ресурсы!A4,1)","v":"0-4002"},{"$f":"Ресурсы!B4","v":"Дорожный рабочий 2 разряда"},"чел.-ч",4.4800000000000004,{"$f":"ОКРУГЛВСЕ(IF(E424=\"\",0,E424)*IF(F422=\"\",0,F422),11)","v":8.9599999999999992E-3},{"$f":"Ресурсы!D4","v":100.57},{"$f":"ROUND(IF(F424=\"\",0,F424)*IF(G424=\"\",0,G424),0)","v":1},"s","Г",null,null,{"$f":"Ресурсы!C4","v":7.8},{"$f":"ROUND(IF(F424=\"\",0,F424)*IF(M424=\"\",0,M424),0)","v":0}]
["21. 3.",{"$f":"ПОЛУЧШИФР(Ресурсы!A42,1)","v":"СЦЭСМ 121550"},{"$f":"Ресурсы!B42","v":"Машины дорожной службы (машина дорожного мастера)"},"маш.-ч",0.56000000000000005,{"$f":"ОКРУГЛВСЕ(IF(E425=\"\",0,E425)*IF(F422=\"\",0,F422),11)","v":1.1199999999999999E-3},{"$f":"Ресурсы!D42","v":552.54999999999995},{"$f":"ROUND(IF(F425=\"\",0,F425)*IF(G425=\"\",0,G425),0)","v":1},"s","IsMash",null,null,{"$f":"Ресурсы!C42","v":86.5},{"$f":"ROUND(IF(F425=\"\",0,F425)*IF(M425=\"\",0,M425),0)","v":0}]
[null,null,null,{"$f":"Ресурсы!G42","v":1},null,null,{"$f":"Ресурсы!F42","v":149.81},{"$f":"ROUND(IF(F425=\"\",0,F425)*IF(G426=\"\",0,G426),0)","v":0},null,null,"mWithZTM","mWithZPM",{"$f":"Ресурсы!E42","v":11.6},{"$f":"ROUND(IF(F425=\"\",0,F425)*IF(M426=\"\",0,M426),0)","v":0}]
[null,null,"Зарплата рабочих",null,null,null,null,1]
[null,null,"Эксплуатация машин",null,null,null,null,1]
[null,null,"в т.ч. зарплата машинистов"]
[null,null,"Материалы"]
[null,null,"в т.ч. Вспомогательные материалы от стоимости материалов"]
[null,null,"в т.ч. Вспомогательные ненормируемые материалы",null,null,null,null,null,"NenormMatOtZPR"]
[null,null,"в т.ч. Ненормированная з.п. рабочих"]
[null,null,"в т.ч. Ненормированная стоимость эксплуатации машин"]
[null,null,"в т.ч. Ненормированная оплата механизаторов"]
[null,null,"Накладные расходы",null,null,null,11.7,{"$f":"IF('Текущие цены с учетом расхода'!N26>0,'Текущие цены с учетом расхода'!N26,IF('Текущие цены с учетом расхода'!N26<0,'Текущие цены с учетом расхода'!N26,\"\"))","v":""},null,"Nakl",null,null,null,{"$f":"IF('Базовые цены с учетом расхода'!N26>0,'Базовые цены с учетом расхода'!N26,IF('Базовые цены с учетом расхода'!N26<0,'Базовые цены с учетом расхода'!N26,\"\"))","v":""}]
[null,null,"НР от ЗПР",null,null,null,null,{"$f":"IF('Текущие цены с учетом расхода'!P26>0,'Текущие цены с учетом расхода'!P26,IF('Текущие цены с учетом расхода'!P26<0,'Текущие цены с учетом расхода'!P26,\"\"))","v":""},null,"Nakl_ZPR",null,null,null,{"$f":"IF('Базовые цены с учетом расхода'!P26>0,'Базовые цены с учетом расхода'!P26,IF('Базовые цены с учетом расхода'!P26<0,'Базовые цены с учетом расхода'!P26,\"\"))","v":""}]
[null,null,"НР от ЗПМ",null,null,null,null,{"$f":"IF('Текущие цены с учетом расхода'!Q26>0,'Текущие цены с учетом расхода'!Q26,IF('Текущие цены с учетом расхода'!Q26<0,'Текущие цены с учетом расхода'!Q26,\"\"))","v":""},null,"Nakl_ZPM",null,null,null,{"$f":"IF('Базовые цены с учетом расхода'!Q26>0,'Базовые цены с учетом расхода'!Q26,IF('Базовые цены с учетом расхода'!Q26<0,'Базовые цены с учетом расхода'!Q26,\"\"))","v":""}]
[null,null,"Плановые накопления / Сметная прибыль",null,null,null,8,{"$f":"IF('Текущие цены с учетом расхода'!O26>0,'Текущие цены с учетом расхода'!O26,IF('Текущие цены с учетом расхода'!O26<0,'Текущие цены с учетом расхода'!O26,\"\"))","v":""},null,"Plan",null,null,null,{"$f":"IF('Базовые цены с учетом расхода'!O26>0,'Базовые цены с учетом расхода'!O26,IF('Базовые цены с учетом расхода'!O26<0,'Базовые цены с учетом расхода'!O26,\"\"))","v":""}]
[null,null,"СП от ЗПР",null,null,null,null,{"$f":"IF('Текущие цены с учетом расхода'!R26>0,'Текущие цены с учетом расхода'!R26,IF('Текущие цены с учетом расхода'!R26<0,'Текущие цены с учетом расхода'!R26,\"\"))","v":""},null,"Plan_ZPR",null,null,null,{"$f":"IF('Базовые цены с учетом расхода'!R26>0,'Базовые цены с учетом расхода'!R26,IF('Базовые цены с учетом расхода'!R26<0,'Базовые цены с учетом расхода'!R26,\"\"))","v":""}]
[null,null,"СП от ЗПМ",null,null,null,null,{"$f":"IF('Текущие цены с учетом расхода'!S26>0,'Текущие цены с учетом расхода'!S26,IF('Текущие цены с учетом расхода'!S26<0,'Текущие цены с учетом расхода'!S26,\"\"))","v":""},null,"Plan_ZPM",null,null,null,{"$f":"IF('Базовые цены с учетом расхода'!S26>0,'Базовые цены с учетом расхода'!S26,IF('Базовые цены с учетом расхода'!S26<0,'Базовые цены с учетом расхода'!S26,\"\"))","v":""}]
["22.","ГЭСНс 01-04-005-01","Замена стоек дорожных знаков","100 шт.",null,6.6E-3,{"$f":"ROUND(СУММПРОИЗВЕСЛИ(1,I442:I455,\"s\",E442:E455,G442:G455,0),2)+SUMIF(I442:I470,\"=NenormMatOtZPR\",G442:G470)","v":296935.78999999998},{"$f":"ROUND(СУММПРОИЗВЕСЛИ(F442,I442:I455,\"s\",E442:E455,G442:G455,0),0)+SUMIF(I442:I470,\"=NenormMatOtZPR\",H442:H470)","v":1960},"sum",null,null,null,{"$f":"ROUND(СУММПРОИЗВЕСЛИ(1,I442:I455,\"s\",E442:E455,M442:M455,0),2)+SUMIF(I442:I470,\"=NenormMatOtZPR\",M442:M470)","v":9081.93},{"$f":"ROUND(СУММПРОИЗВЕСЛИ(F442,I442:I455,\"s\",E442:E455,M442:M455,0),0)+SUMIF(I442:I470,\"=NenormMatOtZPR\",N442:N470)","v":60}]
["22. 1.","2","Затраты труда машинистов","чел.-ч",{"$f":"ОКРУГЛВСЕ(СУММПРОИЗВЕСЛИ(1,K442:K455,\"mWithZTM\",D442:D455,E442:E455,-1)+СУММКОЭФПРОЦЕНТЕСЛИ(1,1,K442:K455,\"mWithZTM_Proch\",E442:E455,-1),11)","v":74.930000000000007},{"$f":"ОКРУГЛВСЕ(СУММПРОИЗВЕСЛИ(1,K442:K455,\"mWithZTM\",D442:D455,F442:F455,-1)+СУММКОЭФПРОЦЕНТЕСЛИ(1,1,K442:K455,\"mWithZTM_Proch\",F442:F455,-1),11)","v":0.49453799999999998},{"$f":"IF(F443=0,0,ROUND(H443/F443,3))","v":149.63499999999999},{"$f":"ROUND(СУММЕСЛИДА1НЕ1(L442:L455,\"mWithZPM\",D442:D455,0,H442:H455),0)","v":74},null,"Ж",null,null,{"$f":"IF(F443=0,0,ROUND(N443/F443,3))","v":12.132999999999999},{"$f":"ROUND(СУММЕСЛИДА1НЕ1(L442:L455,\"mWithZPM\",D442:D455,0,N442:N455),0)","v":6}]
["22. 2.",{"$f":"ПОЛУЧШИФР(Ресурсы!A4,1)","v":"0-4002"},{"$f":"Ресурсы!B4","v":"Дорожный рабочий 2 разряда"},"чел.-ч",149.86000000000001,{"$f":"ОКРУГЛВСЕ(IF(E444=\"\",0,E444)*IF(F442=\"\",0,F442),11)","v":0.98907599999999996},{"$f":"Ресурсы!D4","v":100.57},{"$f":"ROUND(IF(F444=\"\",0,F444)*IF(G444=\"\",0,G444),0)","v":99},"s","Г",null,null,{"$f":"Ресурсы!C4","v":7.8},{"$f":"ROUND(IF(F444=\"\",0,F444)*IF(M444=\"\",0,M444),0)","v":8}]
["22. 3.",{"$f":"ПОЛУЧШИФР(Ресурсы!A5,1)","v":"0-4003"},{"$f":"Ресурсы!B5","v":"Дорожный рабочий 3 разряда"},"чел.-ч",149.86000000000001,{"$f":"ОКРУГЛВСЕ(IF(E445=\"\",0,E445)*IF(F442=\"\",0,F442),11)","v":0.98907599999999996},{"$f":"Ресурсы!D5","v":109.94},{"$f":"ROUND(IF(F445=\"\",0,F445)*IF(G445=\"\",0,G445),0)","v":109},"s","Г",null,null,{"$f":"Ресурсы!C5","v":8.5299999999999994},{"$f":"ROUND(IF(F445=\"\",0,F445)*IF(M445=\"\",0,M445),0)","v":8}]
["22. 4.",{"$f":"ПОЛУЧШИФР(Ресурсы!A42,1)","v":"СЦЭСМ 121550"},{"$f":"Ресурсы!B42","v":"Машины дорожной службы (машина дорожного мастера)"},"маш.-ч",74.930000000000007,{"$f":"ОКРУГЛВСЕ(IF(E446=\"\",0,E446)*IF(F442=\"\",0,F442),11)","v":0.49453799999999998},{"$f":"Ресурсы!D42","v":552.54999999999995},{"$f":"ROUND(IF(F446=\"\",0,F446)*IF(G446=\"\",0,G446),0)","v":273},"s","IsMash",null,null,{"$f":"Ресурсы!C42","v":86.5},{"$f":"ROUND(IF(F446=\"\",0,F446)*IF(M446=\"\",0,M446),0)","v":43}]
[null,null,null,{"$f":"Ресурсы!G42","v":1},null,null,{"$f":"Ресурсы!F42","v":149.81},{"$f":"ROUND(IF(F446=\"\",0,F446)*IF(G447=\"\",0,G447),0)","v":74},null,null,"mWithZTM","mWithZPM",{"$f":"Ресурсы!E42","v":11.6},{"$f":"ROUND(IF(F446=\"\",0,F446)*IF(M447=\"\",0,M447),0)","v":6}]
["22. 5.",{"$f":"ПОЛУЧШИФР(Ресурсы!A11,0)","v":"с101-1305"},{"$f":"Ресурсы!B11","v":"Портландцемент общестроительного назначения бездобавочный, марки: 400"},"т",2.0590000000000002,{"$f":"ОКРУГЛВСЕ(IF(E448=\"\",0,E448)*IF(F442=\"\",0,F442),11)","v":1.35894E-2},{"$f":"ROUND(Ресурсы!D11*Начисления!AV27,2)","v":3708.31},{"$f":"ROUND(IF(F448=\"\",0,F448)*IF(G448=\"\",0,G448),0)","v":50},"s","IsMater",null,null,{"$f":"ROUND(Ресурсы!C11*Начисления!AV27,2)","v":0},{"$f":"ROUND(IF(F448=\"\",0,F448)*IF(M448=\"\",0,M448),0)","v":0}]
["22. 6.",{"$f":"ПОЛУЧШИФР(Ресурсы!A18,0)","v":"с101-4289"},{"$f":"Ресурсы!B18","v":"Знаки дорожные на оцинкованной подоснове со световозвращающей пленкой: предупреждающие, размером 900х900х900 мм, тип 1.1, 1.2, 1.5-1.33"},"шт.",100,{"$f":"ОКРУГЛВСЕ(IF(E449=\"\",0,E449)*IF(F442=\"\",0,F442),11)","v":0.66},{"$f":"ROUND(Ресурсы!D18*Начисления!AV27,2)","v":1011.86},668,"s","IsMater",null,null,{"$f":"ROUND(Ресурсы!C18*Начисления!AV27,2)","v":0},0]
["22. 7.",{"$f":"ПОЛУЧШИФР(Ресурсы!A23,1)","v":"ССЦ 113-8028"},{"$f":"Ресурсы!B23","v":"Эмаль ПФ-115 белая"},"кг",9.3000000000000007,{"$f":"ОКРУГЛВСЕ(IF(E450=\"\",0,E450)*IF(F442=\"\",0,F442),11)","v":6.1379999999999997E-2},{"$f":"ROUND(Ресурсы!D23*Начисления!AV27,2)","v":58.58},4,"s","IsMater",null,null,{"$f":"ROUND(Ресурсы!C23*Начисления!AV27,2)","v":12.27},1]
["22. 8.",{"$f":"ПОЛУЧШИФР(Ресурсы!A24,1)","v":"ССЦ 113-8029"},{"$f":"Ресурсы!B24","v":"Эмаль ПФ-115 цветная"},"кг",2.16,{"$f":"ОКРУГЛВСЕ(IF(E451=\"\",0,E451)*IF(F442=\"\",0,F442),11)","v":1.4256E-2},{"$f":"ROUND(Ресурсы!D24*Начисления!AV27,2)","v":67.23},1,"s","IsMater",null,null,{"$f":"ROUND(Ресурсы!C24*Начисления!AV27,2)","v":16.66},0]
["22. 9.",{"$f":"ПОЛУЧШИФР(Ресурсы!A25,0)","v":"с201-0841"},{"$f":"Ресурсы!B25","v":"Стойки для дорожных знаков со струбцинами"},"кг",2840,{"$f":"ОКРУГЛВСЕ(IF(E452=\"\",0,E452)*IF(F442=\"\",0,F442),11)","v":18.744},{"$f":"ROUND(Ресурсы!D25*Начисления!AV27,2)","v":38.450000000000003},721,"s","IsMater",null,null,{"$f":"ROUND(Ресурсы!C25*Начисления!AV27,2)","v":0},0]
["22. 10.",{"$f":"ПОЛУЧШИФР(Ресурсы!A26,0)","v":"с408-0023"},{"$f":"Ресурсы!B26","v":"Щебень из природного камня для строительных работ марка: 400, фракция 20-40 мм"},"м3",3.76,{"$f":"ОКРУГЛВСЕ(IF(E453=\"\",0,E453)*IF(F442=\"\",0,F442),11)","v":2.4816000000000001E-2},{"$f":"ROUND(Ресурсы!D26*Начисления!AV27,2)","v":1269.01},31,"s","IsMater",null,null,{"$f":"ROUND(Ресурсы!C26*Начисления!AV27,2)","v":0},0]
["22. 11.",{"$f":"ПОЛУЧШИФР(Ресурсы!A28,0)","v":"с408-0124"},{"$f":"Ресурсы!B28","v":"Песок природный для стрительных работ мелкий"},"м3",3.47,{"$f":"ОКРУГЛВСЕ(IF(E454=\"\",0,E454)*IF(F442=\"\",0,F442),11)","v":2.2901999999999999E-2},{"$f":"ROUND(Ресурсы!D28*Начисления!AV27,2)","v":141.55000000000001},3,"s","IsMater",null,null,{"$f":"ROUND(Ресурсы!C28*Начисления!AV27,2)","v":0},0]
["22. 12.",{"$f":"ПОЛУЧШИФР(Ресурсы!A30,1)","v":"ССЦ 411-0001"},{"$f":"Ресурсы!B30","v":"Вода"},"м3",1.3009999999999999,{"$f":"ОКРУГЛВСЕ(IF(E455=\"\",0,E455)*IF(F442=\"\",0,F442),11)","v":8.5865999999999998E-3},{"$f":"ROUND(Ресурсы!D30*Начисления!AV27,2)","v":10.85},0,"s","IsMater",null,null,{"$f":"ROUND(Ресурсы!C30*Начисления!AV27,2)","v":2.44},0]
[null,null,"Зарплата рабочих",null,null,null,null,208,null,null,null,null,null,16]
[null,null,"Эксплуатация машин",null,null,null,null,273,null,null,null,null,null,43]
[null,null,"в т.ч. зарплата машинистов",null,null,null,null,74,null,null,null,null,null,6]
[null,null,"Материалы",null,null,null,null,1478,null,null,null,null,null,1]
[null,null,"в т.ч. Вспомогательные материалы от стоимости материалов"]
[null,null,"в т.ч. Вспомогательные ненормируемые материалы",null,null,null,null,null,"NenormMatOtZPR"]
[null,null,"в т.ч. Ненормированная з.п. рабочих"]
[null,null,"в т.ч. Ненормированная стоимость эксплуатации машин"]
[null,null,"в т.ч. Ненормированная оплата механизаторов"]
[null,null,"Накладные расходы",null,null,null,11.7,{"$f":"IF('Текущие цены с учетом расхода'!N27>0,'Текущие цены с учетом расхода'!N27,IF('Текущие цены с учетом расхода'!N27<0,'Текущие цены с учетом расхода'!N27,\"\"))","v":229},null,"Nakl",null,null,11.7,{"$f":"IF('Базовые цены с учетом расхода'!N27>0,'Базовые цены с учетом расхода'!N27,IF('Базовые цены с учетом расхода'!N27<0,'Базовые цены с учетом расхода'!N27,\"\"))","v":7}]
[null,null,"НР от ЗПР",null,null,null,null,{"$f":"IF('Текущие цены с учетом расхода'!P27>0,'Текущие цены с учетом расхода'!P27,IF('Текущие цены с учетом расхода'!P27<0,'Текущие цены с учетом расхода'!P27,\"\"))","v":""},null,"Nakl_ZPR",null,null,null,{"$f":"IF('Базовые цены с учетом расхода'!P27>0,'Базовые цены с учетом расхода'!P27,IF('Базовые цены с учетом расхода'!P27<0,'Базовые цены с учетом расхода'!P27,\"\"))","v":""}]
[null,null,"НР от ЗПМ",null,null,null,null,{"$f":"IF('Текущие цены с учетом расхода'!Q27>0,'Текущие цены с учетом расхода'!Q27,IF('Текущие цены с учетом расхода'!Q27<0,'Текущие цены с учетом расхода'!Q27,\"\"))","v":""},null,"Nakl_ZPM",null,null,null,{"$f":"IF('Базовые цены с учетом расхода'!Q27>0,'Базовые цены с учетом расхода'!Q27,IF('Базовые цены с учетом расхода'!Q27<0,'Базовые цены с учетом расхода'!Q27,\"\"))","v":""}]
[null,null,"Плановые накопления / Сметная прибыль",null,null,null,8,{"$f":"IF('Текущие цены с учетом расхода'!O27>0,'Текущие цены с учетом расхода'!O27,IF('Текущие цены с учетом расхода'!O27<0,'Текущие цены с учетом расхода'!O27,\"\"))","v":175},null,"Plan",null,null,8,{"$f":"IF('Базовые цены с учетом расхода'!O27>0,'Базовые цены с учетом расхода'!O27,IF('Базовые цены с учетом расхода'!O27<0,'Базовые цены с учетом расхода'!O27,\"\"))","v":5}]
[null,null,"СП от ЗПР",null,null,null,null,{"$f":"IF('Текущие цены с учетом расхода'!R27>0,'Текущие цены с учетом расхода'!R27,IF('Текущие цены с учетом расхода'!R27<0,'Текущие цены с учетом расхода'!R27,\"\"))","v":""},null,"Plan_ZPR",null,null,null,{"$f":"IF('Базовые цены с учетом расхода'!R27>0,'Базовые цены с учетом расхода'!R27,IF('Базовые цены с учетом расхода'!R27<0,'Базовые цены с учетом расхода'!R27,\"\"))","v":""}]
[null,null,"СП от ЗПМ",null,null,null,null,{"$f":"IF('Текущие цены с учетом расхода'!S27>0,'Текущие цены с учетом расхода'!S27,IF('Текущие цены с учетом расхода'!S27<0,'Текущие цены с учетом расхода'!S27,\"\"))","v":""},null,"Plan_ZPM",null,null,null,{"$f":"IF('Базовые цены с учетом расхода'!S27>0,'Базовые цены с учетом расхода'!S27,IF('Базовые цены с учетом расхода'!S27<0,'Базовые цены с учетом расхода'!S27,\"\"))","v":""}]
[null,"8.Барьерное ограждение"]
["23.","ГЭСНс 01-04-011-01","Выправка отдельных секций металлического барьерного ограждения","100 м",null,5.0000000000000001E-3,{"$f":"ROUND(СУММПРОИЗВЕСЛИ(1,I472:I483,\"s\",E472:E483,G472:G483,0),2)+SUMIF(I472:I498,\"=NenormMatOtZPR\",G472:G498)","v":26662.78},{"$f":"ROUND(СУММПРОИЗВЕСЛИ(F472,I472:I483,\"s\",E472:E483,G472:G483,0),0)+SUMIF(I472:I498,\"=NenormMatOtZPR\",H472:H498)","v":133},"sum",null,null,null,{"$f":"ROUND(СУММПРОИЗВЕСЛИ(1,I472:I483,\"s\",E472:E483,M472:M483,0),2)+SUMIF(I472:I498,\"=NenormMatOtZPR\",M472:M498)","v":3246.64},{"$f":"ROUND(СУММПРОИЗВЕСЛИ(F472,I472:I483,\"s\",E472:E483,M472:M483,0),0)+SUMIF(I472:I498,\"=NenormMatOtZPR\",N472:N498)","v":16}]
["23. 1.","2","Затраты труда машинистов","чел.-ч",{"$f":"ОКРУГЛВСЕ(СУММПРОИЗВЕСЛИ(1,K472:K483,\"mWithZTM\",D472:D483,E472:E483,-1)+СУММКОЭФПРОЦЕНТЕСЛИ(1,1,K472:K483,\"mWithZTM_Proch\",E472:E483,-1),11)","v":25.92},{"$f":"ОКРУГЛВСЕ(СУММПРОИЗВЕСЛИ(1,K472:K483,\"mWithZTM\",D472:D483,F472:F483,-1)+СУММКОЭФПРОЦЕНТЕСЛИ(1,1,K472:K483,\"mWithZTM_Proch\",F472:F483,-1),11)","v":0.12959999999999999},{"$f":"IF(F473=0,0,ROUND(H473/F473,3))","v":146.60499999999999},{"$f":"ROUND(СУММЕСЛИДА1НЕ1(L472:L483,\"mWithZPM\",D472:D483,0,H472:H483),0)","v":19},null,"Ж",null,null,{"$f":"IF(F473=0,0,ROUND(N473/F473,3))","v":15.432},{"$f":"ROUND(СУММЕСЛИДА1НЕ1(L472:L483,\"mWithZPM\",D472:D483,0,N472:N483),0)","v":2}]
["23. 2.",{"$f":"ПОЛУЧШИФР(Ресурсы!A4,1)","v":"0-4002"},{"$f":"Ресурсы!B4","v":"Дорожный рабочий 2 разряда"},"чел.-ч",38.869999999999997,{"$f":"ОКРУГЛВСЕ(IF(E474=\"\",0,E474)*IF(F472=\"\",0,F472),11)","v":0.19434999999999999},{"$f":"Ресурсы!D4","v":100.57},{"$f":"ROUND(IF(F474=\"\",0,F474)*IF(G474=\"\",0,G474),0)","v":20},"s","Г",null,null,{"$f":"Ресурсы!C4","v":7.8},{"$f":"ROUND(IF(F474=\"\",0,F474)*IF(M474=\"\",0,M474),0)","v":2}]
["23. 3.",{"$f":"ПОЛУЧШИФР(Ресурсы!A5,1)","v":"0-4003"},{"$f":"Ресурсы!B5","v":"Дорожный рабочий 3 разряда"},"чел.-ч",12.96,{"$f":"ОКРУГЛВСЕ(IF(E475=\"\",0,E475)*IF(F472=\"\",0,F472),11)","v":6.4799999999999996E-2},{"$f":"Ресурсы!D5","v":109.94},{"$f":"ROUND(IF(F475=\"\",0,F475)*IF(G475=\"\",0,G475),0)","v":7},"s","Г",null,null,{"$f":"Ресурсы!C5","v":8.5299999999999994},{"$f":"ROUND(IF(F475=\"\",0,F475)*IF(M475=\"\",0,M475),0)","v":1}]
["23. 4.",{"$f":"ПОЛУЧШИФР(Ресурсы!A6,1)","v":"0-4004"},{"$f":"Ресурсы!B6","v":"Дорожный рабочий 4 разряда"},"чел.-ч",38.869999999999997,{"$f":"ОКРУГЛВСЕ(IF(E476=\"\",0,E476)*IF(F472=\"\",0,F472),11)","v":0.19434999999999999},{"$f":"Ресурсы!D6","v":124.02},{"$f":"ROUND(IF(F476=\"\",0,F476)*IF(G476=\"\",0,G476),0)","v":24},"s","Г",null,null,{"$f":"Ресурсы!C6","v":9.6199999999999992},{"$f":"ROUND(IF(F476=\"\",0,F476)*IF(M476=\"\",0,M476),0)","v":2}]
["23. 5.",{"$f":"ПОЛУЧШИФР(Ресурсы!A32,1)","v":"СЦЭСМ 021140"},{"$f":"Ресурсы!B32","v":"Краны на автомобильном ходу при работе на других видах строительства 6,3 т"},"маш.-ч",12.96,{"$f":"ОКРУГЛВСЕ(IF(E477=\"\",0,E477)*IF(F472=\"\",0,F472),11)","v":6.4799999999999996E-2},{"$f":"Ресурсы!D32","v":534.98},{"$f":"ROUND(IF(F477=\"\",0,F477)*IF(G477=\"\",0,G477),0)","v":35},"s","IsMash",null,null,{"$f":"Ресурсы!C32","v":88.01},{"$f":"ROUND(IF(F477=\"\",0,F477)*IF(M477=\"\",0,M477),0)","v":6}]
[null,null,null,{"$f":"Ресурсы!G32","v":1},null,null,{"$f":"Ресурсы!F32","v":142.80000000000001},{"$f":"ROUND(IF(F477=\"\",0,F477)*IF(G478=\"\",0,G478),0)","v":9},null,null,"mWithZTM","mWithZPM",{"$f":"Ресурсы!E32","v":11.6},{"$f":"ROUND(IF(F477=\"\",0,F477)*IF(M478=\"\",0,M478),0)","v":1}]
["23. 6.",{"$f":"ПОЛУЧШИФР(Ресурсы!A35,1)","v":"СЦЭСМ 040202"},{"$f":"Ресурсы!B35","v":"Агрегаты сварочные передвижные с номинальным сварочным током 250-400 А с дизельным двигателем"},"маш.-ч",12.96,{"$f":"ОКРУГЛВСЕ(IF(E479=\"\",0,E479)*IF(F472=\"\",0,F472),11)","v":6.4799999999999996E-2},{"$f":"Ресурсы!D35","v":80.34},{"$f":"ROUND(IF(F479=\"\",0,F479)*IF(G479=\"\",0,G479),0)","v":5},"s","IsMash",null,null,{"$f":"Ресурсы!C35","v":14},{"$f":"ROUND(IF(F479=\"\",0,F479)*IF(M479=\"\",0,M479),0)","v":1}]
["23. 7.",{"$f":"ПОЛУЧШИФР(Ресурсы!A42,1)","v":"СЦЭСМ 121550"},{"$f":"Ресурсы!B42","v":"Машины дорожной службы (машина дорожного мастера)"},"маш.-ч",12.96,{"$f":"ОКРУГЛВСЕ(IF(E480=\"\",0,E480)*IF(F472=\"\",0,F472),11)","v":6.4799999999999996E-2},{"$f":"Ресурсы!D42","v":552.54999999999995},{"$f":"ROUND(IF(F480=\"\",0,F480)*IF(G480=\"\",0,G480),0)","v":36},"s","IsMash",null,null,{"$f":"Ресурсы!C42","v":86.5},{"$f":"ROUND(IF(F480=\"\",0,F480)*IF(M480=\"\",0,M480),0)","v":6}]
[null,null,null,{"$f":"Ресурсы!G42","v":1},null,null,{"$f":"Ресурсы!F42","v":149.81},{"$f":"ROUND(IF(F480=\"\",0,F480)*IF(G481=\"\",0,G481),0)","v":10},null,null,"mWithZTM","mWithZPM",{"$f":"Ресурсы!E42","v":11.6},{"$f":"ROUND(IF(F480=\"\",0,F480)*IF(M481=\"\",0,M481),0)","v":1}]
["23. 8.",{"$f":"ПОЛУЧШИФР(Ресурсы!A12,1)","v":"ССЦ 101-1513"},{"$f":"Ресурсы!B12","v":"Электроды диаметром 4 мм Э42"},"т",1.5399999999999999E-3,{"$f":"ОКРУГЛВСЕ(IF(E482=\"\",0,E482)*IF(F472=\"\",0,F472),11)","v":7.7000000000000008E-6},{"$f":"ROUND(Ресурсы!D12*Начисления!AV28,2)","v":52025.919999999998},{"$f":"ROUND(IF(F482=\"\",0,F482)*IF(G482=\"\",0,G482),0)","v":0},"s","IsMater",null,null,{"$f":"ROUND(Ресурсы!C12*Начисления!AV28,2)","v":10315},{"$f":"ROUND(IF(F482=\"\",0,F482)*IF(M482=\"\",0,M482),0)","v":0}]
["23. 9.",{"$f":"ПОЛУЧШИФР(Ресурсы!A17,0)","v":"с101-1977"},{"$f":"Ресурсы!B17","v":"Болты с гайками и шайбами строительные"},"кг",28.6,{"$f":"ОКРУГЛВСЕ(IF(E483=\"\",0,E483)*IF(F472=\"\",0,F472),11)","v":0.14299999999999999},{"$f":"ROUND(Ресурсы!D17*Начисления!AV28,2)","v":45.19},{"$f":"ROUND(IF(F483=\"\",0,F483)*IF(G483=\"\",0,G483),0)","v":6},"s","IsMater",null,null,{"$f":"ROUND(Ресурсы!C17*Начисления!AV28,2)","v":0},{"$f":"ROUND(IF(F483=\"\",0,F483)*IF(M483=\"\",0,M483),0)","v":0}]
[null,null,"Зарплата рабочих",null,null,null,null,51,null,null,null,null,null,4]
[null,null,"Эксплуатация машин",null,null,null,null,76,null,null,null,null,null,12]
[null,null,"в т.ч. зарплата машинистов",null,null,null,null,19,null,null,null,null,null,2]
[null,null,"Материалы",null,null,null,null,7]
[null,null,"в т.ч. Вспомогательные материалы от стоимости материалов"]
[null,null,"в т.ч. Вспомогательные ненормируемые материалы",null,null,null,null,null,"NenormMatOtZPR"]
[null,null,"в т.ч. Ненормированная з.п. рабочих"]
[null,null,"в т.ч. Ненормированная стоимость эксплуатации машин"]
[null,null,"в т.ч. Ненормированная оплата механизаторов"]
[null,null,"Накладные расходы",null,null,null,11.7,{"$f":"IF('Текущие цены с учетом расхода'!N28>0,'Текущие цены с учетом расхода'!N28,IF('Текущие цены с учетом расхода'!N28<0,'Текущие цены с учетом расхода'!N28,\"\"))","v":16},null,"Nakl",null,null,11.7,{"$f":"IF('Базовые цены с учетом расхода'!N28>0,'Базовые цены с учетом расхода'!N28,IF('Базовые цены с учетом расхода'!N28<0,'Базовые цены с учетом расхода'!N28,\"\"))","v":2}]
[null,null,"НР от ЗПР",null,null,null,null,{"$f":"IF('Текущие цены с учетом расхода'!P28>0,'Текущие цены с учетом расхода'!P28,IF('Текущие цены с учетом расхода'!P28<0,'Текущие цены с учетом расхода'!P28,\"\"))","v":""},null,"Nakl_ZPR",null,null,null,{"$f":"IF('Базовые цены с учетом расхода'!P28>0,'Базовые цены с учетом расхода'!P28,IF('Базовые цены с учетом расхода'!P28<0,'Базовые цены с учетом расхода'!P28,\"\"))","v":""}]
[null,null,"НР от ЗПМ",null,null,null,null,{"$f":"IF('Текущие цены с учетом расхода'!Q28>0,'Текущие цены с учетом расхода'!Q28,IF('Текущие цены с учетом расхода'!Q28<0,'Текущие цены с учетом расхода'!Q28,\"\"))","v":""},null,"Nakl_ZPM",null,null,null,{"$f":"IF('Базовые цены с учетом расхода'!Q28>0,'Базовые цены с учетом расхода'!Q28,IF('Базовые цены с учетом расхода'!Q28<0,'Базовые цены с учетом расхода'!Q28,\"\"))","v":""}]
[null,null,"Плановые накопления / Сметная прибыль",null,null,null,8,{"$f":"IF('Текущие цены с учетом расхода'!O28>0,'Текущие цены с учетом расхода'!O28,IF('Текущие цены с учетом расхода'!O28<0,'Текущие цены с учетом расхода'!O28,\"\"))","v":12},null,"Plan",null,null,8,{"$f":"IF('Базовые цены с учетом расхода'!O28>0,'Базовые цены с учетом расхода'!O28,IF('Базовые цены с учетом расхода'!O28<0,'Базовые цены с учетом расхода'!O28,\"\"))","v":1}]
[null,null,"СП от ЗПР",null,null,null,null,{"$f":"IF('Текущие цены с учетом расхода'!R28>0,'Текущие цены с учетом расхода'!R28,IF('Текущие цены с учетом расхода'!R28<0,'Текущие цены с учетом расхода'!R28,\"\"))","v":""},null,"Plan_ZPR",null,null,null,{"$f":"IF('Базовые цены с учетом расхода'!R28>0,'Базовые цены с учетом расхода'!R28,IF('Базовые цены с учетом расхода'!R28<0,'Базовые цены с учетом расхода'!R28,\"\"))","v":""}]
[null,null,"СП от ЗПМ",null,null,null,null,{"$f":"IF('Текущие цены с учетом расхода'!S28>0,'Текущие цены с учетом расхода'!S28,IF('Текущие цены с учетом расхода'!S28<0,'Текущие цены с учетом расхода'!S28,\"\"))","v":""},null,"Plan_ZPM",null,null,null,{"$f":"IF('Базовые цены с учетом расхода'!S28>0,'Базовые цены с учетом расхода'!S28,IF('Базовые цены с учетом расхода'!S28<0,'Базовые цены с учетом расхода'!S28,\"\"))","v":""}]
["24.","ВрСНиРс-04-012-2","Замена отдельных секций металлического барьерного ограждения на металлических стойках","100 м",null,5.0000000000000001E-3,{"$f":"ROUND(СУММПРОИЗВЕСЛИ(1,I499:I509,\"s\",E499:E509,G499:G509,0),2)+SUMIF(I499:I524,\"=NenormMatOtZPR\",G499:G524)","v":24332.53},{"$f":"ROUND(СУММПРОИЗВЕСЛИ(F499,I499:I509,\"s\",E499:E509,G499:G509,0),0)+SUMIF(I499:I524,\"=NenormMatOtZPR\",H499:H524)","v":122},"sum",null,null,null,{"$f":"ROUND(СУММПРОИЗВЕСЛИ(1,I499:I509,\"s\",E499:E509,M499:M509,0),2)+SUMIF(I499:I524,\"=NenormMatOtZPR\",M499:M524)","v":818.29},{"$f":"ROUND(СУММПРОИЗВЕСЛИ(F499,I499:I509,\"s\",E499:E509,M499:M509,0),0)+SUMIF(I499:I524,\"=NenormMatOtZPR\",N499:N524)","v":4}]
["24. 1.","ГЭСН 2","Затраты труда машинистов","чел.-ч",{"$f":"ОКРУГЛВСЕ(СУММПРОИЗВЕСЛИ(1,K499:K509,\"mWithZTM\",D499:D509,E499:E509,-1)+СУММКОЭФПРОЦЕНТЕСЛИ(1,1,K499:K509,\"mWithZTM_Proch\",E499:E509,-1),11)","v":28.38},{"$f":"ОКРУГЛВСЕ(СУММПРОИЗВЕСЛИ(1,K499:K509,\"mWithZTM\",D499:D509,F499:F509,-1)+СУММКОЭФПРОЦЕНТЕСЛИ(1,1,K499:K509,\"mWithZTM_Proch\",F499:F509,-1),11)","v":0.1419},{"$f":"IF(F500=0,0,ROUND(H500/F500,3))","v":147.99199999999999},{"$f":"ROUND(СУММЕСЛИДА1НЕ1(L499:L509,\"mWithZPM\",D499:D509,0,H499:H509),0)","v":21},null,"Ж",null,null,{"$f":"IF(F500=0,0,ROUND(N500/F500,3))","v":7.0469999999999997},{"$f":"ROUND(СУММЕСЛИДА1НЕ1(L499:L509,\"mWithZPM\",D499:D509,0,N499:N509),0)","v":1}]
["24. 2.",{"$f":"ПОЛУЧШИФР(Ресурсы!A7,1)","v":"ГЭСН 2.0"},{"$f":"Ресурсы!B7","v":"Рабочие-строители (средний разряд 2.0)"},"чел.-ч",47.3,{"$f":"ОКРУГЛВСЕ(IF(E501=\"\",0,E501)*IF(F499=\"\",0,F499),11)","v":0.23649999999999999},{"$f":"Ресурсы!D7","v":100.57},{"$f":"ROUND(IF(F501=\"\",0,F501)*IF(G501=\"\",0,G501),0)","v":24},"s","Г",null,null,{"$f":"Ресурсы!C7","v":0},{"$f":"ROUND(IF(F501=\"\",0,F501)*IF(M501=\"\",0,M501),0)","v":0}]
["24. 3.",{"$f":"ПОЛУЧШИФР(Ресурсы!A8,1)","v":"ГЭСН 3.0"},{"$f":"Ресурсы!B8","v":"Рабочие-строители (средний разряд 3.0)"},"чел.-ч",9.4600000000000009,{"$f":"ОКРУГЛВСЕ(IF(E502=\"\",0,E502)*IF(F499=\"\",0,F499),11)","v":4.7300000000000002E-2},{"$f":"Ресурсы!D8","v":109.94},{"$f":"ROUND(IF(F502=\"\",0,F502)*IF(G502=\"\",0,G502),0)","v":5},"s","Г",null,null,{"$f":"Ресурсы!C8","v":0},{"$f":"ROUND(IF(F502=\"\",0,F502)*IF(M502=\"\",0,M502),0)","v":0}]
["24. 4.",{"$f":"ПОЛУЧШИФР(Ресурсы!A9,1)","v":"ГЭСН 4.0"},{"$f":"Ресурсы!B9","v":"Рабочие-строители (средний разряд 4.0)"},"чел.-ч",18.920000000000002,{"$f":"ОКРУГЛВСЕ(IF(E503=\"\",0,E503)*IF(F499=\"\",0,F499),11)","v":9.4600000000000004E-2},{"$f":"Ресурсы!D9","v":124.02},{"$f":"ROUND(IF(F503=\"\",0,F503)*IF(G503=\"\",0,G503),0)","v":12},"s","Г",null,null,{"$f":"Ресурсы!C9","v":0},{"$f":"ROUND(IF(F503=\"\",0,F503)*IF(M503=\"\",0,M503),0)","v":0}]
["24. 5.",{"$f":"ПОЛУЧШИФР(Ресурсы!A33,1)","v":"СЦЭСМ 021140"},{"$f":"Ресурсы!B33","v":"Краны на автомобильном ходу при работе на других видах строительства 6,3 т"},"маш.-ч",18.920000000000002,{"$f":"ОКРУГЛВСЕ(IF(E504=\"\",0,E504)*IF(F499=\"\",0,F499),11)","v":9.4600000000000004E-2},{"$f":"Ресурсы!D33","v":534.98},{"$f":"ROUND(IF(F504=\"\",0,F504)*IF(G504=\"\",0,G504),0)","v":51},"s","IsMash",null,null,{"$f":"Ресурсы!C33","v":0},{"$f":"ROUND(IF(F504=\"\",0,F504)*IF(M504=\"\",0,M504),0)","v":0}]
[null,null,null,{"$f":"Ресурсы!G33","v":1},null,null,{"$f":"Ресурсы!F33","v":142.80000000000001},{"$f":"ROUND(IF(F504=\"\",0,F504)*IF(G505=\"\",0,G505),0)","v":14},null,null,"mWithZTM","mWithZPM",{"$f":"Ресурсы!E33","v":0},{"$f":"ROUND(IF(F504=\"\",0,F504)*IF(M505=\"\",0,M505),0)","v":0}]
["24. 6.",{"$f":"ПОЛУЧШИФР(Ресурсы!A36,1)","v":"СЦЭСМ 040202"},{"$f":"Ресурсы!B36","v":"Агрегаты сварочные передвижные с номинальным сварочным током 250-400 А с дизельным двигателем"},"маш.-ч",9.4600000000000009,{"$f":"ОКРУГЛВСЕ(IF(E506=\"\",0,E506)*IF(F499=\"\",0,F499),11)","v":4.7300000000000002E-2},{"$f":"Ресурсы!D36","v":80.34},{"$f":"ROUND(IF(F506=\"\",0,F506)*IF(G506=\"\",0,G506),0)","v":4},"s","IsMash",null,null,{"$f":"Ресурсы!C36","v":0},{"$f":"ROUND(IF(F506=\"\",0,F506)*IF(M506=\"\",0,M506),0)","v":0}]
["24. 7.",{"$f":"ПОЛУЧШИФР(Ресурсы!A42,1)","v":"СЦЭСМ 121550"},{"$f":"Ресурсы!B42","v":"Машины дорожной службы (машина дорожного мастера)"},"маш.-ч",9.4600000000000009,{"$f":"ОКРУГЛВСЕ(IF(E507=\"\",0,E507)*IF(F499=\"\",0,F499),11)","v":4.7300000000000002E-2},{"$f":"Ресурсы!D42","v":552.54999999999995},{"$f":"ROUND(IF(F507=\"\",0,F507)*IF(G507=\"\",0,G507),0)","v":26},"s","IsMash",null,null,{"$f":"Ресурсы!C42","v":86.5},{"$f":"ROUND(IF(F507=\"\",0,F507)*IF(M507=\"\",0,M507),0)","v":4}]
[null,null,null,{"$f":"Ресурсы!G42","v":1},null,null,{"$f":"Ресурсы!F42","v":149.81},{"$f":"ROUND(IF(F507=\"\",0,F507)*IF(G508=\"\",0,G508),0)","v":7},null,null,"mWithZTM","mWithZPM",{"$f":"Ресурсы!E42","v":11.6},{"$f":"ROUND(IF(F507=\"\",0,F507)*IF(M508=\"\",0,M508),0)","v":1}]
["24. 8.",{"$f":"ПОЛУЧШИФР(Ресурсы!A13,1)","v":"ССЦ 101-1513"},{"$f":"Ресурсы!B13","v":"Электроды диаметром 4 мм Э42"},"т",1.5399999999999999E-3,{"$f":"ОКРУГЛВСЕ(IF(E509=\"\",0,E509)*IF(F499=\"\",0,F499),11)","v":7.7000000000000008E-6},{"$f":"ROUND(Ресурсы!D13*Начисления!AV29,2)","v":52025.919999999998},{"$f":"ROUND(IF(F509=\"\",0,F509)*IF(G509=\"\",0,G509),0)","v":0},"s","IsMater",null,null,{"$f":"ROUND(Ресурсы!C13*Начисления!AV29,2)","v":0},{"$f":"ROUND(IF(F509=\"\",0,F509)*IF(M509=\"\",0,M509),0)","v":0}]
[null,null,"Зарплата рабочих",null,null,null,null,41]
[null,null,"Эксплуатация машин",null,null,null,null,81,null,null,null,null,null,4]
[null,null,"в т.ч. зарплата машинистов",null,null,null,null,21,null,null,null,null,null,1]
[null,null,"Материалы"]
[null,null,"в т.ч. Вспомогательные материалы от стоимости материалов"]
[null,null,"в т.ч. Вспомогательные ненормируемые материалы",null,null,null,null,null,"NenormMatOtZPR"]
[null,null,"в т.ч. Ненормированная з.п. рабочих"]
[null,null,"в т.ч. Ненормированная стоимость эксплуатации машин"]
[null,null,"в т.ч. Ненормированная оплата механизаторов"]
[null,null,"Накладные расходы",null,null,null,11.7,{"$f":"IF('Текущие цены с учетом расхода'!N29>0,'Текущие цены с учетом расхода'!N29,IF('Текущие цены с учетом расхода'!N29<0,'Текущие цены с учетом расхода'!N29,\"\"))","v":14},null,"Nakl",null,null,11.7,{"$f":"IF('Базовые цены с учетом расхода'!N29>0,'Базовые цены с учетом расхода'!N29,IF('Базовые цены с учетом расхода'!N29<0,'Базовые цены с учетом расхода'!N29,\"\"))","v":""}]
[null,null,"НР от ЗПР",null,null,null,null,{"$f":"IF('Текущие цены с учетом расхода'!P29>0,'Текущие цены с учетом расхода'!P29,IF('Текущие цены с учетом расхода'!P29<0,'Текущие цены с учетом расхода'!P29,\"\"))","v":""},null,"Nakl_ZPR",null,null,null,{"$f":"IF('Базовые цены с учетом расхода'!P29>0,'Базовые цены с учетом расхода'!P29,IF('Базовые цены с учетом расхода'!P29<0,'Базовые цены с учетом расхода'!P29,\"\"))","v":""}]
[null,null,"НР от ЗПМ",null,null,null,null,{"$f":"IF('Текущие цены с учетом расхода'!Q29>0,'Текущие цены с учетом расхода'!Q29,IF('Текущие цены с учетом расхода'!Q29<0,'Текущие цены с учетом расхода'!Q29,\"\"))","v":""},null,"Nakl_ZPM",null,null,null,{"$f":"IF('Базовые цены с учетом расхода'!Q29>0,'Базовые цены с учетом расхода'!Q29,IF('Базовые цены с учетом расхода'!Q29<0,'Базовые цены с учетом расхода'!Q29,\"\"))","v":""}]
[null,null,"Плановые накопления / Сметная прибыль",null,null,null,8,{"$f":"IF('Текущие цены с учетом расхода'!O29>0,'Текущие цены с учетом расхода'!O29,IF('Текущие цены с учетом расхода'!O29<0,'Текущие цены с учетом расхода'!O29,\"\"))","v":11},null,"Plan",null,null,8,{"$f":"IF('Базовые цены с учетом расхода'!O29>0,'Базовые цены с учетом расхода'!O29,IF('Базовые цены с учетом расхода'!O29<0,'Базовые цены с учетом расхода'!O29,\"\"))","v":""}]
[null,null,"СП от ЗПР",null,null,null,null,{"$f":"IF('Текущие цены с учетом расхода'!R29>0,'Текущие цены с учетом расхода'!R29,IF('Текущие цены с учетом расхода'!R29<0,'Текущие цены с учетом расхода'!R29,\"\"))","v":""},null,"Plan_ZPR",null,null,null,{"$f":"IF('Базовые цены с учетом расхода'!R29>0,'Базовые цены с учетом расхода'!R29,IF('Базовые цены с учетом расхода'!R29<0,'Базовые цены с учетом расхода'!R29,\"\"))","v":""}]
[null,null,"СП от ЗПМ",null,null,null,null,{"$f":"IF('Текущие цены с учетом расхода'!S29>0,'Текущие цены с учетом расхода'!S29,IF('Текущие цены с учетом расхода'!S29<0,'Текущие цены с учетом расхода'!S29,\"\"))","v":""},null,"Plan_ZPM",null,null,null,{"$f":"IF('Базовые цены с учетом расхода'!S29>0,'Базовые цены с учетом расхода'!S29,IF('Базовые цены с учетом расхода'!S29<0,'Базовые цены с учетом расхода'!S29,\"\"))","v":""}]
["25.","С101-4432","Комплект металлоконструкций барьерного ограждения, марка: 11ДО-2,0-190 кДж У2(СД-1,68 Ш12), огрунтованное","км",null,5.0000000000000001E-4,{"$f":"ROUND(СУММПРОИЗВЕСЛИ(1,I525:I528,\"s\",E525:E528,G525:G528,0),2)+SUMIF(I525:I543,\"=NenormMatOtZPR\",G525:G543)","v":996830.51},{"$f":"ROUND(СУММПРОИЗВЕСЛИ(F525,I525:I528,\"s\",E525:E528,G525:G528,0),0)+SUMIF(I525:I543,\"=NenormMatOtZPR\",H525:H543)","v":498},"sum",null,null,null,{"$f":"ROUND(СУММПРОИЗВЕСЛИ(1,I525:I528,\"s\",E525:E528,M525:M528,0),2)+SUMIF(I525:I543,\"=NenormMatOtZPR\",M525:M543)","v":0},{"$f":"ROUND(СУММПРОИЗВЕСЛИ(F525,I525:I528,\"s\",E525:E528,M525:M528,0),0)+SUMIF(I525:I543,\"=NenormMatOtZPR\",N525:N543)","v":0}]
[null,null,{"$f":"IF(ROUND((0.5/1000)/1,9)=F525,\"Объем: 0.5/1000\",\"\")","v":"Объем: 0.5/1000"}]
["25. 0.","З1000-0001","Затраты труда машинистов","чел.ч",0,0,{"$f":"IF(F527=0,0,ROUND(H527/F527,3))","v":0},null,null,"Ж",null,null,{"$f":"IF(F527=0,0,ROUND(N527/F527,3))","v":0}]
["25. 1.",{"$f":"ПОЛУЧШИФР(Ресурсы!A19,1)","v":"С101-4432"},{"$f":"Ресурсы!B19","v":"Комплект металлоконструкций барьерного ограждения, марка: 11ДО-2,0-190 кДж У2(СД-1,68 Ш12), огрунтованное"},"км",1,{"$f":"ОКРУГЛВСЕ(IF(E528=\"\",0,E528)*IF(F525=\"\",0,F525),11)","v":5.0000000000000001E-4},{"$f":"ROUND(Ресурсы!D19*Начисления!AV30,2)","v":996830.51},{"$f":"ROUND(IF(F528=\"\",0,F528)*IF(G528=\"\",0,G528),0)","v":498},"s","IsMater",null,null,{"$f":"ROUND(Ресурсы!C19*Начисления!AV30,2)","v":0},{"$f":"ROUND(IF(F528=\"\",0,F528)*IF(M528=\"\",0,M528),0)","v":0}]
[null,null,"Зарплата рабочих"]
[null,null,"Эксплуатация машин"]
[null,null,"в т.ч. зарплата машинистов"]
[null,null,"Материалы",null,null,null,null,498]
[null,null,"в т.ч. Вспомогательные материалы от стоимости материалов"]
[null,null,"в т.ч. Вспомогательные ненормируемые материалы",null,null,null,null,null,"NenormMatOtZPR"]
[null,null,"в т.ч. Ненормированная з.п. рабочих"]
[null,null,"в т.ч. Ненормированная стоимость эксплуатации машин"]
[null,null,"в т.ч. Ненормированная оплата механизаторов"]
[null,null,"Накладные расходы",null,null,null,11.7,{"$f":"IF('Текущие цены с учетом расхода'!N30>0,'Текущие цены с учетом расхода'!N30,IF('Текущие цены с учетом расхода'!N30<0,'Текущие цены с учетом расхода'!N30,\"\"))","v":58},null,"Nakl",null,null,null,{"$f":"IF('Базовые цены с учетом расхода'!N30>0,'Базовые цены с учетом расхода'!N30,IF('Базовые цены с учетом расхода'!N30<0,'Базовые цены с учетом расхода'!N30,\"\"))","v":""}]
[null,null,"НР от ЗПР",null,null,null,null,{"$f":"IF('Текущие цены с учетом расхода'!P30>0,'Текущие цены с учетом расхода'!P30,IF('Текущие цены с учетом расхода'!P30<0,'Текущие цены с учетом расхода'!P30,\"\"))","v":""},null,"Nakl_ZPR",null,null,null,{"$f":"IF('Базовые цены с учетом расхода'!P30>0,'Базовые цены с учетом расхода'!P30,IF('Базовые цены с учетом расхода'!P30<0,'Базовые цены с учетом расхода'!P30,\"\"))","v":""}]
[null,null,"НР от ЗПМ",null,null,null,null,{"$f":"IF('Текущие цены с учетом расхода'!Q30>0,'Текущие цены с учетом расхода'!Q30,IF('Текущие цены с учетом расхода'!Q30<0,'Текущие цены с учетом расхода'!Q30,\"\"))","v":""},null,"Nakl_ZPM",null,null,null,{"$f":"IF('Базовые цены с учетом расхода'!Q30>0,'Базовые цены с учетом расхода'!Q30,IF('Базовые цены с учетом расхода'!Q30<0,'Базовые цены с учетом расхода'!Q30,\"\"))","v":""}]
[null,null,"Плановые накопления / Сметная прибыль",null,null,null,8,{"$f":"IF('Текущие цены с учетом расхода'!O30>0,'Текущие цены с учетом расхода'!O30,IF('Текущие цены с учетом расхода'!O30<0,'Текущие цены с учетом расхода'!O30,\"\"))","v":44},null,"Plan",null,null,null,{"$f":"IF('Базовые цены с учетом расхода'!O30>0,'Базовые цены с учетом расхода'!O30,IF('Базовые цены с учетом расхода'!O30<0,'Базовые цены с учетом расхода'!O30,\"\"))","v":""}]
[null,null,"СП от ЗПР",null,null,null,null,{"$f":"IF('Текущие цены с учетом расхода'!R30>0,'Текущие цены с учетом расхода'!R30,IF('Текущие цены с учетом расхода'!R30<0,'Текущие цены с учетом расхода'!R30,\"\"))","v":""},null,"Plan_ZPR",null,null,null,{"$f":"IF('Базовые цены с учетом расхода'!R30>0,'Базовые цены с учетом расхода'!R30,IF('Базовые цены с учетом расхода'!R30<0,'Базовые цены с учетом расхода'!R30,\"\"))","v":""}]
[null,null,"СП от ЗПМ",null,null,null,null,{"$f":"IF('Текущие цены с учетом расхода'!S30>0,'Текущие цены с учетом расхода'!S30,IF('Текущие цены с учетом расхода'!S30<0,'Текущие цены с учетом расхода'!S30,\"\"))","v":""},null,"Plan_ZPM",null,null,null,{"$f":"IF('Базовые цены с учетом расхода'!S30>0,'Базовые цены с учетом расхода'!S30,IF('Базовые цены с учетом расхода'!S30<0,'Базовые цены с учетом расхода'!S30,\"\"))","v":""}]
[null,"9.Автопавильоны"]
["26.","ГЭСНс 01-05-024-01","Очистка автопавильонов и территорий, прилегающих к ним, от мусора, снега и льда","1000 м2",null,3.7999999999999999E-2,{"$f":"ROUND(СУММПРОИЗВЕСЛИ(1,I545:I549,\"s\",E545:E549,G545:G549,0),2)+SUMIF(I545:I564,\"=NenormMatOtZPR\",G545:G564)","v":6034.16},{"$f":"ROUND(СУММПРОИЗВЕСЛИ(F545,I545:I549,\"s\",E545:E549,G545:G549,0),0)+SUMIF(I545:I564,\"=NenormMatOtZPR\",H545:H564)","v":229},"sum",null,null,null,{"$f":"ROUND(СУММПРОИЗВЕСЛИ(1,I545:I549,\"s\",E545:E549,M545:M549,0),2)+SUMIF(I545:I564,\"=NenormMatOtZPR\",M545:M564)","v":695.83},{"$f":"ROUND(СУММПРОИЗВЕСЛИ(F545,I545:I549,\"s\",E545:E549,M545:M549,0),0)+SUMIF(I545:I564,\"=NenormMatOtZPR\",N545:N564)","v":26}]
["26. 1.","2","Затраты труда машинистов","чел.-ч",{"$f":"ОКРУГЛВСЕ(СУММПРОИЗВЕСЛИ(1,K545:K549,\"mWithZTM\",D545:D549,E545:E549,-1)+СУММКОЭФПРОЦЕНТЕСЛИ(1,1,K545:K549,\"mWithZTM_Proch\",E545:E549,-1),11)","v":5.22},{"$f":"ОКРУГЛВСЕ(СУММПРОИЗВЕСЛИ(1,K545:K549,\"mWithZTM\",D545:D549,F545:F549,-1)+СУММКОЭФПРОЦЕНТЕСЛИ(1,1,K545:K549,\"mWithZTM_Proch\",F545:F549,-1),11)","v":0.19836000000000001},{"$f":"IF(F546=0,0,ROUND(H546/F546,3))","v":151.24},{"$f":"ROUND(СУММЕСЛИДА1НЕ1(L545:L549,\"mWithZPM\",D545:D549,0,H545:H549),0)","v":30},null,"Ж",null,null,{"$f":"IF(F546=0,0,ROUND(N546/F546,3))","v":10.083},{"$f":"ROUND(СУММЕСЛИДА1НЕ1(L545:L549,\"mWithZPM\",D545:D549,0,N545:N549),0)","v":2}]
["26. 2.",{"$f":"ПОЛУЧШИФР(Ресурсы!A4,1)","v":"0-4002"},{"$f":"Ресурсы!B4","v":"Дорожный рабочий 2 разряда"},"чел.-ч",31.32,{"$f":"ОКРУГЛВСЕ(IF(E547=\"\",0,E547)*IF(F545=\"\",0,F545),11)","v":1.1901600000000001},{"$f":"Ресурсы!D4","v":100.57},{"$f":"ROUND(IF(F547=\"\",0,F547)*IF(G547=\"\",0,G547),0)","v":120},"s","Г",null,null,{"$f":"Ресурсы!C4","v":7.8},{"$f":"ROUND(IF(F547=\"\",0,F547)*IF(M547=\"\",0,M547),0)","v":9}]
["26. 3.",{"$f":"ПОЛУЧШИФР(Ресурсы!A42,1)","v":"СЦЭСМ 121550"},{"$f":"Ресурсы!B42","v":"Машины дорожной службы (машина дорожного мастера)"},"маш.-ч",5.22,{"$f":"ОКРУГЛВСЕ(IF(E548=\"\",0,E548)*IF(F545=\"\",0,F545),11)","v":0.19836000000000001},{"$f":"Ресурсы!D42","v":552.54999999999995},{"$f":"ROUND(IF(F548=\"\",0,F548)*IF(G548=\"\",0,G548),0)","v":110},"s","IsMash",null,null,{"$f":"Ресурсы!C42","v":86.5},{"$f":"ROUND(IF(F548=\"\",0,F548)*IF(M548=\"\",0,M548),0)","v":17}]
[null,null,null,{"$f":"Ресурсы!G42","v":1},null,null,{"$f":"Ресурсы!F42","v":149.81},{"$f":"ROUND(IF(F548=\"\",0,F548)*IF(G549=\"\",0,G549),0)","v":30},null,null,"mWithZTM","mWithZPM",{"$f":"Ресурсы!E42","v":11.6},{"$f":"ROUND(IF(F548=\"\",0,F548)*IF(M549=\"\",0,M549),0)","v":2}]
[null,null,"Зарплата рабочих",null,null,null,null,120,null,null,null,null,null,9]
[null,null,"Эксплуатация машин",null,null,null,null,110,null,null,null,null,null,17]
[null,null,"в т.ч. зарплата машинистов",null,null,null,null,30,null,null,null,null,null,2]
[null,null,"Материалы"]
[null,null,"в т.ч. Вспомогательные материалы от стоимости материалов"]
[null,null,"в т.ч. Вспомогательные ненормируемые материалы",null,null,null,null,null,"NenormMatOtZPR"]
[null,null,"в т.ч. Ненормированная з.п. рабочих"]
[null,null,"в т.ч. Ненормированная стоимость эксплуатации машин"]
[null,null,"в т.ч. Ненормированная оплата механизаторов"]
[null,null,"Накладные расходы",null,null,null,11.7,{"$f":"IF('Текущие цены с учетом расхода'!N31>0,'Текущие цены с учетом расхода'!N31,IF('Текущие цены с учетом расхода'!N31<0,'Текущие цены с учетом расхода'!N31,\"\"))","v":27},null,"Nakl",null,null,11.7,{"$f":"IF('Базовые цены с учетом расхода'!N31>0,'Базовые цены с учетом расхода'!N31,IF('Базовые цены с учетом расхода'!N31<0,'Базовые цены с учетом расхода'!N31,\"\"))","v":3}]
[null,null,"НР от ЗПР",null,null,null,null,{"$f":"IF('Текущие цены с учетом расхода'!P31>0,'Текущие цены с учетом расхода'!P31,IF('Текущие цены с учетом расхода'!P31<0,'Текущие цены с учетом расхода'!P31,\"\"))","v":""},null,"Nakl_ZPR",null,null,null,{"$f":"IF('Базовые цены с учетом расхода'!P31>0,'Базовые цены с учетом расхода'!P31,IF('Базовые цены с учетом расхода'!P31<0,'Базовые цены с учетом расхода'!P31,\"\"))","v":""}]
[null,null,"НР от ЗПМ",null,null,null,null,{"$f":"IF('Текущие цены с учетом расхода'!Q31>0,'Текущие цены с учетом расхода'!Q31,IF('Текущие цены с учетом расхода'!Q31<0,'Текущие цены с учетом расхода'!Q31,\"\"))","v":""},null,"Nakl_ZPM",null,null,null,{"$f":"IF('Базовые цены с учетом расхода'!Q31>0,'Базовые цены с учетом расхода'!Q31,IF('Базовые цены с учетом расхода'!Q31<0,'Базовые цены с учетом расхода'!Q31,\"\"))","v":""}]
[null,null,"Плановые накопления / Сметная прибыль",null,null,null,8,{"$f":"IF('Текущие цены с учетом расхода'!O31>0,'Текущие цены с учетом расхода'!O31,IF('Текущие цены с учетом расхода'!O31<0,'Текущие цены с учетом расхода'!O31,\"\"))","v":20},null,"Plan",null,null,8,{"$f":"IF('Базовые цены с учетом расхода'!O31>0,'Базовые цены с учетом расхода'!O31,IF('Базовые цены с учетом расхода'!O31<0,'Базовые цены с учетом расхода'!O31,\"\"))","v":2}]
[null,null,"СП от ЗПР",null,null,null,null,{"$f":"IF('Текущие цены с учетом расхода'!R31>0,'Текущие цены с учетом расхода'!R31,IF('Текущие цены с учетом расхода'!R31<0,'Текущие цены с учетом расхода'!R31,\"\"))","v":""},null,"Plan_ZPR",null,null,null,{"$f":"IF('Базовые цены с учетом расхода'!R31>0,'Базовые цены с учетом расхода'!R31,IF('Базовые цены с учетом расхода'!R31<0,'Базовые цены с учетом расхода'!R31,\"\"))","v":""}]
[null,null,"СП от ЗПМ",null,null,null,null,{"$f":"IF('Текущие цены с учетом расхода'!S31>0,'Текущие цены с учетом расхода'!S31,IF('Текущие цены с учетом расхода'!S31<0,'Текущие цены с учетом расхода'!S31,\"\"))","v":""},null,"Plan_ZPM",null,null,null,{"$f":"IF('Базовые цены с учетом расхода'!S31>0,'Базовые цены с учетом расхода'!S31,IF('Базовые цены с учетом расхода'!S31<0,'Базовые цены с учетом расхода'!S31,\"\"))","v":""}]
[null,"10.Остановки и площадки отдыха"]
["27.","ГЭСНс 01-05-023-02","Очистка тротуаров, площадок отдыха и стоянок автомобилей от снега и льда механической щеткой на тракторе 40 кВт (55 л.с.)","1000 м2",null,3.67,{"$f":"ROUND(СУММПРОИЗВЕСЛИ(1,I566:I569,\"s\",E566:E569,G566:G569,0),2)+SUMIF(I566:I584,\"=NenormMatOtZPR\",G566:G584)","v":58},{"$f":"ROUND(СУММПРОИЗВЕСЛИ(F566,I566:I569,\"s\",E566:E569,G566:G569,0),0)+SUMIF(I566:I584,\"=NenormMatOtZPR\",H566:H584)","v":213},"sum",null,null,null,{"$f":"ROUND(СУММПРОИЗВЕСЛИ(1,I566:I569,\"s\",E566:E569,M566:M569,0),2)+SUMIF(I566:I584,\"=NenormMatOtZPR\",M566:M584)","v":9.98},{"$f":"ROUND(СУММПРОИЗВЕСЛИ(F566,I566:I569,\"s\",E566:E569,M566:M569,0),0)+SUMIF(I566:I584,\"=NenormMatOtZPR\",N566:N584)","v":37}]
["27. 1.","2","Затраты труда машинистов","чел.-ч",{"$f":"ОКРУГЛВСЕ(СУММПРОИЗВЕСЛИ(1,K566:K569,\"mWithZTM\",D566:D569,E566:E569,-1)+СУММКОЭФПРОЦЕНТЕСЛИ(1,1,K566:K569,\"mWithZTM_Proch\",E566:E569,-1),11)","v":0.15},{"$f":"ОКРУГЛВСЕ(СУММПРОИЗВЕСЛИ(1,K566:K569,\"mWithZTM\",D566:D569,F566:F569,-1)+СУММКОЭФПРОЦЕНТЕСЛИ(1,1,K566:K569,\"mWithZTM_Proch\",F566:F569,-1),11)","v":0.55049999999999999},{"$f":"IF(F567=0,0,ROUND(H567/F567,3))","v":143.506},{"$f":"ROUND(СУММЕСЛИДА1НЕ1(L566:L569,\"mWithZPM\",D566:D569,0,H566:H569),0)","v":79},null,"Ж",null,null,{"$f":"IF(F567=0,0,ROUND(N567/F567,3))","v":10.898999999999999},{"$f":"ROUND(СУММЕСЛИДА1НЕ1(L566:L569,\"mWithZPM\",D566:D569,0,N566:N569),0)","v":6}]
["27. 2.",{"$f":"ПОЛУЧШИФР(Ресурсы!A31,1)","v":"СЦЭСМ 010409"},{"$f":"Ресурсы!B31","v":"Тракторы на пневмоколесном ходу при работе на других видах строительства 40 кВт (55 л.с.)"},"маш.-ч",0.15,{"$f":"ОКРУГЛВСЕ(IF(E568=\"\",0,E568)*IF(F566=\"\",0,F566),11)","v":0.55049999999999999},{"$f":"Ресурсы!D31","v":386.66},{"$f":"ROUND(IF(F568=\"\",0,F568)*IF(G568=\"\",0,G568),0)","v":213},"s","IsMash",null,null,{"$f":"Ресурсы!C31","v":66.56},{"$f":"ROUND(IF(F568=\"\",0,F568)*IF(M568=\"\",0,M568),0)","v":37}]
[null,null,null,{"$f":"Ресурсы!G31","v":1},null,null,{"$f":"Ресурсы!F31","v":142.80000000000001},{"$f":"ROUND(IF(F568=\"\",0,F568)*IF(G569=\"\",0,G569),0)","v":79},null,null,"mWithZTM","mWithZPM",{"$f":"Ресурсы!E31","v":11.6},{"$f":"ROUND(IF(F568=\"\",0,F568)*IF(M569=\"\",0,M569),0)","v":6}]
[null,null,"Зарплата рабочих"]
[null,null,"Эксплуатация машин",null,null,null,null,213,null,null,null,null,null,37]
[null,null,"в т.ч. зарплата машинистов",null,null,null,null,79,null,null,null,null,null,6]
[null,null,"Материалы"]
[null,null,"в т.ч. Вспомогательные материалы от стоимости материалов"]
[null,null,"в т.ч. Вспомогательные ненормируемые материалы",null,null,null,null,null,"NenormMatOtZPR"]
[null,null,"в т.ч. Ненормированная з.п. рабочих"]
[null,null,"в т.ч. Ненормированная стоимость эксплуатации машин"]
[null,null,"в т.ч. Ненормированная оплата механизаторов"]
[null,null,"Накладные расходы",null,null,null,11.7,{"$f":"IF('Текущие цены с учетом расхода'!N32>0,'Текущие цены с учетом расхода'!N32,IF('Текущие цены с учетом расхода'!N32<0,'Текущие цены с учетом расхода'!N32,\"\"))","v":25},null,"Nakl",null,null,11.7,{"$f":"IF('Базовые цены с учетом расхода'!N32>0,'Базовые цены с учетом расхода'!N32,IF('Базовые цены с учетом расхода'!N32<0,'Базовые цены с учетом расхода'!N32,\"\"))","v":4}]
[null,null,"НР от ЗПР",null,null,null,null,{"$f":"IF('Текущие цены с учетом расхода'!P32>0,'Текущие цены с учетом расхода'!P32,IF('Текущие цены с учетом расхода'!P32<0,'Текущие цены с учетом расхода'!P32,\"\"))","v":""},null,"Nakl_ZPR",null,null,null,{"$f":"IF('Базовые цены с учетом расхода'!P32>0,'Базовые цены с учетом расхода'!P32,IF('Базовые цены с учетом расхода'!P32<0,'Базовые цены с учетом расхода'!P32,\"\"))","v":""}]
[null,null,"НР от ЗПМ",null,null,null,null,{"$f":"IF('Текущие цены с учетом расхода'!Q32>0,'Текущие цены с учетом расхода'!Q32,IF('Текущие цены с учетом расхода'!Q32<0,'Текущие цены с учетом расхода'!Q32,\"\"))","v":""},null,"Nakl_ZPM",null,null,null,{"$f":"IF('Базовые цены с учетом расхода'!Q32>0,'Базовые цены с учетом расхода'!Q32,IF('Базовые цены с учетом расхода'!Q32<0,'Базовые цены с учетом расхода'!Q32,\"\"))","v":""}]
[null,null,"Плановые накопления / Сметная прибыль",null,null,null,8,{"$f":"IF('Текущие цены с учетом расхода'!O32>0,'Текущие цены с учетом расхода'!O32,IF('Текущие цены с учетом расхода'!O32<0,'Текущие цены с учетом расхода'!O32,\"\"))","v":19},null,"Plan",null,null,8,{"$f":"IF('Базовые цены с учетом расхода'!O32>0,'Базовые цены с учетом расхода'!O32,IF('Базовые цены с учетом расхода'!O32<0,'Базовые цены с учетом расхода'!O32,\"\"))","v":3}]
[null,null,"СП от ЗПР",null,null,null,null,{"$f":"IF('Текущие цены с учетом расхода'!R32>0,'Текущие цены с учетом расхода'!R32,IF('Текущие цены с учетом расхода'!R32<0,'Текущие цены с учетом расхода'!R32,\"\"))","v":""},null,"Plan_ZPR",null,null,null,{"$f":"IF('Базовые цены с учетом расхода'!R32>0,'Базовые цены с учетом расхода'!R32,IF('Базовые цены с учетом расхода'!R32<0,'Базовые цены с учетом расхода'!R32,\"\"))","v":""}]
[null,null,"СП от ЗПМ",null,null,null,null,{"$f":"IF('Текущие цены с учетом расхода'!S32>0,'Текущие цены с учетом расхода'!S32,IF('Текущие цены с учетом расхода'!S32<0,'Текущие цены с учетом расхода'!S32,\"\"))","v":""},null,"Plan_ZPM",null,null,null,{"$f":"IF('Базовые цены с учетом расхода'!S32>0,'Базовые цены с учетом расхода'!S32,IF('Базовые цены с учетом расхода'!S32<0,'Базовые цены с учетом расхода'!S32,\"\"))","v":""}]
[]
[null,".    ИТОГО  ПО  СМЕТЕ",null,null,null,null,null,{"$f":"'Текущие концовки'!F7","v":50178},null,null,null,null,null,{"$f":"'Базовые концовки'!F7","v":6190}]
[null,"СТОИМОСТЬ ОБОРУДОВАНИЯ -",null,null,null,null,null,{"$f":"'Текущие концовки'!F8","v":0},null,null,null,null,null,{"$f":"'Базовые концовки'!F8","v":0}]
[null,".   ЗАПАСНЫЕ ЧАСТИ -",null,null,null,null,null,{"$f":"'Текущие концовки'!F9","v":0},null,null,null,null,null,{"$f":"'Базовые концовки'!F9","v":0}]
[null,".   ТАРА И УПАКОВКА -",null,null,null,null,null,{"$f":"'Текущие концовки'!F10","v":0},null,null,null,null,null,{"$f":"'Базовые концовки'!F10","v":0}]
[null,".   ТРАНСПОРТНЫЕ РАСХОДЫ -",null,null,null,null,null,{"$f":"'Текущие концовки'!F11","v":0},null,null,null,null,null,{"$f":"'Базовые концовки'!F11","v":0}]
[null,".   КОМПЛЕКТАЦИЯ -",null,null,null,null,null,{"$f":"'Текущие концовки'!F12","v":0},null,null,null,null,null,{"$f":"'Базовые концовки'!F12","v":0}]
[null,".   НАЦЕНКА СНАБА -",null,null,null,null,null,{"$f":"'Текущие концовки'!F13","v":0},null,null,null,null,null,{"$f":"'Базовые концовки'!F13","v":0}]
[null,".   ЗАГОТОВИТЕЛЬНО-СКЛАДСКИЕ РАСХОДЫ -",null,null,null,null,null,{"$f":"'Текущие концовки'!F14","v":0},null,null,null,null,null,{"$f":"'Базовые концовки'!F14","v":0}]
[null,". ШЕФМОНТАЖ ПО ОБОРУДОВАНИЮ -",null,null,null,null,null,{"$f":"'Текущие концовки'!F15","v":0},null,null,null,null,null,{"$f":"'Базовые концовки'!F15","v":0}]
[null,". ШЕФМОНТАЖ -",null,null,null,null,null,{"$f":"'Текущие концовки'!F16","v":0},null,null,null,null,null,{"$f":"'Базовые концовки'!F16","v":0}]
[null,"ВСЕГО, СТОИМОСТЬ ОБОРУДОВАНИЯ -",null,null,null,null,null,{"$f":"'Текущие концовки'!F17","v":0},null,null,null,null,null,{"$f":"'Базовые концовки'!F17","v":0}]
[null,"СТОИМОСТЬ МОНТАЖНЫХ РАБОТ -",null,null,null,null,null,{"$f":"'Текущие концовки'!F18","v":0},null,null,null,null,null,{"$f":"'Базовые концовки'!F18","v":0}]
[null,".     В ТОМ ЧИСЛЕ:"]
[null,". ОТКЛОНЕНИЕ ПО ЗАРАБОТНОЙ ПЛАТЕ -",null,null,null,null,null,{"$f":"'Текущие концовки'!G20","v":0},null,null,null,null,null,{"$f":"'Базовые концовки'!G20","v":0}]
[null,". КОСВЕННЫЕ РАСХОДЫ -",null,null,null,null,null,{"$f":"'Текущие концовки'!F21","v":0},null,null,null,null,null,{"$f":"'Базовые концовки'!F21","v":0}]
[null,". МАТЕРИАЛЬНЫЕ РЕСУРСЫ НЕ УЧТЕННЫЕ В РАСЦЕНКАХ -",null,null,null,null,null,{"$f":"'Текущие концовки'!F22","v":0},null,null,null,null,null,{"$f":"'Базовые концовки'!F22","v":0}]
[null,".   СТОИМОСТЬ ВОЗВРАЩАЕМЫХ МАТЕРИАЛОВ -",null,null,null,null,null,{"$f":"'Текущие концовки'!F23","v":0},null,null,null,null,null,{"$f":"'Базовые концовки'!F23","v":0}]
[null,".   НАКЛАДНЫЕ РАСХОДЫ -",null,null,null,null,null,{"$f":"'Текущие концовки'!F24","v":0},null,null,null,null,null,{"$f":"'Базовые концовки'!F24","v":0}]
[null,".   СМЕТНАЯ ПРИБЫЛЬ -",null,null,null,null,null,{"$f":"'Текущие концовки'!F25","v":0},null,null,null,null,null,{"$f":"'Базовые концовки'!F25","v":0}]
[null,". ШЕФМОНТАЖ -",null,null,null,null,null,{"$f":"'Текущие концовки'!F26","v":0},null,null,null,null,null,{"$f":"'Базовые концовки'!F26","v":0}]
[null,"ВСЕГО, СТОИМОСТЬ МОНТАЖНЫХ РАБОТ -",null,null,null,null,null,{"$f":"'Текущие концовки'!F27","v":0},null,null,null,null,null,{"$f":"'Базовые концовки'!F27","v":0}]
[null,"СТОИМОСТЬ ОБЩЕСТРОИТЕЛЬНЫХ РАБОТ -",null,null,null,null,null,{"$f":"'Текущие концовки'!F28","v":50178},null,null,null,null,null,{"$f":"'Базовые концовки'!F28","v":6190}]
[null,".     В ТОМ ЧИСЛЕ:"]
[null,".       МАТЕРИАЛОВ -",null,null,null,null,null,{"$f":"'Текущие концовки'!F30","v":0},null,null,null,null,null,{"$f":"'Базовые концовки'!F30","v":0}]
[null,".   СТОИМОСТЬ ВОЗВРАЩАЕМЫХ МАТЕРИАЛОВ -",null,null,null,null,null,{"$f":"'Текущие концовки'!F31","v":0},null,null,null,null,null,{"$f":"'Базовые концовки'!F31","v":0}]
[null,".   НАКЛАДНЫЕ РАСХОДЫ - (%=11.7)",null,null,null,null,null,{"$f":"'Текущие концовки'!F32","v":5871},null,null,null,null,null,{"$f":"'Базовые концовки'!F32","v":723}]
[null,".   СМЕТНАЯ ПРИБЫЛЬ - (%=8)",null,null,null,null,null,{"$f":"'Текущие концовки'!F33","v":4481},null,null,null,null,null,{"$f":"'Базовые концовки'!F33","v":552}]
[null,"ВСЕГО, СТОИМОСТЬ ОБЩЕСТРОИТЕЛЬНЫХ РАБОТ -",null,null,null,null,null,{"$f":"'Текущие концовки'!F34","v":60530},null,null,null,null,null,{"$f":"'Базовые концовки'!F34","v":7465}]
[null,"СТОИМОСТЬ МЕТАЛЛОМОНТАЖНЫХ РАБОТ -",null,null,null,null,null,{"$f":"'Текущие концовки'!F35","v":0},null,null,null,null,null,{"$f":"'Базовые концовки'!F35","v":0}]
[null,".   СТОИМОСТЬ ВОЗВРАЩАЕМЫХ МАТЕРИАЛОВ -",null,null,null,null,null,{"$f":"'Текущие концовки'!F36","v":0},null,null,null,null,null,{"$f":"'Базовые концовки'!F36","v":0}]
[null,".   НАКЛАДНЫЕ РАСХОДЫ -",null,null,null,null,null,{"$f":"'Текущие концовки'!F37","v":0},null,null,null,null,null,{"$f":"'Базовые концовки'!F37","v":0}]
[null,".   СМЕТНАЯ ПРИБЫЛЬ -",null,null,null,null,null,{"$f":"'Текущие концовки'!F38","v":0},null,null,null,null,null,{"$f":"'Базовые концовки'!F38","v":0}]
[null,"ВСЕГО, СТОИМОСТЬ МЕТАЛЛОМОНТАЖНЫХ РАБОТ -",null,null,null,null,null,{"$f":"'Текущие концовки'!F39","v":0},null,null,null,null,null,{"$f":"'Базовые концовки'!F39","v":0}]
[null,"СТОИМОСТЬ САНТЕХНИЧЕСКИХ РАБОТ -",null,null,null,null,null,{"$f":"'Текущие концовки'!F40","v":0},null,null,null,null,null,{"$f":"'Базовые концовки'!F40","v":0}]
[null,".     В ТОМ ЧИСЛЕ:"]
[null,". СДАЧА И ИСПЫТАНИЕ -",null,null,null,null,null,{"$f":"'Текущие концовки'!F42","v":0},null,null,null,null,null,{"$f":"'Базовые концовки'!F42","v":0}]
[null,".   СТОИМОСТЬ ВОЗВРАЩАЕМЫХ МАТЕРИАЛОВ -",null,null,null,null,null,{"$f":"'Текущие концовки'!F43","v":0},null,null,null,null,null,{"$f":"'Базовые концовки'!F43","v":0}]
[null,".   НАКЛАДНЫЕ РАСХОДЫ -",null,null,null,null,null,{"$f":"'Текущие концовки'!F44","v":0},null,null,null,null,null,{"$f":"'Базовые концовки'!F44","v":0}]
[null,".   СМЕТНАЯ ПРИБЫЛЬ -",null,null,null,null,null,{"$f":"'Текущие концовки'!F45","v":0},null,null,null,null,null,{"$f":"'Базовые концовки'!F45","v":0}]
[null,". ШЕФМОНТАЖ -",null,null,null,null,null,{"$f":"'Текущие концовки'!F46","v":0},null,null,null,null,null,{"$f":"'Базовые концовки'!F46","v":0}]
[null,"ВСЕГО, СТОИМОСТЬ САНТЕХНИЧЕСКИХ РАБОТ -",null,null,null,null,null,{"$f":"'Текущие концовки'!F47","v":0},null,null,null,null,null,{"$f":"'Базовые концовки'!F47","v":0}]
[null,"СТОИМОСТЬ БУРО-ВЗРЫВНЫХ РАБОТ -",null,null,null,null,null,{"$f":"'Текущие концовки'!F48","v":0},null,null,null,null,null,{"$f":"'Базовые концовки'!F48","v":0}]
[null,".   СТОИМОСТЬ ВОЗВРАЩАЕМЫХ МАТЕРИАЛОВ -",null,null,null,null,null,{"$f":"'Текущие концовки'!F49","v":0},null,null,null,null,null,{"$f":"'Базовые концовки'!F49","v":0}]
[null,".   НАКЛАДНЫЕ РАСХОДЫ -",null,null,null,null,null,{"$f":"'Текущие концовки'!F50","v":0},null,null,null,null,null,{"$f":"'Базовые концовки'!F50","v":0}]
[null,".   СМЕТНАЯ ПРИБЫЛЬ -",null,null,null,null,null,{"$f":"'Текущие концовки'!F51","v":0},null,null,null,null,null,{"$f":"'Базовые концовки'!F51","v":0}]
[null,"ВСЕГО, СТОИМОСТЬ БУРО-ВЗРЫВНЫХ РАБОТ -",null,null,null,null,null,{"$f":"'Текущие концовки'!F52","v":0},null,null,null,null,null,{"$f":"'Базовые концовки'!F52","v":0}]
[null,"СТОИМОСТЬ ГОРНОПРОХОДЧЕСКИХ РАБОТ -",null,null,null,null,null,{"$f":"'Текущие концовки'!F53","v":0},null,null,null,null,null,{"$f":"'Базовые концовки'!F53","v":0}]
[null,".   СТОИМОСТЬ ВОЗВРАЩАЕМЫХ МАТЕРИАЛОВ -",null,null,null,null,null,{"$f":"'Текущие концовки'!F54","v":0},null,null,null,null,null,{"$f":"'Базовые концовки'!F54","v":0}]
[null,".   НАКЛАДНЫЕ РАСХОДЫ -",null,null,null,null,null,{"$f":"'Текущие концовки'!F55","v":0},null,null,null,null,null,{"$f":"'Базовые концовки'!F55","v":0}]
[null,".   СМЕТНАЯ ПРИБЫЛЬ -",null,null,null,null,null,{"$f":"'Текущие концовки'!F56","v":0},null,null,null,null,null,{"$f":"'Базовые концовки'!F56","v":0}]
[null,"ВСЕГО, СТОИМОСТЬ ГОРНОПРОХОДЧЕСКИХ РАБОТ -",null,null,null,null,null,{"$f":"'Текущие концовки'!F57","v":0},null,null,null,null,null,{"$f":"'Базовые концовки'!F57","v":0}]
[null,"СТОИМОСТЬ РЕСТАВРАЦИОННЫХ РАБОТ -",null,null,null,null,null,{"$f":"'Текущие концовки'!F58","v":0},null,null,null,null,null,{"$f":"'Базовые концовки'!F58","v":0}]
[null,".     В ТОМ ЧИСЛЕ:"]
[null,".       МАТЕРИАЛОВ -",null,null,null,null,null,{"$f":"'Текущие концовки'!F60","v":0},null,null,null,null,null,{"$f":"'Базовые концовки'!F60","v":0}]
[null,".   СТОИМОСТЬ ВОЗВРАЩАЕМЫХ МАТЕРИАЛОВ -",null,null,null,null,null,{"$f":"'Текущие концовки'!F61","v":0},null,null,null,null,null,{"$f":"'Базовые концовки'!F61","v":0}]
[null,".   НАКЛАДНЫЕ РАСХОДЫ -",null,null,null,null,null,{"$f":"'Текущие концовки'!F62","v":0},null,null,null,null,null,{"$f":"'Базовые концовки'!F62","v":0}]
[null,".   СМЕТНАЯ ПРИБЫЛЬ -",null,null,null,null,null,{"$f":"'Текущие концовки'!F63","v":0},null,null,null,null,null,{"$f":"'Базовые концовки'!F63","v":0}]
[null,"ВСЕГО, СТОИМОСТЬ РЕСТАВРАЦИОННЫХ РАБОТ -",null,null,null,null,null,{"$f":"'Текущие концовки'!F64","v":0},null,null,null,null,null,{"$f":"'Базовые концовки'!F64","v":0}]
[null,"СТОИМОСТЬ ПЕРЕВОЗКИ ГРУЗОВ -",null,null,null,null,null,{"$f":"'Текущие концовки'!F65","v":0},null,null,null,null,null,{"$f":"'Базовые концовки'!F65","v":0}]
[null,".   В Т.Ч. НАКЛАДНЫЕ РАСХОДЫ -",null,null,null,null,null,{"$f":"'Текущие концовки'!F66","v":0},null,null,null,null,null,{"$f":"'Базовые концовки'!F66","v":0}]
[null,".   В Т.Ч. СМЕТНАЯ ПРИБЫЛЬ -",null,null,null,null,null,{"$f":"'Текущие концовки'!F67","v":0},null,null,null,null,null,{"$f":"'Базовые концовки'!F67","v":0}]
[null,".   НАКЛАДНЫЕ РАСХОДЫ -",null,null,null,null,null,{"$f":"'Текущие концовки'!F68","v":0},null,null,null,null,null,{"$f":"'Базовые концовки'!F68","v":0}]
[null,".   СМЕТНАЯ ПРИБЫЛЬ -",null,null,null,null,null,{"$f":"'Текущие концовки'!F69","v":0},null,null,null,null,null,{"$f":"'Базовые концовки'!F69","v":0}]
[null,"ВСЕГО, СТОИМОСТЬ ПЕРЕВОЗКИ ГРУЗОВ -",null,null,null,null,null,{"$f":"'Текущие концовки'!F70","v":0},null,null,null,null,null,{"$f":"'Базовые концовки'!F70","v":0}]
[null,"СТОИМОСТЬ ПУСКОНАЛАДОЧНЫХ РАБОТ -",null,null,null,null,null,{"$f":"'Текущие концовки'!F71","v":0},null,null,null,null,null,{"$f":"'Базовые концовки'!F71","v":0}]
[null,".   НАКЛАДНЫЕ РАСХОДЫ -",null,null,null,null,null,{"$f":"'Текущие концовки'!F72","v":0},null,null,null,null,null,{"$f":"'Базовые концовки'!F72","v":0}]
[null,".   СМЕТНАЯ ПРИБЫЛЬ -",null,null,null,null,null,{"$f":"'Текущие концовки'!F73","v":0},null,null,null,null,null,{"$f":"'Базовые концовки'!F73","v":0}]
[null,"ВСЕГО, СТОИМОСТЬ ПУСКОНАЛАДОЧНЫХ РАБОТ -",null,null,null,null,null,{"$f":"'Текущие концовки'!F74","v":0},null,null,null,null,null,{"$f":"'Базовые концовки'!F74","v":0}]
[null,"СТОИМОСТЬ ПРОЧИХ РАБОТ (с НР и СП) -",null,null,null,null,null,{"$f":"'Текущие концовки'!F75","v":0},null,null,null,null,null,{"$f":"'Базовые концовки'!F75","v":0}]
[null,".   СТОИМОСТЬ ВОЗВРАЩАЕМЫХ МАТЕРИАЛОВ -",null,null,null,null,null,{"$f":"'Текущие концовки'!F76","v":0},null,null,null,null,null,{"$f":"'Базовые концовки'!F76","v":0}]
[null,".   НАКЛАДНЫЕ РАСХОДЫ -",null,null,null,null,null,{"$f":"'Текущие концовки'!F77","v":0},null,null,null,null,null,{"$f":"'Базовые концовки'!F77","v":0}]
[null,".   СМЕТНАЯ ПРИБЫЛЬ -",null,null,null,null,null,{"$f":"'Текущие концовки'!F78","v":0},null,null,null,null,null,{"$f":"'Базовые концовки'!F78","v":0}]
[null,"ВСЕГО, СТОИМОСТЬ ПРОЧИХ РАБОТ (с НР и СП) -",null,null,null,null,null,{"$f":"'Текущие концовки'!F79","v":0},null,null,null,null,null,{"$f":"'Базовые концовки'!F79","v":0}]
[null,"ВСЕГО, СТОИМОСТЬ ПРОЧИХ РАБОТ (без НР и СП) -",null,null,null,null,null,{"$f":"'Текущие концовки'!F80","v":0},null,null,null,null,null,{"$f":"'Базовые концовки'!F80","v":0}]
[null,".   СТОИМОСТЬ ВОЗВРАЩАЕМЫХ МАТЕРИАЛОВ -",null,null,null,null,null,{"$f":"'Текущие концовки'!F81","v":0},null,null,null,null,null,{"$f":"'Базовые концовки'!F81","v":0}]
[null,". ВСЕГО  ПО  СМЕТЕ",null,null,null,null,null,{"$f":"'Текущие концовки'!F82","v":60530},null,null,null,null,null,{"$f":"'Базовые концовки'!F82","v":7465}]
[null,"ВСЕГО СТОИМОСТЬ ВОЗВРАЩАЕМЫХ МАТЕРИАЛОВ -",null,null,null,null,null,{"$f":"'Текущие концовки'!F83","v":0},null,null,null,null,null,{"$f":"'Базовые концовки'!F83","v":0}]
[null,"ВСЕГО НАКЛАДНЫЕ РАСХОДЫ",null,null,null,null,null,{"$f":"'Текущие концовки'!F84","v":5871},null,null,null,null,null,{"$f":"'Базовые концовки'!F84","v":723}]
[null,"ВСЕГО СМЕТНАЯ ПРИБЫЛЬ",null,null,null,null,null,{"$f":"'Текущие концовки'!F85","v":4481},null,null,null,null,null,{"$f":"'Базовые концовки'!F85","v":552}]
[null,"НАКЛАДНЫЕ РАСХОДЫ 11,7% от прямых затрат",null,null,null,null,11.7,{"$f":"'Текущие концовки'!F86","v":5871},null,null,null,null,11.7,{"$f":"'Базовые концовки'!F86","v":724}]
[null,"в т.ч. Вспомогательные материалы от стоимости материалов",null,null,null,null,null,{"$f":"'Текущие концовки'!F87","v":0},null,null,null,null,null,{"$f":"'Базовые концовки'!F87","v":0}]
[null,"в т.ч. Вспомогательные материалы от ОЗП",null,null,null,null,null,{"$f":"'Текущие концовки'!F88","v":0},null,null,null,null,null,{"$f":"'Базовые концовки'!F88","v":0}]
[null,"Оплата основных рабочих",null,null,null,null,null,{"$f":"'Текущие концовки'!F89","v":564},null,null,null,null,null,{"$f":"'Базовые концовки'!F89","v":42}]
[null,"Оплата механизаторов",null,null,null,null,null,{"$f":"'Текущие концовки'!F90","v":6194},null,null,null,null,null,{"$f":"'Базовые концовки'!F90","v":463}]
[null,"Сметная заработная плата",null,null,null,null,null,{"$f":"'Текущие концовки'!F91","v":6758},null,null,null,null,null,{"$f":"'Базовые концовки'!F91","v":505}]
[null,"Трудозатраты осн. рабочих",null,null,null,null,null,{"$f":"'Текущие концовки'!J92","v":5.3492620000000004},null,null,null,null,null,{"$f":"'Базовые концовки'!J92","v":5.3492620000000004}]
[null,"Трудозатраты механизаторов",null,null,null,null,null,{"$f":"'Текущие концовки'!J93","v":36.291781999999998},null,null,null,null,null,{"$f":"'Базовые концовки'!J93","v":36.291781999999998}]
[null,"Нормативная трудоемкость",null,null,null,null,null,{"$f":"'Текущие концовки'!J94","v":41.641044000000001},null,null,null,null,null,{"$f":"'Базовые концовки'!J94","v":41.641044000000001}]
[null,"ИТОГО  С  НР",null,null,null,null,null,{"$f":"'Текущие концовки'!F95","v":56049},null,null,null,null,null,{"$f":"'Базовые концовки'!F95","v":6914}]
[null,"СМЕТНАЯ ПРИБЫЛЬ 8% от прямых затрат + НР",null,null,null,null,8,{"$f":"'Текущие концовки'!F96","v":4484},null,null,null,null,8,{"$f":"'Базовые концовки'!F96","v":553}]
[null,"ИТОГО  С  НР  И  СП в уровне цен 3 квартала 2013 года",null,null,null,null,null,{"$f":"'Текущие концовки'!F97","v":60533},null,null,null,null,null,{"$f":"'Базовые концовки'!F97","v":7467}]
[null,"НДС 18%",null,null,null,null,18,{"$f":"'Текущие концовки'!F98","v":10896},null,null,null,null,18,{"$f":"'Базовые концовки'!F98","v":1344}]
[null,".   ВСЕГО ПО СМЕТЕ в ценах 2013 года с НДС",null,null,null,null,null,{"$f":"'Текущие концовки'!F99","v":71429},null,null,null,null,null,{"$f":"'Базовые концовки'!F99","v":8811}]
[null,"Сметная заработная плата",null,null,null,null,null,{"$f":"'Текущие концовки'!F100","v":6758},null,null,null,null,null,{"$f":"'Базовые концовки'!F100","v":505}]
[null,"Сметная стоимость материалов",null,null,null,null,null,{"$f":"'Текущие концовки'!F101","v":11730},null,null,null,null,null,{"$f":"'Базовые концовки'!F101","v":60}]
[null,"Сметная стоимость материалов с НДС 18%",null,null,null,null,1.18,{"$f":"'Текущие концовки'!F102","v":13841},null,null,null,null,1.18,{"$f":"'Базовые концовки'!F102","v":71}]
[null,"Стоимость эксплуатации машин",null,null,null,null,null,{"$f":"'Текущие концовки'!F103","v":37887},null,null,null,null,null,{"$f":"'Базовые концовки'!F103","v":6090}]
[null,"Стоимость эксплуатации машин без зарплаты механизаторов",null,null,null,null,null,{"$f":"'Текущие концовки'!F104","v":31693},null,null,null,null,null,{"$f":"'Базовые концовки'!F104","v":5627}]
[null,"Стоимость эксплуатации машин без зар-ты механизаторов с НДС",null,null,null,null,1.18,{"$f":"'Текущие концовки'!F105","v":37398},null,null,null,null,1.18,{"$f":"'Базовые концовки'!F105","v":6640}]
[null,"ИТОГО ПО СМЕТЕ",null,null,null,null,null,{"$f":"'Текущие концовки'!F106","v":57997},null,null,null,null,null,{"$f":"'Базовые концовки'!F106","v":7216}]
[null,"ВСЕГО НАКЛАДНЫЕ РАСХОДЫ с К=0,94",null,null,null,null,0.94,{"$f":"'Текущие концовки'!F107","v":5519},null,null,null,null,0.94,{"$f":"'Базовые концовки'!F107","v":681}]
[null,"ВСЕГО СМЕТНАЯ ПРИБЫЛЬ с К=0,9",null,null,null,null,0.9,{"$f":"'Текущие концовки'!F108","v":4036},null,null,null,null,0.9,{"$f":"'Базовые концовки'!F108","v":498}]
[null,".   ВСЕГО ПО СМЕТЕ в ценах 3 квартала 2013 года",null,null,null,null,null,{"$f":"'Текущие концовки'!F109","v":67552},null,null,null,null,null,{"$f":"'Базовые концовки'!F109","v":8395}]
[]
[null,"Составил:"]
[null,null,"(должность, подпись, Ф.И.О)"]
[]
[null,"Проверил:"]
[null,null,"(должность, подпись, Ф.И.О)"]

{"sheet":"Ресурсы","index":1,"n_rows":44,"n_cols":8,"rows_kept":44,"cut":false,"hidden":false,"merged":[[0,7,1,7],[0,0,1,0],[0,1,1,1],[0,2,0,3],[0,4,0,5],[0,6,1,6]]}
["Шифр","Наименование","Цена за единицу",null,"В том числе",null,"Кол-во механизаторов","Tag"]
[null,null,"базовая","текущая","базовая","текущая"]
["0-4001","Дорожный рабочий 1 разряда",7.19,92.69,null,null,0,"0"]
["0-4002","Дорожный рабочий 2 разряда",7.8,100.57,null,null,0,"0"]
["0-4003","Дорожный рабочий 3 разряда",8.5299999999999994,109.94,null,null,0,"0"]
["0-4004","Дорожный рабочий 4 разряда",9.6199999999999992,124.02,null,null,0,"0"]
["ГЭСН 2.0","Рабочие-строители (средний разряд 2.0)",null,100.57,null,null,0,"0"]
["ГЭСН 3.0","Рабочие-строители (средний разряд 3.0)",null,109.94,null,null,0,"0"]
["ГЭСН 4.0","Рабочие-строители (средний разряд 4.0)",null,124.02,null,null,0,"0"]
["2","Затраты труда машинистов"]
["С101-1305","Портландцемент общестроительного назначения бездобавочный, марки: 400",null,3708.31,null,null,0,"0"]
["ССЦ 101-1513","Электроды диаметром 4 мм Э42",10315,52025.919999999998,10066.36,null,0,"0"]
["ССЦ 101-1513","Электроды диаметром 4 мм Э42",null,52025.919999999998,null,null,0,"1"]
["С101-1556","Битумы нефтяные дорожные марки БНД-60/90, БНД-90/130 первый сорт",null,14016.54,null,null,0,"0"]
["ССЦ 101-1579","Пленка для дорожных знаков с покрытием обратной стороны клеевым составом",133601.79999999999,681443.95,130930.81,null,0,"0"]
["ССЦ 101-1805","Гвозди строительные",11978,30959.39,11702.98,null,0,"0"]
["С101-1977","Болты с гайками и шайбами строительные",null,45.19,null,null,0,"0"]
["С101-4289","Знаки дорожные на оцинкованной подоснове со световозвращающей пленкой: предупреждающие, размером 900х900х900 мм, тип 1.1, 1.2, 1.5-1.33",null,1011.86,null,null,0,"0"]
["С101-4432","Комплект металлоконструкций барьерного ограждения, марка: 11ДО-2,0-190 кДж У2(СД-1,68 Ш12), огрунтованное",null,996830.51,null,null,0,"0"]
["ССЦ 102-0085","Бруски обрезные хвойных пород длиной 2-3,75 м, шириной 75-150 мм, толщиной 40-75 мм, III сорта",1100,3464.96,1068.79,null,0,"0"]
["ССЦ 102-0113","Доски обрезные хвойных пород длиной 2-3,75 м, шириной 75-150 мм, толщиной 25 мм, III сорта",1045,3774.49,1017.73,null,0,"0"]
["С113-0277","Концентрат минеральный Галит (соль техническая)",null,1902.88,null,null,0,"0"]
["ССЦ 113-8028","Эмаль ПФ-115 белая",12.27,58.58,12.02,null,0,"0"]
["ССЦ 113-8029","Эмаль ПФ-115 цветная",16.66,67.23,16.309999999999999,null,0,"0"]
["С201-0841","Стойки для дорожных знаков со струбцинами",null,38.450000000000003,null,null,0,"0"]
["С408-0023","Щебень из природного камня для строительных работ марка: 400, фракция 20-40 мм",null,1269.01,null,null,0,"0"]
["С408-0122","Песок природный для строительных работ средний",null,333.75,null,null,0,"0"]
["С408-0124","Песок природный для стрительных работ мелкий",null,141.55000000000001,null,null,0,"0"]
["С410-0074","Щебень черный горячий, фракция 20-25 мм",null,1210.1300000000001,null,null,0,"0"]
["ССЦ 411-0001","Вода",2.44,10.85,0.87,null,0,"0"]
["СЦЭСМ 010409","Тракторы на пневмоколесном ходу при работе на других видах строительства 40 кВт (55 л.с.)",66.56,386.66,11.6,142.80000000000001,1,"0"]
["СЦЭСМ 021140","Краны на автомобильном ходу при работе на других видах строительства 6,3 т",88.01,534.98,11.6,142.80000000000001,1,"0"]
["СЦЭСМ 021140","Краны на автомобильном ходу при работе на других видах строительства 6,3 т",null,534.98,null,142.80000000000001,1,"1"]
["СЦЭСМ 031811","Погрузчики одноковшовые универсальные фронтальные пневмоколесные 2 т",85,507.45,11.6,142.80000000000001,1,"0"]
["СЦЭСМ 040202","Агрегаты сварочные передвижные с номинальным сварочным током 250-400 А с дизельным двигателем",14,80.34,null,null,0,"0"]
["СЦЭСМ 040202","Агрегаты сварочные передвижные с номинальным сварочным током 250-400 А с дизельным двигателем",null,80.34,null,null,0,"1"]
["СЦЭСМ 070149","Бульдозеры при работе на других видах строительства 79 кВт (108 л.с.)",80.010000000000005,612,14.4,178,1,"0"]
["СЦЭСМ 070149","Бульдозеры при работе на других видах строительства (кроме водохозяйственного) 79 (108) кВт (л.с.)",null,612,null,178,1,"1"]
["СЦЭСМ 120202","Автогрейдеры среднего типа 99 кВт (135 л.с.)",123,958.4,13.5,166.8,1,"0"]
["СЦЭСМ 121011","Котлы битумные передвижные 400 л",30,158.25,null,null,0,"0"]
["СЦЭСМ 121342","Машины дорожные комбинированные, мощностью от 210 до 270 л.с.",185.95,1117.3399999999999,13.5,174.31,1,"0"]
["СЦЭСМ 121550","Машины дорожной службы (машина дорожного мастера)",86.5,552.54999999999995,11.6,149.81,1,"0"]
["СЦЭСМ 121902","Снегоочистители на автомобиле шнекороторные",311.97000000000003,1680.62,11.6,142.80000000000001,1,"0"]
["СЦЭСМ 400052","Автомобиль-самосвал, грузоподъемность до 10 т",112.47,702,13.5,142.80000000000001,1,"0"]

{"sheet":"Базовые цены за единицу","index":2,"n_rows":32,"n_cols":33,"rows_kept":32,"cut":false,"hidden":false,"merged":[[1,0,1,7],[2,1,2,7],[3,1,3,7],[4,0,4,7]]}
[null,"C1","C2","C3","C4","C5","C6","VOZVR","C8","C9","C10","C11","C12","NAKL","PLAN","NAKL_ZPR","NAKL_ZPM","PLAN_ZPR","PLAN_ZPM","RN11","RN12","RN13",null,"OBORUD_VSPOMOG","NAKL_PN","NAKL_VX","PLAN_PN","PLAN_VX","VTCH_PN","VTCH_VX","MR_BY_ZPR_VSPOMOG","NAKL_INC","PLAN_INC"]
[]
[null,"N = < ГЭСНс * 2015_s * 15_15_зр >"]
[null,"          Автомобильные дороги регионального или межмуниципального значения с автобусным движением с допустимым уровнем содержания  - норматив \"Авт\" (ЗИМНИЕ РАБОТЫ)"]
[]
[{"$f":"'Форма по МДС 81-35.2004'!A16","v":"1."},{"$f":"'Форма по МДС 81-35.2004'!M16","v":148.76},{"$f":"ROUND(СУММПРОИЗВЕСЛИ(1,'Форма по МДС 81-35.2004'!J16:J34,\"Г\",'Форма по МДС 81-35.2004'!E16:E34,'Форма по МДС 81-35.2004'!M16:M34,0),2)","v":0},{"$f":"ROUND(СУММПРОИЗВЕСЛИ(1,'Форма по МДС 81-35.2004'!J16:J34,\"IsMash\",'Форма по МДС 81-35.2004'!E16:E34,'Форма по МДС 81-35.2004'!M16:M34,0),2)","v":148.76},{"$f":"ROUND(СУММПРОИЗВЕСЛИ(1,'Форма по МДС 81-35.2004'!J16:J34,\"Ж\",'Форма по МДС 81-35.2004'!E16:E34,'Форма по МДС 81-35.2004'!M16:M34,0),2)","v":10.83},{"$f":"ROUND(СУММПРОИЗВЕСЛИ(1,'Форма по МДС 81-35.2004'!J16:J34,\"IsMater\",'Форма по МДС 81-35.2004'!E16:E34,'Форма по МДС 81-35.2004'!M16:M34,0),2)","v":0},0,0,{"$f":"ОКРУГЛВСЕ(SUMIF('Форма по МДС 81-35.2004'!J16:J34,\"Г\",'Форма по МДС 81-35.2004'!E16:E34),8)","v":0},0,{"$f":"ОКРУГЛВСЕ(SUMIF('Форма по МДС 81-35.2004'!J16:J34,\"Ж\",'Форма по МДС 81-35.2004'!E16:E34),8)","v":0.8},0,0,17.404920000000001,13.2931936,0,0,0,0,0,0,0,null,0,0,0,0,0,0,0,0]
[{"$f":"'Форма по МДС 81-35.2004'!A35","v":"2."},{"$f":"'Форма по МДС 81-35.2004'!M35","v":196.8},{"$f":"ROUND(СУММПРОИЗВЕСЛИ(1,'Форма по МДС 81-35.2004'!J35:J53,\"Г\",'Форма по МДС 81-35.2004'!E35:E53,'Форма по МДС 81-35.2004'!M35:M53,0),2)","v":0},{"$f":"ROUND(СУММПРОИЗВЕСЛИ(1,'Форма по МДС 81-35.2004'!J35:J53,\"IsMash\",'Форма по МДС 81-35.2004'!E35:E53,'Форма по МДС 81-35.2004'!M35:M53,0),2)","v":196.8},{"$f":"ROUND(СУММПРОИЗВЕСЛИ(1,'Форма по МДС 81-35.2004'!J35:J53,\"Ж\",'Форма по МДС 81-35.2004'!E35:E53,'Форма по МДС 81-35.2004'!M35:M53,0),2)","v":21.25},{"$f":"ROUND(СУММПРОИЗВЕСЛИ(1,'Форма по МДС 81-35.2004'!J35:J53,\"IsMater\",'Форма по МДС 81-35.2004'!E35:E53,'Форма по МДС 81-35.2004'!M35:M53,0),2)","v":0},0,0,{"$f":"ОКРУГЛВСЕ(SUMIF('Форма по МДС 81-35.2004'!J35:J53,\"Г\",'Форма по МДС 81-35.2004'!E35:E53),8)","v":0},0,{"$f":"ОКРУГЛВСЕ(SUMIF('Форма по МДС 81-35.2004'!J35:J53,\"Ж\",'Форма по МДС 81-35.2004'!E35:E53),8)","v":1.6},0,0,23.025600000000001,17.586048000000002,0,0,0,0,0,0,0,null,0,0,0,0,0,0,0,0]
[{"$f":"'Форма по МДС 81-35.2004'!A54","v":"3."},{"$f":"'Форма по МДС 81-35.2004'!M54","v":2205.63},{"$f":"ROUND(СУММПРОИЗВЕСЛИ(1,'Форма по МДС 81-35.2004'!J54:J72,\"Г\",'Форма по МДС 81-35.2004'!E54:E72,'Форма по МДС 81-35.2004'!M54:M72,0),2)","v":0},{"$f":"ROUND(СУММПРОИЗВЕСЛИ(1,'Форма по МДС 81-35.2004'!J54:J72,\"IsMash\",'Форма по МДС 81-35.2004'!E54:E72,'Форма по МДС 81-35.2004'!M54:M72,0),2)","v":2205.63},{"$f":"ROUND(СУММПРОИЗВЕСЛИ(1,'Форма по МДС 81-35.2004'!J54:J72,\"Ж\",'Форма по МДС 81-35.2004'!E54:E72,'Форма по МДС 81-35.2004'!M54:M72,0),2)","v":80},{"$f":"ROUND(СУММПРОИЗВЕСЛИ(1,'Форма по МДС 81-35.2004'!J54:J72,\"IsMater\",'Форма по МДС 81-35.2004'!E54:E72,'Форма по МДС 81-35.2004'!M54:M72,0),2)","v":0},0,0,{"$f":"ОКРУГЛВСЕ(SUMIF('Форма по МДС 81-35.2004'!J54:J72,\"Г\",'Форма по МДС 81-35.2004'!E54:E72),8)","v":0},0,{"$f":"ОКРУГЛВСЕ(SUMIF('Форма по МДС 81-35.2004'!J54:J72,\"Ж\",'Форма по МДС 81-35.2004'!E54:E72),8)","v":7.07},0,0,258.05871000000002,197.09509679999999,0,0,0,0,0,0,0,null,0,0,0,0,0,0,0,0]
[{"$f":"'Форма по МДС 81-35.2004'!A74","v":"4."},{"$f":"'Форма по МДС 81-35.2004'!M74","v":316.83999999999997},{"$f":"ROUND(СУММПРОИЗВЕСЛИ(1,'Форма по МДС 81-35.2004'!J74:J92,\"Г\",'Форма по МДС 81-35.2004'!E74:E92,'Форма по МДС 81-35.2004'!M74:M92,0),2)","v":0},{"$f":"ROUND(СУММПРОИЗВЕСЛИ(1,'Форма по МДС 81-35.2004'!J74:J92,\"IsMash\",'Форма по МДС 81-35.2004'!E74:E92,'Форма по МДС 81-35.2004'!M74:M92,0),2)","v":316.83999999999997},{"$f":"ROUND(СУММПРОИЗВЕСЛИ(1,'Форма по МДС 81-35.2004'!J74:J92,\"Ж\",'Форма по МДС 81-35.2004'!E74:E92,'Форма по МДС 81-35.2004'!M74:M92,0),2)","v":66.67},{"$f":"ROUND(СУММПРОИЗВЕСЛИ(1,'Форма по МДС 81-35.2004'!J74:J92,\"IsMater\",'Форма по МДС 81-35.2004'!E74:E92,'Форма по МДС 81-35.2004'!M74:M92,0),2)","v":0},0,0,{"$f":"ОКРУГЛВСЕ(SUMIF('Форма по МДС 81-35.2004'!J74:J92,\"Г\",'Форма по МДС 81-35.2004'!E74:E92),8)","v":0},0,{"$f":"ОКРУГЛВСЕ(SUMIF('Форма по МДС 81-35.2004'!J74:J92,\"Ж\",'Форма по МДС 81-35.2004'!E74:E92),8)","v":3.96},0,0,37.070279999999997,28.312822400000002,0,0,0,0,0,0,0,null,0,0,0,0,0,0,0,0]
[{"$f":"'Форма по МДС 81-35.2004'!A94","v":"5."},{"$f":"'Форма по МДС 81-35.2004'!M94","v":53.93},{"$f":"ROUND(СУММПРОИЗВЕСЛИ(1,'Форма по МДС 81-35.2004'!J94:J112,\"Г\",'Форма по МДС 81-35.2004'!E94:E112,'Форма по МДС 81-35.2004'!M94:M112,0),2)","v":0},{"$f":"ROUND(СУММПРОИЗВЕСЛИ(1,'Форма по МДС 81-35.2004'!J94:J112,\"IsMash\",'Форма по МДС 81-35.2004'!E94:E112,'Форма по МДС 81-35.2004'!M94:M112,0),2)","v":53.93},{"$f":"ROUND(СУММПРОИЗВЕСЛИ(1,'Форма по МДС 81-35.2004'!J94:J112,\"Ж\",'Форма по МДС 81-35.2004'!E94:E112,'Форма по МДС 81-35.2004'!M94:M112,0),2)","v":3.92},{"$f":"ROUND(СУММПРОИЗВЕСЛИ(1,'Форма по МДС 81-35.2004'!J94:J112,\"IsMater\",'Форма по МДС 81-35.2004'!E94:E112,'Форма по МДС 81-35.2004'!M94:M112,0),2)","v":0},0,0,{"$f":"ОКРУГЛВСЕ(SUMIF('Форма по МДС 81-35.2004'!J94:J112,\"Г\",'Форма по МДС 81-35.2004'!E94:E112),8)","v":0},0,{"$f":"ОКРУГЛВСЕ(SUMIF('Форма по МДС 81-35.2004'!J94:J112,\"Ж\",'Форма по МДС 81-35.2004'!E94:E112),8)","v":0.28999999999999998},0,0,6.3098099999999997,4.8191848000000004,0,0,0,0,0,0,0,null,0,0,0,0,0,0,0,0]
[{"$f":"'Форма по МДС 81-35.2004'!A113","v":"6."},{"$f":"'Форма по МДС 81-35.2004'!M113","v":0},{"$f":"ROUND(СУММПРОИЗВЕСЛИ(1,'Форма по МДС 81-35.2004'!J113:J134,\"Г\",'Форма по МДС 81-35.2004'!E113:E134,'Форма по МДС 81-35.2004'!M113:M134,0),2)","v":0},{"$f":"ROUND(СУММПРОИЗВЕСЛИ(1,'Форма по МДС 81-35.2004'!J113:J134,\"IsMash\",'Форма по МДС 81-35.2004'!E113:E134,'Форма по МДС 81-35.2004'!M113:M134,0),2)","v":0},{"$f":"ROUND(СУММПРОИЗВЕСЛИ(1,'Форма по МДС 81-35.2004'!J113:J134,\"Ж\",'Форма по МДС 81-35.2004'!E113:E134,'Форма по МДС 81-35.2004'!M113:M134,0),2)","v":0},{"$f":"ROUND(СУММПРОИЗВЕСЛИ(1,'Форма по МДС 81-35.2004'!J113:J134,\"IsMater\",'Форма по МДС 81-35.2004'!E113:E134,'Форма по МДС 81-35.2004'!M113:M134,0),2)","v":0},0,0,{"$f":"ОКРУГЛВСЕ(SUMIF('Форма по МДС 81-35.2004'!J113:J134,\"Г\",'Форма по МДС 81-35.2004'!E113:E134),8)","v":0},0,{"$f":"ОКРУГЛВСЕ(SUMIF('Форма по МДС 81-35.2004'!J113:J134,\"Ж\",'Форма по МДС 81-35.2004'!E113:E134),8)","v":7.63},0,0,0,0,0,0,0,0,0,0,0,null,0,0,0,0,0,0,0,0]
[{"$f":"'Форма по МДС 81-35.2004'!A135","v":"7."},{"$f":"'Форма по МДС 81-35.2004'!M135","v":111.57},{"$f":"ROUND(СУММПРОИЗВЕСЛИ(1,'Форма по МДС 81-35.2004'!J135:J153,\"Г\",'Форма по МДС 81-35.2004'!E135:E153,'Форма по МДС 81-35.2004'!M135:M153,0),2)","v":0},{"$f":"ROUND(СУММПРОИЗВЕСЛИ(1,'Форма по МДС 81-35.2004'!J135:J153,\"IsMash\",'Форма по МДС 81-35.2004'!E135:E153,'Форма по МДС 81-35.2004'!M135:M153,0),2)","v":111.57},{"$f":"ROUND(СУММПРОИЗВЕСЛИ(1,'Форма по МДС 81-35.2004'!J135:J153,\"Ж\",'Форма по МДС 81-35.2004'!E135:E153,'Форма по МДС 81-35.2004'!M135:M153,0),2)","v":8},{"$f":"ROUND(СУММПРОИЗВЕСЛИ(1,'Форма по МДС 81-35.2004'!J135:J153,\"IsMater\",'Форма по МДС 81-35.2004'!E135:E153,'Форма по МДС 81-35.2004'!M135:M153,0),2)","v":0},0,0,{"$f":"ОКРУГЛВСЕ(SUMIF('Форма по МДС 81-35.2004'!J135:J153,\"Г\",'Форма по МДС 81-35.2004'!E135:E153),8)","v":0},0,{"$f":"ОКРУГЛВСЕ(SUMIF('Форма по МДС 81-35.2004'!J135:J153,\"Ж\",'Форма по МДС 81-35.2004'!E135:E153),8)","v":0.6},0,0,13.05369,9.9698951999999998,0,0,0,0,0,0,0,null,0,0,0,0,0,0,0,0]
[{"$f":"'Форма по МДС 81-35.2004'!A154","v":"8."},{"$f":"'Форма по МДС 81-35.2004'!M154","v":125.81},{"$f":"ROUND(СУММПРОИЗВЕСЛИ(1,'Форма по МДС 81-35.2004'!J154:J174,\"Г\",'Форма по МДС 81-35.2004'!E154:E174,'Форма по МДС 81-35.2004'!M154:M174,0),2)","v":0},{"$f":"ROUND(СУММПРОИЗВЕСЛИ(1,'Форма по МДС 81-35.2004'!J154:J174,\"IsMash\",'Форма по МДС 81-35.2004'!E154:E174,'Форма по МДС 81-35.2004'!M154:M174,0),2)","v":125.81},{"$f":"ROUND(СУММПРОИЗВЕСЛИ(1,'Форма по МДС 81-35.2004'!J154:J174,\"Ж\",'Форма по МДС 81-35.2004'!E154:E174,'Форма по МДС 81-35.2004'!M154:M174,0),2)","v":9.57},{"$f":"ROUND(СУММПРОИЗВЕСЛИ(1,'Форма по МДС 81-35.2004'!J154:J174,\"IsMater\",'Форма по МДС 81-35.2004'!E154:E174,'Форма по МДС 81-35.2004'!M154:M174,0),2)","v":0},0,0,{"$f":"ОКРУГЛВСЕ(SUMIF('Форма по МДС 81-35.2004'!J154:J174,\"Г\",'Форма по МДС 81-35.2004'!E154:E174),8)","v":0},0,{"$f":"ОКРУГЛВСЕ(SUMIF('Форма по МДС 81-35.2004'!J154:J174,\"Ж\",'Форма по МДС 81-35.2004'!E154:E174),8)","v":0.72},0,0,14.71977,11.2423816,0,0,0,0,0,0,0,null,0,0,0,0,0,0,0,0]
[{"$f":"'Форма по МДС 81-35.2004'!A175","v":"9."},{"$f":"'Форма по МДС 81-35.2004'!M175","v":53.93},{"$f":"ROUND(СУММПРОИЗВЕСЛИ(1,'Форма по МДС 81-35.2004'!J175:J193,\"Г\",'Форма по МДС 81-35.2004'!E175:E193,'Форма по МДС 81-35.2004'!M175:M193,0),2)","v":0},{"$f":"ROUND(СУММПРОИЗВЕСЛИ(1,'Форма по МДС 81-35.2004'!J175:J193,\"IsMash\",'Форма по МДС 81-35.2004'!E175:E193,'Форма по МДС 81-35.2004'!M175:M193,0),2)","v":53.93},{"$f":"ROUND(СУММПРОИЗВЕСЛИ(1,'Форма по МДС 81-35.2004'!J175:J193,\"Ж\",'Форма по МДС 81-35.2004'!E175:E193,'Форма по МДС 81-35.2004'!M175:M193,0),2)","v":3.91},{"$f":"ROUND(СУММПРОИЗВЕСЛИ(1,'Форма по МДС 81-35.2004'!J175:J193,\"IsMater\",'Форма по МДС 81-35.2004'!E175:E193,'Форма по МДС 81-35.2004'!M175:M193,0),2)","v":0},0,0,{"$f":"ОКРУГЛВСЕ(SUMIF('Форма по МДС 81-35.2004'!J175:J193,\"Г\",'Форма по МДС 81-35.2004'!E175:E193),8)","v":0},0,{"$f":"ОКРУГЛВСЕ(SUMIF('Форма по МДС 81-35.2004'!J175:J193,\"Ж\",'Форма по МДС 81-35.2004'!E175:E193),8)","v":0.28999999999999998},0,0,6.3098099999999997,4.8191848000000004,0,0,0,0,0,0,0,null,0,0,0,0,0,0,0,0]
[{"$f":"'Форма по МДС 81-35.2004'!A194","v":"10."},{"$f":"'Форма по МДС 81-35.2004'!M194","v":104.55},{"$f":"ROUND(СУММПРОИЗВЕСЛИ(1,'Форма по МДС 81-35.2004'!J194:J212,\"Г\",'Форма по МДС 81-35.2004'!E194:E212,'Форма по МДС 81-35.2004'!M194:M212,0),2)","v":0},{"$f":"ROUND(СУММПРОИЗВЕСЛИ(1,'Форма по МДС 81-35.2004'!J194:J212,\"IsMash\",'Форма по МДС 81-35.2004'!E194:E212,'Форма по МДС 81-35.2004'!M194:M212,0),2)","v":104.55},{"$f":"ROUND(СУММПРОИЗВЕСЛИ(1,'Форма по МДС 81-35.2004'!J194:J212,\"Ж\",'Форма по МДС 81-35.2004'!E194:E212,'Форма по МДС 81-35.2004'!M194:M212,0),2)","v":11.67},{"$f":"ROUND(СУММПРОИЗВЕСЛИ(1,'Форма по МДС 81-35.2004'!J194:J212,\"IsMater\",'Форма по МДС 81-35.2004'!E194:E212,'Форма по МДС 81-35.2004'!M194:M212,0),2)","v":0},0,0,{"$f":"ОКРУГЛВСЕ(SUMIF('Форма по МДС 81-35.2004'!J194:J212,\"Г\",'Форма по МДС 81-35.2004'!E194:E212),8)","v":0},0,{"$f":"ОКРУГЛВСЕ(SUMIF('Форма по МДС 81-35.2004'!J194:J212,\"Ж\",'Форма по МДС 81-35.2004'!E194:E212),8)","v":0.85},0,0,12.23235,9.3425879999999992,0,0,0,0,0,0,0,null,0,0,0,0,0,0,0,0]
[{"$f":"'Форма по МДС 81-35.2004'!A213","v":"11."},{"$f":"'Форма по МДС 81-35.2004'!M213","v":2045.33},{"$f":"ROUND(СУММПРОИЗВЕСЛИ(1,'Форма по МДС 81-35.2004'!J213:J237,\"Г\",'Форма по МДС 81-35.2004'!E213:E237,'Форма по МДС 81-35.2004'!M213:M237,0),2)","v":365.4},{"$f":"ROUND(СУММПРОИЗВЕСЛИ(1,'Форма по МДС 81-35.2004'!J213:J237,\"IsMash\",'Форма по МДС 81-35.2004'!E213:E237,'Форма по МДС 81-35.2004'!M213:M237,0),2)","v":1679.93},{"$f":"ROUND(СУММПРОИЗВЕСЛИ(1,'Форма по МДС 81-35.2004'!J213:J237,\"Ж\",'Форма по МДС 81-35.2004'!E213:E237,'Форма по МДС 81-35.2004'!M213:M237,0),2)","v":181.82},{"$f":"ROUND(СУММПРОИЗВЕСЛИ(1,'Форма по МДС 81-35.2004'!J213:J237,\"IsMater\",'Форма по МДС 81-35.2004'!E213:E237,'Форма по МДС 81-35.2004'!M213:M237,0),2)","v":0},0,0,{"$f":"ОКРУГЛВСЕ(SUMIF('Форма по МДС 81-35.2004'!J213:J237,\"Г\",'Форма по МДС 81-35.2004'!E213:E237),8)","v":43.26},0,{"$f":"ОКРУГЛВСЕ(SUMIF('Форма по МДС 81-35.2004'!J213:J237,\"Ж\",'Форма по МДС 81-35.2004'!E213:E237),8)","v":14.42},0,0,239.30360999999999,182.77068879999999,0,0,0,0,0,0,0,null,0,0,0,0,0,0,0,0]
[{"$f":"'Форма по МДС 81-35.2004'!A238","v":"12."},{"$f":"'Форма по МДС 81-35.2004'!M238","v":347.65},{"$f":"ROUND(СУММПРОИЗВЕСЛИ(1,'Форма по МДС 81-35.2004'!J238:J257,\"Г\",'Форма по МДС 81-35.2004'!E238:E257,'Форма по МДС 81-35.2004'!M238:M257,0),2)","v":0},{"$f":"ROUND(СУММПРОИЗВЕСЛИ(1,'Форма по МДС 81-35.2004'!J238:J257,\"IsMash\",'Форма по МДС 81-35.2004'!E238:E257,'Форма по МДС 81-35.2004'!M238:M257,0),2)","v":347.65},{"$f":"ROUND(СУММПРОИЗВЕСЛИ(1,'Форма по МДС 81-35.2004'!J238:J257,\"Ж\",'Форма по МДС 81-35.2004'!E238:E257,'Форма по МДС 81-35.2004'!M238:M257,0),2)","v":40},{"$f":"ROUND(СУММПРОИЗВЕСЛИ(1,'Форма по МДС 81-35.2004'!J238:J257,\"IsMater\",'Форма по МДС 81-35.2004'!E238:E257,'Форма по МДС 81-35.2004'!M238:M257,0),2)","v":0},0,0,{"$f":"ОКРУГЛВСЕ(SUMIF('Форма по МДС 81-35.2004'!J238:J257,\"Г\",'Форма по МДС 81-35.2004'!E238:E257),8)","v":0},0,{"$f":"ОКРУГЛВСЕ(SUMIF('Форма по МДС 81-35.2004'!J238:J257,\"Ж\",'Форма по МДС 81-35.2004'!E238:E257),8)","v":4.09},0,0,40.675049999999999,31.066004,0,0,0,0,0,0,0,null,0,0,0,0,0,0,0,0]
[{"$f":"'Форма по МДС 81-35.2004'!A258","v":"13."},{"$f":"'Форма по МДС 81-35.2004'!M258","v":433.01},{"$f":"ROUND(СУММПРОИЗВЕСЛИ(1,'Форма по МДС 81-35.2004'!J258:J276,\"Г\",'Форма по МДС 81-35.2004'!E258:E276,'Форма по МДС 81-35.2004'!M258:M276,0),2)","v":0},{"$f":"ROUND(СУММПРОИЗВЕСЛИ(1,'Форма по МДС 81-35.2004'!J258:J276,\"IsMash\",'Форма по МДС 81-35.2004'!E258:E276,'Форма по МДС 81-35.2004'!M258:M276,0),2)","v":433.01},{"$f":"ROUND(СУММПРОИЗВЕСЛИ(1,'Форма по МДС 81-35.2004'!J258:J276,\"Ж\",'Форма по МДС 81-35.2004'!E258:E276,'Форма по МДС 81-35.2004'!M258:M276,0),2)","v":0},{"$f":"ROUND(СУММПРОИЗВЕСЛИ(1,'Форма по МДС 81-35.2004'!J258:J276,\"IsMater\",'Форма по МДС 81-35.2004'!E258:E276,'Форма по МДС 81-35.2004'!M258:M276,0),2)","v":0},0,0,{"$f":"ОКРУГЛВСЕ(SUMIF('Форма по МДС 81-35.2004'!J258:J276,\"Г\",'Форма по МДС 81-35.2004'!E258:E276),8)","v":0},0,{"$f":"ОКРУГЛВСЕ(SUMIF('Форма по МДС 81-35.2004'!J258:J276,\"Ж\",'Форма по МДС 81-35.2004'!E258:E276),8)","v":0},0,0,50.662170000000003,38.6937736,0,0,0,0,0,0,0,null,0,0,0,0,0,0,0,0]
[{"$f":"'Форма по МДС 81-35.2004'!A277","v":"14."},{"$f":"'Форма по МДС 81-35.2004'!M277","v":76.48},{"$f":"ROUND(СУММПРОИЗВЕСЛИ(1,'Форма по МДС 81-35.2004'!J277:J296,\"Г\",'Форма по МДС 81-35.2004'!E277:E296,'Форма по МДС 81-35.2004'!M277:M296,0),2)","v":0},{"$f":"ROUND(СУММПРОИЗВЕСЛИ(1,'Форма по МДС 81-35.2004'!J277:J296,\"IsMash\",'Форма по МДС 81-35.2004'!E277:E296,'Форма по МДС 81-35.2004'!M277:M296,0),2)","v":76.48},{"$f":"ROUND(СУММПРОИЗВЕСЛИ(1,'Форма по МДС 81-35.2004'!J277:J296,\"Ж\",'Форма по МДС 81-35.2004'!E277:E296,'Форма по МДС 81-35.2004'!M277:M296,0),2)","v":0},{"$f":"ROUND(СУММПРОИЗВЕСЛИ(1,'Форма по МДС 81-35.2004'!J277:J296,\"IsMater\",'Форма по МДС 81-35.2004'!E277:E296,'Форма по МДС 81-35.2004'!M277:M296,0),2)","v":0},0,0,{"$f":"ОКРУГЛВСЕ(SUMIF('Форма по МДС 81-35.2004'!J277:J296,\"Г\",'Форма по МДС 81-35.2004'!E277:E296),8)","v":0},0,{"$f":"ОКРУГЛВСЕ(SUMIF('Форма по МДС 81-35.2004'!J277:J296,\"Ж\",'Форма по МДС 81-35.2004'!E277:E296),8)","v":0},0,0,8.9481599999999997,6.8342527999999998,0,0,0,0,0,0,0,null,0,0,0,0,0,0,0,0]
[{"$f":"'Форма по МДС 81-35.2004'!A299","v":"15."},{"$f":"'Форма по МДС 81-35.2004'!M299","v":136.99},{"$f":"ROUND(СУММПРОИЗВЕСЛИ(1,'Форма по МДС 81-35.2004'!J299:J318,\"Г\",'Форма по МДС 81-35.2004'!E299:E318,'Форма по МДС 81-35.2004'!M299:M318,0),2)","v":57.41},{"$f":"ROUND(СУММПРОИЗВЕСЛИ(1,'Форма по МДС 81-35.2004'!J299:J318,\"IsMash\",'Форма по МДС 81-35.2004'!E299:E318,'Форма по МДС 81-35.2004'!M299:M318,0),2)","v":79.58},{"$f":"ROUND(СУММПРОИЗВЕСЛИ(1,'Форма по МДС 81-35.2004'!J299:J318,\"Ж\",'Форма по МДС 81-35.2004'!E299:E318,'Форма по МДС 81-35.2004'!M299:M318,0),2)","v":14.71},{"$f":"ROUND(СУММПРОИЗВЕСЛИ(1,'Форма по МДС 81-35.2004'!J299:J318,\"IsMater\",'Форма по МДС 81-35.2004'!E299:E318,'Форма по МДС 81-35.2004'!M299:M318,0),2)","v":0},0,0,{"$f":"ОКРУГЛВСЕ(SUMIF('Форма по МДС 81-35.2004'!J299:J318,\"Г\",'Форма по МДС 81-35.2004'!E299:E318),8)","v":7.36},0,{"$f":"ОКРУГЛВСЕ(SUMIF('Форма по МДС 81-35.2004'!J299:J318,\"Ж\",'Форма по МДС 81-35.2004'!E299:E318),8)","v":0.92},0,0,16.027830000000002,12.2414264,0,0,0,0,0,0,0,null,0,0,0,0,0,0,0,0]
[{"$f":"'Форма по МДС 81-35.2004'!A319","v":"16."},{"$f":"'Форма по МДС 81-35.2004'!M319","v":7781.58},{"$f":"ROUND(СУММПРОИЗВЕСЛИ(1,'Форма по МДС 81-35.2004'!J319:J339,\"Г\",'Форма по МДС 81-35.2004'!E319:E339,'Форма по МДС 81-35.2004'!M319:M339,0),2)","v":270.60000000000002},{"$f":"ROUND(СУММПРОИЗВЕСЛИ(1,'Форма по МДС 81-35.2004'!J319:J339,\"IsMash\",'Форма по МДС 81-35.2004'!E319:E339,'Форма по МДС 81-35.2004'!M319:M339,0),2)","v":0},{"$f":"ROUND(СУММПРОИЗВЕСЛИ(1,'Форма по МДС 81-35.2004'!J319:J339,\"Ж\",'Форма по МДС 81-35.2004'!E319:E339,'Форма по МДС 81-35.2004'!M319:M339,0),2)","v":0},{"$f":"ROUND(СУММПРОИЗВЕСЛИ(1,'Форма по МДС 81-35.2004'!J319:J339,\"IsMater\",'Форма по МДС 81-35.2004'!E319:E339,'Форма по МДС 81-35.2004'!M319:M339,0),2)","v":7510.99},7315.43,0,{"$f":"ОКРУГЛВСЕ(SUMIF('Форма по МДС 81-35.2004'!J319:J339,\"Г\",'Форма по МДС 81-35.2004'!E319:E339),8)","v":33.39},0,{"$f":"ОКРУГЛВСЕ(SUMIF('Форма по МДС 81-35.2004'!J319:J339,\"Ж\",'Форма по МДС 81-35.2004'!E319:E339),8)","v":0},0,0,910.44485999999995,695.36198879999995,0,0,0,0,0,0,0,null,0,0,0,0,0,0,0,0]
[{"$f":"'Форма по МДС 81-35.2004'!A340","v":"17."},{"$f":"'Форма по МДС 81-35.2004'!M340","v":1561.03},{"$f":"ROUND(СУММПРОИЗВЕСЛИ(1,'Форма по МДС 81-35.2004'!J340:J359,\"Г\",'Форма по МДС 81-35.2004'!E340:E359,'Форма по МДС 81-35.2004'!M340:M359,0),2)","v":366.62},{"$f":"ROUND(СУММПРОИЗВЕСЛИ(1,'Форма по МДС 81-35.2004'!J340:J359,\"IsMash\",'Форма по МДС 81-35.2004'!E340:E359,'Форма по МДС 81-35.2004'!M340:M359,0),2)","v":0},{"$f":"ROUND(СУММПРОИЗВЕСЛИ(1,'Форма по МДС 81-35.2004'!J340:J359,\"Ж\",'Форма по МДС 81-35.2004'!E340:E359,'Форма по МДС 81-35.2004'!M340:M359,0),2)","v":0},{"$f":"ROUND(СУММПРОИЗВЕСЛИ(1,'Форма по МДС 81-35.2004'!J340:J359,\"IsMater\",'Форма по МДС 81-35.2004'!E340:E359,'Форма по МДС 81-35.2004'!M340:M359,0),2)","v":1194.4100000000001},1165,0,{"$f":"ОКРУГЛВСЕ(SUMIF('Форма по МДС 81-35.2004'!J340:J359,\"Г\",'Форма по МДС 81-35.2004'!E340:E359),8)","v":38.11},0,{"$f":"ОКРУГЛВСЕ(SUMIF('Форма по МДС 81-35.2004'!J340:J359,\"Ж\",'Форма по МДС 81-35.2004'!E340:E359),8)","v":0},0,0,182.64051000000001,139.49364080000001,0,0,0,0,0,0,0,null,0,0,0,0,0,0,0,0]
[{"$f":"'Форма по МДС 81-35.2004'!A360","v":"18."},{"$f":"'Форма по МДС 81-35.2004'!M360","v":27.07},{"$f":"ROUND(СУММПРОИЗВЕСЛИ(1,'Форма по МДС 81-35.2004'!J360:J379,\"Г\",'Форма по МДС 81-35.2004'!E360:E379,'Форма по МДС 81-35.2004'!M360:M379,0),2)","v":7.18},{"$f":"ROUND(СУММПРОИЗВЕСЛИ(1,'Форма по МДС 81-35.2004'!J360:J379,\"IsMash\",'Форма по МДС 81-35.2004'!E360:E379,'Форма по МДС 81-35.2004'!M360:M379,0),2)","v":19.899999999999999},{"$f":"ROUND(СУММПРОИЗВЕСЛИ(1,'Форма по МДС 81-35.2004'!J360:J379,\"Ж\",'Форма по МДС 81-35.2004'!E360:E379,'Форма по МДС 81-35.2004'!M360:M379,0),2)","v":0},{"$f":"ROUND(СУММПРОИЗВЕСЛИ(1,'Форма по МДС 81-35.2004'!J360:J379,\"IsMater\",'Форма по МДС 81-35.2004'!E360:E379,'Форма по МДС 81-35.2004'!M360:M379,0),2)","v":0},0,0,{"$f":"ОКРУГЛВСЕ(SUMIF('Форма по МДС 81-35.2004'!J360:J379,\"Г\",'Форма по МДС 81-35.2004'!E360:E379),8)","v":0.92},0,{"$f":"ОКРУГЛВСЕ(SUMIF('Форма по МДС 81-35.2004'!J360:J379,\"Ж\",'Форма по МДС 81-35.2004'!E360:E379),8)","v":0.23},0,0,3.1671900000000002,2.4189752000000002,0,0,0,0,0,0,0,null,0,0,0,0,0,0,0,0]
[{"$f":"'Форма по МДС 81-35.2004'!A380","v":"19."},{"$f":"'Форма по МДС 81-35.2004'!M380","v":50.63},{"$f":"ROUND(СУММПРОИЗВЕСЛИ(1,'Форма по МДС 81-35.2004'!J380:J399,\"Г\",'Форма по МДС 81-35.2004'!E380:E399,'Форма по МДС 81-35.2004'!M380:M399,0),2)","v":21.22},{"$f":"ROUND(СУММПРОИЗВЕСЛИ(1,'Форма по МДС 81-35.2004'!J380:J399,\"IsMash\",'Форма по МДС 81-35.2004'!E380:E399,'Форма по МДС 81-35.2004'!M380:M399,0),2)","v":29.41},{"$f":"ROUND(СУММПРОИЗВЕСЛИ(1,'Форма по МДС 81-35.2004'!J380:J399,\"Ж\",'Форма по МДС 81-35.2004'!E380:E399,'Форма по МДС 81-35.2004'!M380:M399,0),2)","v":0},{"$f":"ROUND(СУММПРОИЗВЕСЛИ(1,'Форма по МДС 81-35.2004'!J380:J399,\"IsMater\",'Форма по МДС 81-35.2004'!E380:E399,'Форма по МДС 81-35.2004'!M380:M399,0),2)","v":0},0,0,{"$f":"ОКРУГЛВСЕ(SUMIF('Форма по МДС 81-35.2004'!J380:J399,\"Г\",'Форма по МДС 81-35.2004'!E380:E399),8)","v":2.72},0,{"$f":"ОКРУГЛВСЕ(SUMIF('Форма по МДС 81-35.2004'!J380:J399,\"Ж\",'Форма по МДС 81-35.2004'!E380:E399),8)","v":0.34},0,0,5.9237099999999998,4.5242968000000001,0,0,0,0,0,0,0,null,0,0,0,0,0,0,0,0]
[{"$f":"'Форма по МДС 81-35.2004'!A402","v":"20."},{"$f":"'Форма по МДС 81-35.2004'!M402","v":68.489999999999995},{"$f":"ROUND(СУММПРОИЗВЕСЛИ(1,'Форма по МДС 81-35.2004'!J402:J421,\"Г\",'Форма по МДС 81-35.2004'!E402:E421,'Форма по МДС 81-35.2004'!M402:M421,0),2)","v":28.7},{"$f":"ROUND(СУММПРОИЗВЕСЛИ(1,'Форма по МДС 81-35.2004'!J402:J421,\"IsMash\",'Форма по МДС 81-35.2004'!E402:E421,'Форма по МДС 81-35.2004'!M402:M421,0),2)","v":39.79},{"$f":"ROUND(СУММПРОИЗВЕСЛИ(1,'Форма по МДС 81-35.2004'!J402:J421,\"Ж\",'Форма по МДС 81-35.2004'!E402:E421,'Форма по МДС 81-35.2004'!M402:M421,0),2)","v":0},{"$f":"ROUND(СУММПРОИЗВЕСЛИ(1,'Форма по МДС 81-35.2004'!J402:J421,\"IsMater\",'Форма по МДС 81-35.2004'!E402:E421,'Форма по МДС 81-35.2004'!M402:M421,0),2)","v":0},0,0,{"$f":"ОКРУГЛВСЕ(SUMIF('Форма по МДС 81-35.2004'!J402:J421,\"Г\",'Форма по МДС 81-35.2004'!E402:E421),8)","v":3.68},0,{"$f":"ОКРУГЛВСЕ(SUMIF('Форма по МДС 81-35.2004'!J402:J421,\"Ж\",'Форма по МДС 81-35.2004'!E402:E421),8)","v":0.46},0,0,8.0133299999999998,6.1202664000000002,0,0,0,0,0,0,0,null,0,0,0,0,0,0,0,0]
[{"$f":"'Форма по МДС 81-35.2004'!A422","v":"21."},{"$f":"'Форма по МДС 81-35.2004'!M422","v":83.38},{"$f":"ROUND(СУММПРОИЗВЕСЛИ(1,'Форма по МДС 81-35.2004'!J422:J441,\"Г\",'Форма по МДС 81-35.2004'!E422:E441,'Форма по МДС 81-35.2004'!M422:M441,0),2)","v":34.94},{"$f":"ROUND(СУММПРОИЗВЕСЛИ(1,'Форма по МДС 81-35.2004'!J422:J441,\"IsMash\",'Форма по МДС 81-35.2004'!E422:E441,'Форма по МДС 81-35.2004'!M422:M441,0),2)","v":48.44},{"$f":"ROUND(СУММПРОИЗВЕСЛИ(1,'Форма по МДС 81-35.2004'!J422:J441,\"Ж\",'Форма по МДС 81-35.2004'!E422:E441,'Форма по МДС 81-35.2004'!M422:M441,0),2)","v":0},{"$f":"ROUND(СУММПРОИЗВЕСЛИ(1,'Форма по МДС 81-35.2004'!J422:J441,\"IsMater\",'Форма по МДС 81-35.2004'!E422:E441,'Форма по МДС 81-35.2004'!M422:M441,0),2)","v":0},0,0,{"$f":"ОКРУГЛВСЕ(SUMIF('Форма по МДС 81-35.2004'!J422:J441,\"Г\",'Форма по МДС 81-35.2004'!E422:E441),8)","v":4.4800000000000004},0,{"$f":"ОКРУГЛВСЕ(SUMIF('Форма по МДС 81-35.2004'!J422:J441,\"Ж\",'Форма по МДС 81-35.2004'!E422:E441),8)","v":0.56000000000000005},0,0,9.7554599999999994,7.4508368000000003,0,0,0,0,0,0,0,null,0,0,0,0,0,0,0,0]
[{"$f":"'Форма по МДС 81-35.2004'!A442","v":"22."},{"$f":"'Форма по МДС 81-35.2004'!M442","v":9081.93},{"$f":"ROUND(СУММПРОИЗВЕСЛИ(1,'Форма по МДС 81-35.2004'!J442:J470,\"Г\",'Форма по МДС 81-35.2004'!E442:E470,'Форма по МДС 81-35.2004'!M442:M470,0),2)","v":2447.21},{"$f":"ROUND(СУММПРОИЗВЕСЛИ(1,'Форма по МДС 81-35.2004'!J442:J470,\"IsMash\",'Форма по МДС 81-35.2004'!E442:E470,'Форма по МДС 81-35.2004'!M442:M470,0),2)","v":6481.45},{"$f":"ROUND(СУММПРОИЗВЕСЛИ(1,'Форма по МДС 81-35.2004'!J442:J470,\"Ж\",'Форма по МДС 81-35.2004'!E442:E470,'Форма по МДС 81-35.2004'!M442:M470,0),2)","v":909.13},{"$f":"ROUND(СУММПРОИЗВЕСЛИ(1,'Форма по МДС 81-35.2004'!J442:J470,\"IsMater\",'Форма по МДС 81-35.2004'!E442:E470,'Форма по МДС 81-35.2004'!M442:M470,0),2)","v":153.27000000000001},148.15,0,{"$f":"ОКРУГЛВСЕ(SUMIF('Форма по МДС 81-35.2004'!J442:J470,\"Г\",'Форма по МДС 81-35.2004'!E442:E470),8)","v":299.72000000000003},0,{"$f":"ОКРУГЛВСЕ(SUMIF('Форма по МДС 81-35.2004'!J442:J470,\"Ж\",'Форма по МДС 81-35.2004'!E442:E470),8)","v":74.930000000000007},0,0,1062.58581,811.5612648,0,0,0,0,0,0,0,null,0,0,0,0,0,0,0,0]
[{"$f":"'Форма по МДС 81-35.2004'!A472","v":"23."},{"$f":"'Форма по МДС 81-35.2004'!M472","v":3246.64},{"$f":"ROUND(СУММПРОИЗВЕСЛИ(1,'Форма по МДС 81-35.2004'!J472:J498,\"Г\",'Форма по МДС 81-35.2004'!E472:E498,'Форма по МДС 81-35.2004'!M472:M498,0),2)","v":787.66},{"$f":"ROUND(СУММПРОИЗВЕСЛИ(1,'Форма по МДС 81-35.2004'!J472:J498,\"IsMash\",'Форма по МДС 81-35.2004'!E472:E498,'Форма по МДС 81-35.2004'!M472:M498,0),2)","v":2443.09},{"$f":"ROUND(СУММПРОИЗВЕСЛИ(1,'Форма по МДС 81-35.2004'!J472:J498,\"Ж\",'Форма по МДС 81-35.2004'!E472:E498,'Форма по МДС 81-35.2004'!M472:M498,0),2)","v":400},{"$f":"ROUND(СУММПРОИЗВЕСЛИ(1,'Форма по МДС 81-35.2004'!J472:J498,\"IsMater\",'Форма по МДС 81-35.2004'!E472:E498,'Форма по МДС 81-35.2004'!M472:M498,0),2)","v":15.89},15.5,0,{"$f":"ОКРУГЛВСЕ(SUMIF('Форма по МДС 81-35.2004'!J472:J498,\"Г\",'Форма по МДС 81-35.2004'!E472:E498),8)","v":90.7},0,{"$f":"ОКРУГЛВСЕ(SUMIF('Форма по МДС 81-35.2004'!J472:J498,\"Ж\",'Форма по МДС 81-35.2004'!E472:E498),8)","v":25.92},0,0,379.85687999999999,290.11975039999999,0,0,0,0,0,0,0,null,0,0,0,0,0,0,0,0]
[{"$f":"'Форма по МДС 81-35.2004'!A499","v":"24."},{"$f":"'Форма по МДС 81-35.2004'!M499","v":818.29},{"$f":"ROUND(СУММПРОИЗВЕСЛИ(1,'Форма по МДС 81-35.2004'!J499:J524,\"Г\",'Форма по МДС 81-35.2004'!E499:E524,'Форма по МДС 81-35.2004'!M499:M524,0),2)","v":0},{"$f":"ROUND(СУММПРОИЗВЕСЛИ(1,'Форма по МДС 81-35.2004'!J499:J524,\"IsMash\",'Форма по МДС 81-35.2004'!E499:E524,'Форма по МДС 81-35.2004'!M499:M524,0),2)","v":818.29},{"$f":"ROUND(СУММПРОИЗВЕСЛИ(1,'Форма по МДС 81-35.2004'!J499:J524,\"Ж\",'Форма по МДС 81-35.2004'!E499:E524,'Форма по МДС 81-35.2004'!M499:M524,0),2)","v":199.99},{"$f":"ROUND(СУММПРОИЗВЕСЛИ(1,'Форма по МДС 81-35.2004'!J499:J524,\"IsMater\",'Форма по МДС 81-35.2004'!E499:E524,'Форма по МДС 81-35.2004'!M499:M524,0),2)","v":0},0,0,{"$f":"ОКРУГЛВСЕ(SUMIF('Форма по МДС 81-35.2004'!J499:J524,\"Г\",'Форма по МДС 81-35.2004'!E499:E524),8)","v":75.680000000000007},0,{"$f":"ОКРУГЛВСЕ(SUMIF('Форма по МДС 81-35.2004'!J499:J524,\"Ж\",'Форма по МДС 81-35.2004'!E499:E524),8)","v":28.38},0,0,95.739930000000001,73.122394400000005,0,0,0,0,0,0,0,null,0,0,0,0,0,0,0,0]
[{"$f":"'Форма по МДС 81-35.2004'!A525","v":"25."},{"$f":"'Форма по МДС 81-35.2004'!M525","v":0},{"$f":"ROUND(СУММПРОИЗВЕСЛИ(1,'Форма по МДС 81-35.2004'!J525:J543,\"Г\",'Форма по МДС 81-35.2004'!E525:E543,'Форма по МДС 81-35.2004'!M525:M543,0),2)","v":0},{"$f":"ROUND(СУММПРОИЗВЕСЛИ(1,'Форма по МДС 81-35.2004'!J525:J543,\"IsMash\",'Форма по МДС 81-35.2004'!E525:E543,'Форма по МДС 81-35.2004'!M525:M543,0),2)","v":0},{"$f":"ROUND(СУММПРОИЗВЕСЛИ(1,'Форма по МДС 81-35.2004'!J525:J543,\"Ж\",'Форма по МДС 81-35.2004'!E525:E543,'Форма по МДС 81-35.2004'!M525:M543,0),2)","v":0},{"$f":"ROUND(СУММПРОИЗВЕСЛИ(1,'Форма по МДС 81-35.2004'!J525:J543,\"IsMater\",'Форма по МДС 81-35.2004'!E525:E543,'Форма по МДС 81-35.2004'!M525:M543,0),2)","v":0},0,0,{"$f":"ОКРУГЛВСЕ(SUMIF('Форма по МДС 81-35.2004'!J525:J543,\"Г\",'Форма по МДС 81-35.2004'!E525:E543),8)","v":0},0,{"$f":"ОКРУГЛВСЕ(SUMIF('Форма по МДС 81-35.2004'!J525:J543,\"Ж\",'Форма по МДС 81-35.2004'!E525:E543),8)","v":0},0,0,0,0,0,0,0,0,0,0,0,null,0,0,0,0,0,0,0,0]
[{"$f":"'Форма по МДС 81-35.2004'!A545","v":"26."},{"$f":"'Форма по МДС 81-35.2004'!M545","v":695.83},{"$f":"ROUND(СУММПРОИЗВЕСЛИ(1,'Форма по МДС 81-35.2004'!J545:J564,\"Г\",'Форма по МДС 81-35.2004'!E545:E564,'Форма по МДС 81-35.2004'!M545:M564,0),2)","v":244.3},{"$f":"ROUND(СУММПРОИЗВЕСЛИ(1,'Форма по МДС 81-35.2004'!J545:J564,\"IsMash\",'Форма по МДС 81-35.2004'!E545:E564,'Форма по МДС 81-35.2004'!M545:M564,0),2)","v":451.53},{"$f":"ROUND(СУММПРОИЗВЕСЛИ(1,'Форма по МДС 81-35.2004'!J545:J564,\"Ж\",'Форма по МДС 81-35.2004'!E545:E564,'Форма по МДС 81-35.2004'!M545:M564,0),2)","v":52.63},{"$f":"ROUND(СУММПРОИЗВЕСЛИ(1,'Форма по МДС 81-35.2004'!J545:J564,\"IsMater\",'Форма по МДС 81-35.2004'!E545:E564,'Форма по МДС 81-35.2004'!M545:M564,0),2)","v":0},0,0,{"$f":"ОКРУГЛВСЕ(SUMIF('Форма по МДС 81-35.2004'!J545:J564,\"Г\",'Форма по МДС 81-35.2004'!E545:E564),8)","v":31.32},0,{"$f":"ОКРУГЛВСЕ(SUMIF('Форма по МДС 81-35.2004'!J545:J564,\"Ж\",'Форма по МДС 81-35.2004'!E545:E564),8)","v":5.22},0,0,81.412109999999998,62.179368799999999,0,0,0,0,0,0,0,null,0,0,0,0,0,0,0,0]
[{"$f":"'Форма по МДС 81-35.2004'!A566","v":"27."},{"$f":"'Форма по МДС 81-35.2004'!M566","v":9.98},{"$f":"ROUND(СУММПРОИЗВЕСЛИ(1,'Форма по МДС 81-35.2004'!J566:J584,\"Г\",'Форма по МДС 81-35.2004'!E566:E584,'Форма по МДС 81-35.2004'!M566:M584,0),2)","v":0},{"$f":"ROUND(СУММПРОИЗВЕСЛИ(1,'Форма по МДС 81-35.2004'!J566:J584,\"IsMash\",'Форма по МДС 81-35.2004'!E566:E584,'Форма по МДС 81-35.2004'!M566:M584,0),2)","v":9.98},{"$f":"ROUND(СУММПРОИЗВЕСЛИ(1,'Форма по МДС 81-35.2004'!J566:J584,\"Ж\",'Форма по МДС 81-35.2004'!E566:E584,'Форма по МДС 81-35.2004'!M566:M584,0),2)","v":1.63},{"$f":"ROUND(СУММПРОИЗВЕСЛИ(1,'Форма по МДС 81-35.2004'!J566:J584,\"IsMater\",'Форма по МДС 81-35.2004'!E566:E584,'Форма по МДС 81-35.2004'!M566:M584,0),2)","v":0},0,0,{"$f":"ОКРУГЛВСЕ(SUMIF('Форма по МДС 81-35.2004'!J566:J584,\"Г\",'Форма по МДС 81-35.2004'!E566:E584),8)","v":0},0,{"$f":"ОКРУГЛВСЕ(SUMIF('Форма по МДС 81-35.2004'!J566:J584,\"Ж\",'Форма по МДС 81-35.2004'!E566:E584),8)","v":0.15},0,0,1.1676599999999999,0.89181279999999996,0,0,0,0,0,0,0,null,0,0,0,0,0,0,0,0]

{"sheet":"Текущие цены за единицу","index":3,"n_rows":32,"n_cols":33,"rows_kept":32,"cut":false,"hidden":false,"merged":[[1,0,1,7],[2,1,2,7],[3,1,3,7],[4,0,4,7]]}
[null,"C1","C2","C3","C4","C5","C6","VOZVR","C8","C9","C10","C11","C12","NAKL","PLAN","NAKL_ZPR","NAKL_ZPM","PLAN_ZPR","PLAN_ZPM","RN11","RN12","RN13",null,"OBORUD_VSPOMOG","NAKL_PN","NAKL_VX","PLAN_PN","PLAN_VX","VTCH_PN","VTCH_VX","MR_BY_ZPR_VSPOMOG","NAKL_INC","PLAN_INC"]
[]
[null,"N = < ГЭСНс * 2015_s * 15_15_зр >"]
[null,"          Автомобильные дороги регионального или межмуниципального значения с автобусным движением с допустимым уровнем содержания  - норматив \"Авт\" (ЗИМНИЕ РАБОТЫ)"]
[]
[{"$f":"'Форма по МДС 81-35.2004'!A16","v":"1."},{"$f":"'Форма по МДС 81-35.2004'!G16","v":893.87},{"$f":"ROUND(СУММПРОИЗВЕСЛИ(1,'Форма по МДС 81-35.2004'!J16:J34,\"Г\",'Форма по МДС 81-35.2004'!E16:E34,'Форма по МДС 81-35.2004'!G16:G34,0),16777275)","v":0},{"$f":"ROUND(СУММПРОИЗВЕСЛИ(1,'Форма по МДС 81-35.2004'!J16:J34,\"IsMash\",'Форма по МДС 81-35.2004'!E16:E34,'Форма по МДС 81-35.2004'!G16:G34,0),16777275)","v":893.87199999999996},{"$f":"ROUND(СУММПРОИЗВЕСЛИ(1,'Форма по МДС 81-35.2004'!J16:J34,\"Ж\",'Форма по МДС 81-35.2004'!E16:E34,'Форма по МДС 81-35.2004'!G16:G34,0),16777275)","v":139.5},{"$f":"ROUND(СУММПРОИЗВЕСЛИ(1,'Форма по МДС 81-35.2004'!J16:J34,\"IsMater\",'Форма по МДС 81-35.2004'!E16:E34,'Форма по МДС 81-35.2004'!G16:G34,0),16777275)","v":0},0,0,{"$f":"ОКРУГЛВСЕ(SUMIF('Форма по МДС 81-35.2004'!J16:J34,\"Г\",'Форма по МДС 81-35.2004'!E16:E34),8)","v":0},0,{"$f":"ОКРУГЛВСЕ(SUMIF('Форма по МДС 81-35.2004'!J16:J34,\"Ж\",'Форма по МДС 81-35.2004'!E16:E34),8)","v":0.8},0,0,104.58279,79.876223199999998,0,0,0,0,0,0,0,null,0,0,0,0,0,0,0,0]
[{"$f":"'Форма по МДС 81-35.2004'!A35","v":"2."},{"$f":"'Форма по МДС 81-35.2004'!G35","v":1533.44},{"$f":"ROUND(СУММПРОИЗВЕСЛИ(1,'Форма по МДС 81-35.2004'!J35:J53,\"Г\",'Форма по МДС 81-35.2004'!E35:E53,'Форма по МДС 81-35.2004'!G35:G53,0),16777275)","v":0},{"$f":"ROUND(СУММПРОИЗВЕСЛИ(1,'Форма по МДС 81-35.2004'!J35:J53,\"IsMash\",'Форма по МДС 81-35.2004'!E35:E53,'Форма по МДС 81-35.2004'!G35:G53,0),16777275)","v":1533.44},{"$f":"ROUND(СУММПРОИЗВЕСЛИ(1,'Форма по МДС 81-35.2004'!J35:J53,\"Ж\",'Форма по МДС 81-35.2004'!E35:E53,'Форма по МДС 81-35.2004'!G35:G53,0),16777275)","v":267.50080000000003},{"$f":"ROUND(СУММПРОИЗВЕСЛИ(1,'Форма по МДС 81-35.2004'!J35:J53,\"IsMater\",'Форма по МДС 81-35.2004'!E35:E53,'Форма по МДС 81-35.2004'!G35:G53,0),16777275)","v":0},0,0,{"$f":"ОКРУГЛВСЕ(SUMIF('Форма по МДС 81-35.2004'!J35:J53,\"Г\",'Форма по МДС 81-35.2004'!E35:E53),8)","v":0},0,{"$f":"ОКРУГЛВСЕ(SUMIF('Форма по МДС 81-35.2004'!J35:J53,\"Ж\",'Форма по МДС 81-35.2004'!E35:E53),8)","v":1.6},0,0,179.41247999999999,137.02819840000001,0,0,0,0,0,0,0,null,0,0,0,0,0,0,0,0]
[{"$f":"'Форма по МДС 81-35.2004'!A54","v":"3."},{"$f":"'Форма по МДС 81-35.2004'!G54","v":11881.98},{"$f":"ROUND(СУММПРОИЗВЕСЛИ(1,'Форма по МДС 81-35.2004'!J54:J72,\"Г\",'Форма по МДС 81-35.2004'!E54:E72,'Форма по МДС 81-35.2004'!G54:G72,0),16777275)","v":0},{"$f":"ROUND(СУММПРОИЗВЕСЛИ(1,'Форма по МДС 81-35.2004'!J54:J72,\"IsMash\",'Форма по МДС 81-35.2004'!E54:E72,'Форма по МДС 81-35.2004'!G54:G72,0),16777275)","v":11881.983399999999},{"$f":"ROUND(СУММПРОИЗВЕСЛИ(1,'Форма по МДС 81-35.2004'!J54:J72,\"Ж\",'Форма по МДС 81-35.2004'!E54:E72,'Форма по МДС 81-35.2004'!G54:G72,0),16777275)","v":1009.99899},{"$f":"ROUND(СУММПРОИЗВЕСЛИ(1,'Форма по МДС 81-35.2004'!J54:J72,\"IsMater\",'Форма по МДС 81-35.2004'!E54:E72,'Форма по МДС 81-35.2004'!G54:G72,0),16777275)","v":0},0,0,{"$f":"ОКРУГЛВСЕ(SUMIF('Форма по МДС 81-35.2004'!J54:J72,\"Г\",'Форма по МДС 81-35.2004'!E54:E72),8)","v":0},0,{"$f":"ОКРУГЛВСЕ(SUMIF('Форма по МДС 81-35.2004'!J54:J72,\"Ж\",'Форма по МДС 81-35.2004'!E54:E72),8)","v":7.07},0,0,1390.19166,1061.7737328000001,0,0,0,0,0,0,0,null,0,0,0,0,0,0,0,0]
[{"$f":"'Форма по МДС 81-35.2004'!A74","v":"4."},{"$f":"'Форма по МДС 81-35.2004'!G74","v":2423.52},{"$f":"ROUND(СУММПРОИЗВЕСЛИ(1,'Форма по МДС 81-35.2004'!J74:J92,\"Г\",'Форма по МДС 81-35.2004'!E74:E92,'Форма по МДС 81-35.2004'!G74:G92,0),16777275)","v":0},{"$f":"ROUND(СУММПРОИЗВЕСЛИ(1,'Форма по МДС 81-35.2004'!J74:J92,\"IsMash\",'Форма по МДС 81-35.2004'!E74:E92,'Форма по МДС 81-35.2004'!G74:G92,0),16777275)","v":2423.52},{"$f":"ROUND(СУММПРОИЗВЕСЛИ(1,'Форма по МДС 81-35.2004'!J74:J92,\"Ж\",'Форма по МДС 81-35.2004'!E74:E92,'Форма по МДС 81-35.2004'!G74:G92,0),16777275)","v":733.33259999999996},{"$f":"ROUND(СУММПРОИЗВЕСЛИ(1,'Форма по МДС 81-35.2004'!J74:J92,\"IsMater\",'Форма по МДС 81-35.2004'!E74:E92,'Форма по МДС 81-35.2004'!G74:G92,0),16777275)","v":0},0,0,{"$f":"ОКРУГЛВСЕ(SUMIF('Форма по МДС 81-35.2004'!J74:J92,\"Г\",'Форма по МДС 81-35.2004'!E74:E92),8)","v":0},0,{"$f":"ОКРУГЛВСЕ(SUMIF('Форма по МДС 81-35.2004'!J74:J92,\"Ж\",'Форма по МДС 81-35.2004'!E74:E92),8)","v":3.96},0,0,283.55184000000003,216.5657472,0,0,0,0,0,0,0,null,0,0,0,0,0,0,0,0]
[{"$f":"'Форма по МДС 81-35.2004'!A94","v":"5."},{"$f":"'Форма по МДС 81-35.2004'!G94","v":324.02999999999997},{"$f":"ROUND(СУММПРОИЗВЕСЛИ(1,'Форма по МДС 81-35.2004'!J94:J112,\"Г\",'Форма по МДС 81-35.2004'!E94:E112,'Форма по МДС 81-35.2004'!G94:G112,0),16777275)","v":0},{"$f":"ROUND(СУММПРОИЗВЕСЛИ(1,'Форма по МДС 81-35.2004'!J94:J112,\"IsMash\",'Форма по МДС 81-35.2004'!E94:E112,'Форма по МДС 81-35.2004'!G94:G112,0),16777275)","v":324.02859999999998},{"$f":"ROUND(СУММПРОИЗВЕСЛИ(1,'Форма по МДС 81-35.2004'!J94:J112,\"Ж\",'Форма по МДС 81-35.2004'!E94:E112,'Форма по МДС 81-35.2004'!G94:G112,0),16777275)","v":50.58325},{"$f":"ROUND(СУММПРОИЗВЕСЛИ(1,'Форма по МДС 81-35.2004'!J94:J112,\"IsMater\",'Форма по МДС 81-35.2004'!E94:E112,'Форма по МДС 81-35.2004'!G94:G112,0),16777275)","v":0},0,0,{"$f":"ОКРУГЛВСЕ(SUMIF('Форма по МДС 81-35.2004'!J94:J112,\"Г\",'Форма по МДС 81-35.2004'!E94:E112),8)","v":0},0,{"$f":"ОКРУГЛВСЕ(SUMIF('Форма по МДС 81-35.2004'!J94:J112,\"Ж\",'Форма по МДС 81-35.2004'!E94:E112),8)","v":0.28999999999999998},0,0,37.91151,28.955320799999999,0,0,0,0,0,0,0,null,0,0,0,0,0,0,0,0]
[{"$f":"'Форма по МДС 81-35.2004'!A113","v":"6."},{"$f":"'Форма по МДС 81-35.2004'!G113","v":57541.62},{"$f":"ROUND(СУММПРОИЗВЕСЛИ(1,'Форма по МДС 81-35.2004'!J113:J134,\"Г\",'Форма по МДС 81-35.2004'!E113:E134,'Форма по МДС 81-35.2004'!G113:G134,0),16777275)","v":0},{"$f":"ROUND(СУММПРОИЗВЕСЛИ(1,'Форма по МДС 81-35.2004'!J113:J134,\"IsMash\",'Форма по МДС 81-35.2004'!E113:E134,'Форма по МДС 81-35.2004'!G113:G134,0),16777275)","v":4669.5600000000004},{"$f":"ROUND(СУММПРОИЗВЕСЛИ(1,'Форма по МДС 81-35.2004'!J113:J134,\"Ж\",'Форма по МДС 81-35.2004'!E113:E134,'Форма по МДС 81-35.2004'!G113:G134,0),16777275)","v":1359.06323},{"$f":"ROUND(СУММПРОИЗВЕСЛИ(1,'Форма по МДС 81-35.2004'!J113:J134,\"IsMater\",'Форма по МДС 81-35.2004'!E113:E134,'Форма по МДС 81-35.2004'!G113:G134,0),16777275)","v":52872.06},0,0,{"$f":"ОКРУГЛВСЕ(SUMIF('Форма по МДС 81-35.2004'!J113:J134,\"Г\",'Форма по МДС 81-35.2004'!E113:E134),8)","v":0},0,{"$f":"ОКРУГЛВСЕ(SUMIF('Форма по МДС 81-35.2004'!J113:J134,\"Ж\",'Форма по МДС 81-35.2004'!E113:E134),8)","v":7.63},0,0,6732.3695399999997,5141.9191632000002,0,0,0,0,0,0,0,null,0,0,0,0,0,0,0,0]
[{"$f":"'Форма по МДС 81-35.2004'!A135","v":"7."},{"$f":"'Форма по МДС 81-35.2004'!G135","v":670.4},{"$f":"ROUND(СУММПРОИЗВЕСЛИ(1,'Форма по МДС 81-35.2004'!J135:J153,\"Г\",'Форма по МДС 81-35.2004'!E135:E153,'Форма по МДС 81-35.2004'!G135:G153,0),16777275)","v":0},{"$f":"ROUND(СУММПРОИЗВЕСЛИ(1,'Форма по МДС 81-35.2004'!J135:J153,\"IsMash\",'Форма по МДС 81-35.2004'!E135:E153,'Форма по МДС 81-35.2004'!G135:G153,0),16777275)","v":670.404},{"$f":"ROUND(СУММПРОИЗВЕСЛИ(1,'Форма по МДС 81-35.2004'!J135:J153,\"Ж\",'Форма по МДС 81-35.2004'!E135:E153,'Форма по МДС 81-35.2004'!G135:G153,0),16777275)","v":103.99979999999999},{"$f":"ROUND(СУММПРОИЗВЕСЛИ(1,'Форма по МДС 81-35.2004'!J135:J153,\"IsMater\",'Форма по МДС 81-35.2004'!E135:E153,'Форма по МДС 81-35.2004'!G135:G153,0),16777275)","v":0},0,0,{"$f":"ОКРУГЛВСЕ(SUMIF('Форма по МДС 81-35.2004'!J135:J153,\"Г\",'Форма по МДС 81-35.2004'!E135:E153),8)","v":0},0,{"$f":"ОКРУГЛВСЕ(SUMIF('Форма по МДС 81-35.2004'!J135:J153,\"Ж\",'Форма по МДС 81-35.2004'!E135:E153),8)","v":0.6},0,0,78.436800000000005,59.906944000000003,0,0,0,0,0,0,0,null,0,0,0,0,0,0,0,0]
[{"$f":"'Форма по МДС 81-35.2004'!A154","v":"8."},{"$f":"'Форма по МДС 81-35.2004'!G154","v":755.69},{"$f":"ROUND(СУММПРОИЗВЕСЛИ(1,'Форма по МДС 81-35.2004'!J154:J174,\"Г\",'Форма по МДС 81-35.2004'!E154:E174,'Форма по МДС 81-35.2004'!G154:G174,0),16777275)","v":0},{"$f":"ROUND(СУММПРОИЗВЕСЛИ(1,'Форма по МДС 81-35.2004'!J154:J174,\"IsMash\",'Форма по МДС 81-35.2004'!E154:E174,'Форма по МДС 81-35.2004'!G154:G174,0),16777275)","v":755.69359999999995},{"$f":"ROUND(СУММПРОИЗВЕСЛИ(1,'Форма по МДС 81-35.2004'!J154:J174,\"Ж\",'Форма по МДС 81-35.2004'!E154:E174,'Форма по МДС 81-35.2004'!G154:G174,0),16777275)","v":122.95728},{"$f":"ROUND(СУММПРОИЗВЕСЛИ(1,'Форма по МДС 81-35.2004'!J154:J174,\"IsMater\",'Форма по МДС 81-35.2004'!E154:E174,'Форма по МДС 81-35.2004'!G154:G174,0),16777275)","v":0},0,0,{"$f":"ОКРУГЛВСЕ(SUMIF('Форма по МДС 81-35.2004'!J154:J174,\"Г\",'Форма по МДС 81-35.2004'!E154:E174),8)","v":0},0,{"$f":"ОКРУГЛВСЕ(SUMIF('Форма по МДС 81-35.2004'!J154:J174,\"Ж\",'Форма по МДС 81-35.2004'!E154:E174),8)","v":0.72},0,0,88.415729999999996,67.528458400000005,0,0,0,0,0,0,0,null,0,0,0,0,0,0,0,0]
[{"$f":"'Форма по МДС 81-35.2004'!A175","v":"9."},{"$f":"'Форма по МДС 81-35.2004'!G175","v":324.02999999999997},{"$f":"ROUND(СУММПРОИЗВЕСЛИ(1,'Форма по МДС 81-35.2004'!J175:J193,\"Г\",'Форма по МДС 81-35.2004'!E175:E193,'Форма по МДС 81-35.2004'!G175:G193,0),16777275)","v":0},{"$f":"ROUND(СУММПРОИЗВЕСЛИ(1,'Форма по МДС 81-35.2004'!J175:J193,\"IsMash\",'Форма по МДС 81-35.2004'!E175:E193,'Форма по МДС 81-35.2004'!G175:G193,0),16777275)","v":324.02859999999998},{"$f":"ROUND(СУММПРОИЗВЕСЛИ(1,'Форма по МДС 81-35.2004'!J175:J193,\"Ж\",'Форма по МДС 81-35.2004'!E175:E193,'Форма по МДС 81-35.2004'!G175:G193,0),16777275)","v":50.543520000000001},{"$f":"ROUND(СУММПРОИЗВЕСЛИ(1,'Форма по МДС 81-35.2004'!J175:J193,\"IsMater\",'Форма по МДС 81-35.2004'!E175:E193,'Форма по МДС 81-35.2004'!G175:G193,0),16777275)","v":0},0,0,{"$f":"ОКРУГЛВСЕ(SUMIF('Форма по МДС 81-35.2004'!J175:J193,\"Г\",'Форма по МДС 81-35.2004'!E175:E193),8)","v":0},0,{"$f":"ОКРУГЛВСЕ(SUMIF('Форма по МДС 81-35.2004'!J175:J193,\"Ж\",'Форма по МДС 81-35.2004'!E175:E193),8)","v":0.28999999999999998},0,0,37.91151,28.955320799999999,0,0,0,0,0,0,0,null,0,0,0,0,0,0,0,0]
[{"$f":"'Форма по МДС 81-35.2004'!A194","v":"10."},{"$f":"'Форма по МДС 81-35.2004'!G194","v":814.64},{"$f":"ROUND(СУММПРОИЗВЕСЛИ(1,'Форма по МДС 81-35.2004'!J194:J212,\"Г\",'Форма по МДС 81-35.2004'!E194:E212,'Форма по МДС 81-35.2004'!G194:G212,0),16777275)","v":0},{"$f":"ROUND(СУММПРОИЗВЕСЛИ(1,'Форма по МДС 81-35.2004'!J194:J212,\"IsMash\",'Форма по МДС 81-35.2004'!E194:E212,'Форма по МДС 81-35.2004'!G194:G212,0),16777275)","v":814.64},{"$f":"ROUND(СУММПРОИЗВЕСЛИ(1,'Форма по МДС 81-35.2004'!J194:J212,\"Ж\",'Форма по МДС 81-35.2004'!E194:E212,'Форма по МДС 81-35.2004'!G194:G212,0),16777275)","v":141.66695000000001},{"$f":"ROUND(СУММПРОИЗВЕСЛИ(1,'Форма по МДС 81-35.2004'!J194:J212,\"IsMater\",'Форма по МДС 81-35.2004'!E194:E212,'Форма по МДС 81-35.2004'!G194:G212,0),16777275)","v":0},0,0,{"$f":"ОКРУГЛВСЕ(SUMIF('Форма по МДС 81-35.2004'!J194:J212,\"Г\",'Форма по МДС 81-35.2004'!E194:E212),8)","v":0},0,{"$f":"ОКРУГЛВСЕ(SUMIF('Форма по МДС 81-35.2004'!J194:J212,\"Ж\",'Форма по МДС 81-35.2004'!E194:E212),8)","v":0.85},0,0,95.312880000000007,72.796230399999999,0,0,0,0,0,0,0,null,0,0,0,0,0,0,0,0]
[{"$f":"'Форма по МДС 81-35.2004'!A213","v":"11."},{"$f":"'Форма по МДС 81-35.2004'!G213","v":29831.39},{"$f":"ROUND(СУММПРОИЗВЕСЛИ(1,'Форма по МДС 81-35.2004'!J213:J237,\"Г\",'Форма по МДС 81-35.2004'!E213:E237,'Форма по МДС 81-35.2004'!G213:G237,0),16777275)","v":4710.2929999999997},{"$f":"ROUND(СУММПРОИЗВЕСЛИ(1,'Форма по МДС 81-35.2004'!J213:J237,\"IsMash\",'Форма по МДС 81-35.2004'!E213:E237,'Форма по МДС 81-35.2004'!G213:G237,0),16777275)","v":10249.736000000001},{"$f":"ROUND(СУММПРОИЗВЕСЛИ(1,'Форма по МДС 81-35.2004'!J213:J237,\"Ж\",'Форма по МДС 81-35.2004'!E213:E237,'Форма по МДС 81-35.2004'!G213:G237,0),16777275)","v":2181.8181},{"$f":"ROUND(СУММПРОИЗВЕСЛИ(1,'Форма по МДС 81-35.2004'!J213:J237,\"IsMater\",'Форма по МДС 81-35.2004'!E213:E237,'Форма по МДС 81-35.2004'!G213:G237,0),16777275)","v":14871.36364},0,0,{"$f":"ОКРУГЛВСЕ(SUMIF('Форма по МДС 81-35.2004'!J213:J237,\"Г\",'Форма по МДС 81-35.2004'!E213:E237),8)","v":43.26},0,{"$f":"ОКРУГЛВСЕ(SUMIF('Форма по МДС 81-35.2004'!J213:J237,\"Ж\",'Форма по МДС 81-35.2004'!E213:E237),8)","v":14.42},0,0,3490.2726299999999,2665.7330103999998,0,0,0,0,0,0,0,null,0,0,0,0,0,0,0,0]
[{"$f":"'Форма по МДС 81-35.2004'!A238","v":"12."},{"$f":"'Форма по МДС 81-35.2004'!G238","v":2075.4699999999998},{"$f":"ROUND(СУММПРОИЗВЕСЛИ(1,'Форма по МДС 81-35.2004'!J238:J257,\"Г\",'Форма по МДС 81-35.2004'!E238:E257,'Форма по МДС 81-35.2004'!G238:G257,0),16777275)","v":0},{"$f":"ROUND(СУММПРОИЗВЕСЛИ(1,'Форма по МДС 81-35.2004'!J238:J257,\"IsMash\",'Форма по МДС 81-35.2004'!E238:E257,'Форма по МДС 81-35.2004'!G238:G257,0),16777275)","v":2075.4704999999999},{"$f":"ROUND(СУММПРОИЗВЕСЛИ(1,'Форма по МДС 81-35.2004'!J238:J257,\"Ж\",'Форма по МДС 81-35.2004'!E238:E257,'Форма по МДС 81-35.2004'!G238:G257,0),16777275)","v":579.99881000000005},{"$f":"ROUND(СУММПРОИЗВЕСЛИ(1,'Форма по МДС 81-35.2004'!J238:J257,\"IsMater\",'Форма по МДС 81-35.2004'!E238:E257,'Форма по МДС 81-35.2004'!G238:G257,0),16777275)","v":0},0,0,{"$f":"ОКРУГЛВСЕ(SUMIF('Форма по МДС 81-35.2004'!J238:J257,\"Г\",'Форма по МДС 81-35.2004'!E238:E257),8)","v":0},0,{"$f":"ОКРУГЛВСЕ(SUMIF('Форма по МДС 81-35.2004'!J238:J257,\"Ж\",'Форма по МДС 81-35.2004'!E238:E257),8)","v":4.09},0,0,242.82999000000001,185.46399919999999,0,0,0,0,0,0,0,null,0,0,0,0,0,0,0,0]
[{"$f":"'Форма по МДС 81-35.2004'!A258","v":"13."},{"$f":"'Форма по МДС 81-35.2004'!G258","v":2702.7},{"$f":"ROUND(СУММПРОИЗВЕСЛИ(1,'Форма по МДС 81-35.2004'!J258:J276,\"Г\",'Форма по МДС 81-35.2004'!E258:E276,'Форма по МДС 81-35.2004'!G258:G276,0),16777275)","v":0},{"$f":"ROUND(СУММПРОИЗВЕСЛИ(1,'Форма по МДС 81-35.2004'!J258:J276,\"IsMash\",'Форма по МДС 81-35.2004'!E258:E276,'Форма по МДС 81-35.2004'!G258:G276,0),16777275)","v":2702.7},{"$f":"ROUND(СУММПРОИЗВЕСЛИ(1,'Форма по МДС 81-35.2004'!J258:J276,\"Ж\",'Форма по МДС 81-35.2004'!E258:E276,'Форма по МДС 81-35.2004'!G258:G276,0),16777275)","v":0},{"$f":"ROUND(СУММПРОИЗВЕСЛИ(1,'Форма по МДС 81-35.2004'!J258:J276,\"IsMater\",'Форма по МДС 81-35.2004'!E258:E276,'Форма по МДС 81-35.2004'!G258:G276,0),16777275)","v":0},0,0,{"$f":"ОКРУГЛВСЕ(SUMIF('Форма по МДС 81-35.2004'!J258:J276,\"Г\",'Форма по МДС 81-35.2004'!E258:E276),8)","v":0},0,{"$f":"ОКРУГЛВСЕ(SUMIF('Форма по МДС 81-35.2004'!J258:J276,\"Ж\",'Форма по МДС 81-35.2004'!E258:E276),8)","v":0},0,0,316.21589999999998,241.513272,0,0,0,0,0,0,0,null,0,0,0,0,0,0,0,0]
[{"$f":"'Форма по МДС 81-35.2004'!A277","v":"14."},{"$f":"'Форма по МДС 81-35.2004'!G277","v":477.36},{"$f":"ROUND(СУММПРОИЗВЕСЛИ(1,'Форма по МДС 81-35.2004'!J277:J296,\"Г\",'Форма по МДС 81-35.2004'!E277:E296,'Форма по МДС 81-35.2004'!G277:G296,0),16777275)","v":0},{"$f":"ROUND(СУММПРОИЗВЕСЛИ(1,'Форма по МДС 81-35.2004'!J277:J296,\"IsMash\",'Форма по МДС 81-35.2004'!E277:E296,'Форма по МДС 81-35.2004'!G277:G296,0),16777275)","v":477.36},{"$f":"ROUND(СУММПРОИЗВЕСЛИ(1,'Форма по МДС 81-35.2004'!J277:J296,\"Ж\",'Форма по МДС 81-35.2004'!E277:E296,'Форма по МДС 81-35.2004'!G277:G296,0),16777275)","v":0},{"$f":"ROUND(СУММПРОИЗВЕСЛИ(1,'Форма по МДС 81-35.2004'!J277:J296,\"IsMater\",'Форма по МДС 81-35.2004'!E277:E296,'Форма по МДС 81-35.2004'!G277:G296,0),16777275)","v":0},0,0,{"$f":"ОКРУГЛВСЕ(SUMIF('Форма по МДС 81-35.2004'!J277:J296,\"Г\",'Форма по МДС 81-35.2004'!E277:E296),8)","v":0},0,{"$f":"ОКРУГЛВСЕ(SUMIF('Форма по МДС 81-35.2004'!J277:J296,\"Ж\",'Форма по МДС 81-35.2004'!E277:E296),8)","v":0},0,0,55.851120000000002,42.6568896,0,0,0,0,0,0,0,null,0,0,0,0,0,0,0,0]
[{"$f":"'Форма по МДС 81-35.2004'!A299","v":"15."},{"$f":"'Форма по МДС 81-35.2004'!G299","v":1248.54},{"$f":"ROUND(СУММПРОИЗВЕСЛИ(1,'Форма по МДС 81-35.2004'!J299:J318,\"Г\",'Форма по МДС 81-35.2004'!E299:E318,'Форма по МДС 81-35.2004'!G299:G318,0),16777275)","v":740.1952},{"$f":"ROUND(СУММПРОИЗВЕСЛИ(1,'Форма по МДС 81-35.2004'!J299:J318,\"IsMash\",'Форма по МДС 81-35.2004'!E299:E318,'Форма по МДС 81-35.2004'!G299:G318,0),16777275)","v":508.346},{"$f":"ROUND(СУММПРОИЗВЕСЛИ(1,'Форма по МДС 81-35.2004'!J299:J318,\"Ж\",'Форма по МДС 81-35.2004'!E299:E318,'Форма по МДС 81-35.2004'!G299:G318,0),16777275)","v":132.35303999999999},{"$f":"ROUND(СУММПРОИЗВЕСЛИ(1,'Форма по МДС 81-35.2004'!J299:J318,\"IsMater\",'Форма по МДС 81-35.2004'!E299:E318,'Форма по МДС 81-35.2004'!G299:G318,0),16777275)","v":0},0,0,{"$f":"ОКРУГЛВСЕ(SUMIF('Форма по МДС 81-35.2004'!J299:J318,\"Г\",'Форма по МДС 81-35.2004'!E299:E318),8)","v":7.36},0,{"$f":"ОКРУГЛВСЕ(SUMIF('Форма по МДС 81-35.2004'!J299:J318,\"Ж\",'Форма по МДС 81-35.2004'!E299:E318),8)","v":0.92},0,0,146.07918000000001,111.56953439999999,0,0,0,0,0,0,0,null,0,0,0,0,0,0,0,0]
[{"$f":"'Форма по МДС 81-35.2004'!A319","v":"16."},{"$f":"'Форма по МДС 81-35.2004'!G319","v":30470.04},{"$f":"ROUND(СУММПРОИЗВЕСЛИ(1,'Форма по МДС 81-35.2004'!J319:J339,\"Г\",'Форма по МДС 81-35.2004'!E319:E339,'Форма по МДС 81-35.2004'!G319:G339,0),16777275)","v":3488.3690000000001},{"$f":"ROUND(СУММПРОИЗВЕСЛИ(1,'Форма по МДС 81-35.2004'!J319:J339,\"IsMash\",'Форма по МДС 81-35.2004'!E319:E339,'Форма по МДС 81-35.2004'!G319:G339,0),16777275)","v":0},{"$f":"ROUND(СУММПРОИЗВЕСЛИ(1,'Форма по МДС 81-35.2004'!J319:J339,\"Ж\",'Форма по МДС 81-35.2004'!E319:E339,'Форма по МДС 81-35.2004'!G319:G339,0),16777275)","v":0},{"$f":"ROUND(СУММПРОИЗВЕСЛИ(1,'Форма по МДС 81-35.2004'!J319:J339,\"IsMater\",'Форма по МДС 81-35.2004'!E319:E339,'Форма по МДС 81-35.2004'!G319:G339,0),16777275)","v":26981.66718},0,0,{"$f":"ОКРУГЛВСЕ(SUMIF('Форма по МДС 81-35.2004'!J319:J339,\"Г\",'Форма по МДС 81-35.2004'!E319:E339),8)","v":33.39},0,{"$f":"ОКРУГЛВСЕ(SUMIF('Форма по МДС 81-35.2004'!J319:J339,\"Ж\",'Форма по МДС 81-35.2004'!E319:E339),8)","v":0},0,0,3564.9946799999998,2722.8027744000001,0,0,0,0,0,0,0,null,0,0,0,0,0,0,0,0]
[{"$f":"'Форма по МДС 81-35.2004'!A340","v":"17."},{"$f":"'Форма по МДС 81-35.2004'!G340","v":9531.15},{"$f":"ROUND(СУММПРОИЗВЕСЛИ(1,'Форма по МДС 81-35.2004'!J340:J359,\"Г\",'Форма по МДС 81-35.2004'!E340:E359,'Форма по МДС 81-35.2004'!G340:G359,0),16777275)","v":4726.4022000000004},{"$f":"ROUND(СУММПРОИЗВЕСЛИ(1,'Форма по МДС 81-35.2004'!J340:J359,\"IsMash\",'Форма по МДС 81-35.2004'!E340:E359,'Форма по МДС 81-35.2004'!G340:G359,0),16777275)","v":0},{"$f":"ROUND(СУММПРОИЗВЕСЛИ(1,'Форма по МДС 81-35.2004'!J340:J359,\"Ж\",'Форма по МДС 81-35.2004'!E340:E359,'Форма по МДС 81-35.2004'!G340:G359,0),16777275)","v":0},{"$f":"ROUND(СУММПРОИЗВЕСЛИ(1,'Форма по МДС 81-35.2004'!J340:J359,\"IsMater\",'Форма по МДС 81-35.2004'!E340:E359,'Форма по МДС 81-35.2004'!G340:G359,0),16777275)","v":4804.7518},0,0,{"$f":"ОКРУГЛВСЕ(SUMIF('Форма по МДС 81-35.2004'!J340:J359,\"Г\",'Форма по МДС 81-35.2004'!E340:E359),8)","v":38.11},0,{"$f":"ОКРУГЛВСЕ(SUMIF('Форма по МДС 81-35.2004'!J340:J359,\"Ж\",'Форма по МДС 81-35.2004'!E340:E359),8)","v":0},0,0,1115.14455,851.70356400000003,0,0,0,0,0,0,0,null,0,0,0,0,0,0,0,0]
[{"$f":"'Форма по МДС 81-35.2004'!A360","v":"18."},{"$f":"'Форма по МДС 81-35.2004'!G360","v":219.61},{"$f":"ROUND(СУММПРОИЗВЕСЛИ(1,'Форма по МДС 81-35.2004'!J360:J379,\"Г\",'Форма по МДС 81-35.2004'!E360:E379,'Форма по МДС 81-35.2004'!G360:G379,0),16777275)","v":92.5244},{"$f":"ROUND(СУММПРОИЗВЕСЛИ(1,'Форма по МДС 81-35.2004'!J360:J379,\"IsMash\",'Форма по МДС 81-35.2004'!E360:E379,'Форма по МДС 81-35.2004'!G360:G379,0),16777275)","v":127.0865},{"$f":"ROUND(СУММПРОИЗВЕСЛИ(1,'Форма по МДС 81-35.2004'!J360:J379,\"Ж\",'Форма по МДС 81-35.2004'!E360:E379,'Форма по МДС 81-35.2004'!G360:G379,0),16777275)","v":0},{"$f":"ROUND(СУММПРОИЗВЕСЛИ(1,'Форма по МДС 81-35.2004'!J360:J379,\"IsMater\",'Форма по МДС 81-35.2004'!E360:E379,'Форма по МДС 81-35.2004'!G360:G379,0),16777275)","v":0},0,0,{"$f":"ОКРУГЛВСЕ(SUMIF('Форма по МДС 81-35.2004'!J360:J379,\"Г\",'Форма по МДС 81-35.2004'!E360:E379),8)","v":0.92},0,{"$f":"ОКРУГЛВСЕ(SUMIF('Форма по МДС 81-35.2004'!J360:J379,\"Ж\",'Форма по МДС 81-35.2004'!E360:E379),8)","v":0.23},0,0,25.694369999999999,19.624349599999999,0,0,0,0,0,0,0,null,0,0,0,0,0,0,0,0]
[{"$f":"'Форма по МДС 81-35.2004'!A380","v":"19."},{"$f":"'Форма по МДС 81-35.2004'!G380","v":461.42},{"$f":"ROUND(СУММПРОИЗВЕСЛИ(1,'Форма по МДС 81-35.2004'!J380:J399,\"Г\",'Форма по МДС 81-35.2004'!E380:E399,'Форма по МДС 81-35.2004'!G380:G399,0),16777275)","v":273.55040000000002},{"$f":"ROUND(СУММПРОИЗВЕСЛИ(1,'Форма по МДС 81-35.2004'!J380:J399,\"IsMash\",'Форма по МДС 81-35.2004'!E380:E399,'Форма по МДС 81-35.2004'!G380:G399,0),16777275)","v":187.86699999999999},{"$f":"ROUND(СУММПРОИЗВЕСЛИ(1,'Форма по МДС 81-35.2004'!J380:J399,\"Ж\",'Форма по МДС 81-35.2004'!E380:E399,'Форма по МДС 81-35.2004'!G380:G399,0),16777275)","v":60.000140000000002},{"$f":"ROUND(СУММПРОИЗВЕСЛИ(1,'Форма по МДС 81-35.2004'!J380:J399,\"IsMater\",'Форма по МДС 81-35.2004'!E380:E399,'Форма по МДС 81-35.2004'!G380:G399,0),16777275)","v":0},0,0,{"$f":"ОКРУГЛВСЕ(SUMIF('Форма по МДС 81-35.2004'!J380:J399,\"Г\",'Форма по МДС 81-35.2004'!E380:E399),8)","v":2.72},0,{"$f":"ОКРУГЛВСЕ(SUMIF('Форма по МДС 81-35.2004'!J380:J399,\"Ж\",'Форма по МДС 81-35.2004'!E380:E399),8)","v":0.34},0,0,53.986139999999999,41.232491199999998,0,0,0,0,0,0,0,null,0,0,0,0,0,0,0,0]
[{"$f":"'Форма по МДС 81-35.2004'!A402","v":"20."},{"$f":"'Форма по МДС 81-35.2004'!G402","v":624.27},{"$f":"ROUND(СУММПРОИЗВЕСЛИ(1,'Форма по МДС 81-35.2004'!J402:J421,\"Г\",'Форма по МДС 81-35.2004'!E402:E421,'Форма по МДС 81-35.2004'!G402:G421,0),16777275)","v":370.0976},{"$f":"ROUND(СУММПРОИЗВЕСЛИ(1,'Форма по МДС 81-35.2004'!J402:J421,\"IsMash\",'Форма по МДС 81-35.2004'!E402:E421,'Форма по МДС 81-35.2004'!G402:G421,0),16777275)","v":254.173},{"$f":"ROUND(СУММПРОИЗВЕСЛИ(1,'Форма по МДС 81-35.2004'!J402:J421,\"Ж\",'Форма по МДС 81-35.2004'!E402:E421,'Форма по МДС 81-35.2004'!G402:G421,0),16777275)","v":99.999859999999998},{"$f":"ROUND(СУММПРОИЗВЕСЛИ(1,'Форма по МДС 81-35.2004'!J402:J421,\"IsMater\",'Форма по МДС 81-35.2004'!E402:E421,'Форма по МДС 81-35.2004'!G402:G421,0),16777275)","v":0},0,0,{"$f":"ОКРУГЛВСЕ(SUMIF('Форма по МДС 81-35.2004'!J402:J421,\"Г\",'Форма по МДС 81-35.2004'!E402:E421),8)","v":3.68},0,{"$f":"ОКРУГЛВСЕ(SUMIF('Форма по МДС 81-35.2004'!J402:J421,\"Ж\",'Форма по МДС 81-35.2004'!E402:E421),8)","v":0.46},0,0,73.039590000000004,55.784767199999997,0,0,0,0,0,0,0,null,0,0,0,0,0,0,0,0]
[{"$f":"'Форма по МДС 81-35.2004'!A422","v":"21."},{"$f":"'Форма по МДС 81-35.2004'!G422","v":759.98},{"$f":"ROUND(СУММПРОИЗВЕСЛИ(1,'Форма по МДС 81-35.2004'!J422:J441,\"Г\",'Форма по МДС 81-35.2004'!E422:E441,'Форма по МДС 81-35.2004'!G422:G441,0),16777275)","v":450.55360000000002},{"$f":"ROUND(СУММПРОИЗВЕСЛИ(1,'Форма по МДС 81-35.2004'!J422:J441,\"IsMash\",'Форма по МДС 81-35.2004'!E422:E441,'Форма по МДС 81-35.2004'!G422:G441,0),16777275)","v":309.428},{"$f":"ROUND(СУММПРОИЗВЕСЛИ(1,'Форма по МДС 81-35.2004'!J422:J441,\"Ж\",'Форма по МДС 81-35.2004'!E422:E441,'Форма по МДС 81-35.2004'!G422:G441,0),16777275)","v":0},{"$f":"ROUND(СУММПРОИЗВЕСЛИ(1,'Форма по МДС 81-35.2004'!J422:J441,\"IsMater\",'Форма по МДС 81-35.2004'!E422:E441,'Форма по МДС 81-35.2004'!G422:G441,0),16777275)","v":0},0,0,{"$f":"ОКРУГЛВСЕ(SUMIF('Форма по МДС 81-35.2004'!J422:J441,\"Г\",'Форма по МДС 81-35.2004'!E422:E441),8)","v":4.4800000000000004},0,{"$f":"ОКРУГЛВСЕ(SUMIF('Форма по МДС 81-35.2004'!J422:J441,\"Ж\",'Форма по МДС 81-35.2004'!E422:E441),8)","v":0.56000000000000005},0,0,88.917659999999998,67.911812800000007,0,0,0,0,0,0,0,null,0,0,0,0,0,0,0,0]
[{"$f":"'Форма по МДС 81-35.2004'!A442","v":"22."},{"$f":"'Форма по МДС 81-35.2004'!G442","v":296935.78999999998},{"$f":"ROUND(СУММПРОИЗВЕСЛИ(1,'Форма по МДС 81-35.2004'!J442:J470,\"Г\",'Форма по МДС 81-35.2004'!E442:E470,'Форма по МДС 81-35.2004'!G442:G470,0),16777275)","v":31547.028600000001},{"$f":"ROUND(СУММПРОИЗВЕСЛИ(1,'Форма по МДС 81-35.2004'!J442:J470,\"IsMash\",'Форма по МДС 81-35.2004'!E442:E470,'Форма по МДС 81-35.2004'!G442:G470,0),16777275)","v":41402.571499999998},{"$f":"ROUND(СУММПРОИЗВЕСЛИ(1,'Форма по МДС 81-35.2004'!J442:J470,\"Ж\",'Форма по МДС 81-35.2004'!E442:E470,'Форма по МДС 81-35.2004'!G442:G470,0),16777275)","v":11212.15055},{"$f":"ROUND(СУММПРОИЗВЕСЛИ(1,'Форма по МДС 81-35.2004'!J442:J470,\"IsMater\",'Форма по МДС 81-35.2004'!E442:E470,'Форма по МДС 81-35.2004'!G442:G470,0),16777275)","v":223986.19304000001},0,0,{"$f":"ОКРУГЛВСЕ(SUMIF('Форма по МДС 81-35.2004'!J442:J470,\"Г\",'Форма по МДС 81-35.2004'!E442:E470),8)","v":299.72000000000003},0,{"$f":"ОКРУГЛВСЕ(SUMIF('Форма по МДС 81-35.2004'!J442:J470,\"Ж\",'Форма по МДС 81-35.2004'!E442:E470),8)","v":74.930000000000007},0,0,34741.487430000001,26534.1821944,0,0,0,0,0,0,0,null,0,0,0,0,0,0,0,0]
[{"$f":"'Форма по МДС 81-35.2004'!A472","v":"23."},{"$f":"'Форма по МДС 81-35.2004'!G472","v":26662.78},{"$f":"ROUND(СУММПРОИЗВЕСЛИ(1,'Форма по МДС 81-35.2004'!J472:J498,\"Г\",'Форма по МДС 81-35.2004'!E472:E498,'Форма по МДС 81-35.2004'!G472:G498,0),16777275)","v":10154.635700000001},{"$f":"ROUND(СУММПРОИЗВЕСЛИ(1,'Форма по МДС 81-35.2004'!J472:J498,\"IsMash\",'Форма по МДС 81-35.2004'!E472:E498,'Форма по МДС 81-35.2004'!G472:G498,0),16777275)","v":15135.5952},{"$f":"ROUND(СУММПРОИЗВЕСЛИ(1,'Форма по МДС 81-35.2004'!J472:J498,\"Ж\",'Форма по МДС 81-35.2004'!E472:E498,'Форма по МДС 81-35.2004'!G472:G498,0),16777275)","v":3800.0016000000001},{"$f":"ROUND(СУММПРОИЗВЕСЛИ(1,'Форма по МДС 81-35.2004'!J472:J498,\"IsMater\",'Форма по МДС 81-35.2004'!E472:E498,'Форма по МДС 81-35.2004'!G472:G498,0),16777275)","v":1372.5539168},0,0,{"$f":"ОКРУГЛВСЕ(SUMIF('Форма по МДС 81-35.2004'!J472:J498,\"Г\",'Форма по МДС 81-35.2004'!E472:E498),8)","v":90.7},0,{"$f":"ОКРУГЛВСЕ(SUMIF('Форма по МДС 81-35.2004'!J472:J498,\"Ж\",'Форма по МДС 81-35.2004'!E472:E498),8)","v":25.92},0,0,3119.5452599999999,2382.5860207999999,0,0,0,0,0,0,0,null,0,0,0,0,0,0,0,0]
[{"$f":"'Форма по МДС 81-35.2004'!A499","v":"24."},{"$f":"'Форма по МДС 81-35.2004'!G499","v":24332.53},{"$f":"ROUND(СУММПРОИЗВЕСЛИ(1,'Форма по МДС 81-35.2004'!J499:J524,\"Г\",'Форма по МДС 81-35.2004'!E499:E524,'Форма по МДС 81-35.2004'!G499:G524,0),16777275)","v":8143.4517999999998},{"$f":"ROUND(СУММПРОИЗВЕСЛИ(1,'Форма по МДС 81-35.2004'!J499:J524,\"IsMash\",'Форма по МДС 81-35.2004'!E499:E524,'Форма по МДС 81-35.2004'!G499:G524,0),16777275)","v":16108.960999999999},{"$f":"ROUND(СУММПРОИЗВЕСЛИ(1,'Форма по МДС 81-35.2004'!J499:J524,\"Ж\",'Форма по МДС 81-35.2004'!E499:E524,'Форма по МДС 81-35.2004'!G499:G524,0),16777275)","v":4200.01296},{"$f":"ROUND(СУММПРОИЗВЕСЛИ(1,'Форма по МДС 81-35.2004'!J499:J524,\"IsMater\",'Форма по МДС 81-35.2004'!E499:E524,'Форма по МДС 81-35.2004'!G499:G524,0),16777275)","v":80.119916799999999},0,0,{"$f":"ОКРУГЛВСЕ(SUMIF('Форма по МДС 81-35.2004'!J499:J524,\"Г\",'Форма по МДС 81-35.2004'!E499:E524),8)","v":75.680000000000007},0,{"$f":"ОКРУГЛВСЕ(SUMIF('Форма по МДС 81-35.2004'!J499:J524,\"Ж\",'Форма по МДС 81-35.2004'!E499:E524),8)","v":28.38},0,0,2846.9060100000002,2174.3548808,0,0,0,0,0,0,0,null,0,0,0,0,0,0,0,0]
[{"$f":"'Форма по МДС 81-35.2004'!A525","v":"25."},{"$f":"'Форма по МДС 81-35.2004'!G525","v":996830.51},{"$f":"ROUND(СУММПРОИЗВЕСЛИ(1,'Форма по МДС 81-35.2004'!J525:J543,\"Г\",'Форма по МДС 81-35.2004'!E525:E543,'Форма по МДС 81-35.2004'!G525:G543,0),16777275)","v":0},{"$f":"ROUND(СУММПРОИЗВЕСЛИ(1,'Форма по МДС 81-35.2004'!J525:J543,\"IsMash\",'Форма по МДС 81-35.2004'!E525:E543,'Форма по МДС 81-35.2004'!G525:G543,0),16777275)","v":0},{"$f":"ROUND(СУММПРОИЗВЕСЛИ(1,'Форма по МДС 81-35.2004'!J525:J543,\"Ж\",'Форма по МДС 81-35.2004'!E525:E543,'Форма по МДС 81-35.2004'!G525:G543,0),16777275)","v":0},{"$f":"ROUND(СУММПРОИЗВЕСЛИ(1,'Форма по МДС 81-35.2004'!J525:J543,\"IsMater\",'Форма по МДС 81-35.2004'!E525:E543,'Форма по МДС 81-35.2004'!G525:G543,0),16777275)","v":996830.51},0,0,{"$f":"ОКРУГЛВСЕ(SUMIF('Форма по МДС 81-35.2004'!J525:J543,\"Г\",'Форма по МДС 81-35.2004'!E525:E543),8)","v":0},0,{"$f":"ОКРУГЛВСЕ(SUMIF('Форма по МДС 81-35.2004'!J525:J543,\"Ж\",'Форма по МДС 81-35.2004'!E525:E543),8)","v":0},0,0,116629.16967,89076.774373599997,0,0,0,0,0,0,0,null,0,0,0,0,0,0,0,0]
[{"$f":"'Форма по МДС 81-35.2004'!A545","v":"26."},{"$f":"'Форма по МДС 81-35.2004'!G545","v":6034.16},{"$f":"ROUND(СУММПРОИЗВЕСЛИ(1,'Форма по МДС 81-35.2004'!J545:J564,\"Г\",'Форма по МДС 81-35.2004'!E545:E564,'Форма по МДС 81-35.2004'!G545:G564,0),16777275)","v":3149.8524000000002},{"$f":"ROUND(СУММПРОИЗВЕСЛИ(1,'Форма по МДС 81-35.2004'!J545:J564,\"IsMash\",'Форма по МДС 81-35.2004'!E545:E564,'Форма по МДС 81-35.2004'!G545:G564,0),16777275)","v":2884.3110000000001},{"$f":"ROUND(СУММПРОИЗВЕСЛИ(1,'Форма по МДС 81-35.2004'!J545:J564,\"Ж\",'Форма по МДС 81-35.2004'!E545:E564,'Форма по МДС 81-35.2004'!G545:G564,0),16777275)","v":789.47280000000001},{"$f":"ROUND(СУММПРОИЗВЕСЛИ(1,'Форма по МДС 81-35.2004'!J545:J564,\"IsMater\",'Форма по МДС 81-35.2004'!E545:E564,'Форма по МДС 81-35.2004'!G545:G564,0),16777275)","v":0},0,0,{"$f":"ОКРУГЛВСЕ(SUMIF('Форма по МДС 81-35.2004'!J545:J564,\"Г\",'Форма по МДС 81-35.2004'!E545:E564),8)","v":31.32},0,{"$f":"ОКРУГЛВСЕ(SUMIF('Форма по МДС 81-35.2004'!J545:J564,\"Ж\",'Форма по МДС 81-35.2004'!E545:E564),8)","v":5.22},0,0,705.99671999999998,539.21253760000002,0,0,0,0,0,0,0,null,0,0,0,0,0,0,0,0]
[{"$f":"'Форма по МДС 81-35.2004'!A566","v":"27."},{"$f":"'Форма по МДС 81-35.2004'!G566","v":58},{"$f":"ROUND(СУММПРОИЗВЕСЛИ(1,'Форма по МДС 81-35.2004'!J566:J584,\"Г\",'Форма по МДС 81-35.2004'!E566:E584,'Форма по МДС 81-35.2004'!G566:G584,0),16777275)","v":0},{"$f":"ROUND(СУММПРОИЗВЕСЛИ(1,'Форма по МДС 81-35.2004'!J566:J584,\"IsMash\",'Форма по МДС 81-35.2004'!E566:E584,'Форма по МДС 81-35.2004'!G566:G584,0),16777275)","v":57.999000000000002},{"$f":"ROUND(СУММПРОИЗВЕСЛИ(1,'Форма по МДС 81-35.2004'!J566:J584,\"Ж\",'Форма по МДС 81-35.2004'!E566:E584,'Форма по МДС 81-35.2004'!G566:G584,0),16777275)","v":21.5259},{"$f":"ROUND(СУММПРОИЗВЕСЛИ(1,'Форма по МДС 81-35.2004'!J566:J584,\"IsMater\",'Форма по МДС 81-35.2004'!E566:E584,'Форма по МДС 81-35.2004'!G566:G584,0),16777275)","v":0},0,0,{"$f":"ОКРУГЛВСЕ(SUMIF('Форма по МДС 81-35.2004'!J566:J584,\"Г\",'Форма по МДС 81-35.2004'!E566:E584),8)","v":0},0,{"$f":"ОКРУГЛВСЕ(SUMIF('Форма по МДС 81-35.2004'!J566:J584,\"Ж\",'Форма по МДС 81-35.2004'!E566:E584),8)","v":0.15},0,0,6.7859999999999996,5.1828799999999999,0,0,0,0,0,0,0,null,0,0,0,0,0,0,0,0]

{"sheet":"Базовые цены с учетом расхода","index":4,"n_rows":32,"n_cols":33,"rows_kept":32,"cut":false,"hidden":false,"merged":[[1,0,1,7],[2,1,2,7],[3,1,3,7],[4,0,4,7]]}
[null,"C1","C2","C3","C4","C5","C6","VOZVR","C8","C9","C10","C11","C12","NAKL","PLAN","NAKL_ZPR","NAKL_ZPM","PLAN_ZPR","PLAN_ZPM","RN11","RN12","RN13",null,"OBORUD_VSPOMOG","NAKL_PN","NAKL_VX","PLAN_PN","PLAN_VX","VTCH_PN","VTCH_VX","MR_BY_ZPR_VSPOMOG","NAKL_INC","PLAN_INC"]
[]
[null,"N = < ГЭСНс * 2015_s * 15_15_зр >"]
[null,"          Автомобильные дороги регионального или межмуниципального значения с автобусным движением с допустимым уровнем содержания  - норматив \"Авт\" (ЗИМНИЕ РАБОТЫ)"]
[]
[{"$f":"'Форма по МДС 81-35.2004'!A16","v":"1."},{"$f":"'Форма по МДС 81-35.2004'!N16","v":893},{"$f":"ROUND(SUMIF('Форма по МДС 81-35.2004'!J16:J34,\"Г\",'Форма по МДС 81-35.2004'!N16:N34),0)","v":0},{"$f":"ROUND(SUMIF('Форма по МДС 81-35.2004'!J16:J34,\"IsMash\",'Форма по МДС 81-35.2004'!N16:N34),0)","v":893},{"$f":"'Форма по МДС 81-35.2004'!N17","v":65},{"$f":"ROUND(SUMIF('Форма по МДС 81-35.2004'!J16:J34,\"IsMater\",'Форма по МДС 81-35.2004'!N16:N34),0)","v":0},{"$f":"ROUND('Форма по МДС 81-35.2004'!F16*'Базовые цены за единицу'!G6,0)","v":0},{"$f":"ROUND('Форма по МДС 81-35.2004'!F16*'Базовые цены за единицу'!H6,0)","v":0},{"$f":"ОКРУГЛВСЕ(SUMIF('Форма по МДС 81-35.2004'!J16:J34,\"Г\",'Форма по МДС 81-35.2004'!F16:F34),8)","v":0},{"$f":"ОКРУГЛВСЕ('Форма по МДС 81-35.2004'!F16*'Базовые цены за единицу'!J6,8)","v":0},{"$f":"ОКРУГЛВСЕ(SUMIF('Форма по МДС 81-35.2004'!J16:J34,\"Ж\",'Форма по МДС 81-35.2004'!F16:F34),8)","v":4.8},{"$f":"ROUND('Форма по МДС 81-35.2004'!F16*'Базовые цены за единицу'!L6,0)","v":0},{"$f":"ROUND('Форма по МДС 81-35.2004'!F16*'Базовые цены за единицу'!M6,0)","v":0},{"$f":"ROUND(B6*'Форма по МДС 81-35.2004'!M29/100,0)","v":104},{"$f":"ROUND((B6+N6)*'Форма по МДС 81-35.2004'!M32/100,0)","v":80},{"$f":"ROUND('Форма по МДС 81-35.2004'!F16*'Базовые цены за единицу'!P6,0)","v":0},{"$f":"ROUND('Форма по МДС 81-35.2004'!F16*'Базовые цены за единицу'!Q6,0)","v":0},{"$f":"ROUND('Форма по МДС 81-35.2004'!F16*'Базовые цены за единицу'!R6,0)","v":0},{"$f":"ROUND('Форма по МДС 81-35.2004'!F16*'Базовые цены за единицу'!S6,0)","v":0},{"$f":"ROUND('Форма по МДС 81-35.2004'!F16*'Базовые цены за единицу'!T6,0)","v":0},{"$f":"ROUND('Форма по МДС 81-35.2004'!F16*'Базовые цены за единицу'!U6,0)","v":0},{"$f":"ROUND('Форма по МДС 81-35.2004'!F16*'Базовые цены за единицу'!V6,0)","v":0},null,{"$f":"ROUND('Форма по МДС 81-35.2004'!F16*'Базовые цены за единицу'!X6,0)","v":0},{"$f":"IF(Определители!I6=\"9\",ROUND(B6*(Начисления!M6/100)*'Форма по МДС 81-35.2004'!M29/100,0),0)","v":0},{"$f":"IF(Определители!I6=\"9\",ROUND(B6*(100-Начисления!M6/100)*'Форма по МДС 81-35.2004'!M29/100,0),0)","v":0},{"$f":"IF(Определители!I6=\"9\",ROUND((C6+E6)*(Начисления!M6/100)*('Форма по МДС 81-35.2004'!M32/100),0),0)","v":0},{"$f":"IF(Определители!I6=\"9\",ROUND((C6+E6)*(100-Начисления!M6/100)*('Форма по МДС 81-35.2004'!M32/100),0),0)","v":0},{"$f":"IF(Определители!I6=\"9\",ROUND(B6*Начисления!M6/100,0),0)","v":0},{"$f":"IF(Определители!I6=\"9\",ROUND(B6*(100-Начисления!M6)/100,0),0)","v":0},{"$f":"ROUND('Форма по МДС 81-35.2004'!F16*'Базовые цены за единицу'!AE6,0)","v":0}]
[{"$f":"'Форма по МДС 81-35.2004'!A35","v":"2."},{"$f":"'Форма по МДС 81-35.2004'!N35","v":157},{"$f":"ROUND(SUMIF('Форма по МДС 81-35.2004'!J35:J53,\"Г\",'Форма по МДС 81-35.2004'!N35:N53),0)","v":0},{"$f":"ROUND(SUMIF('Форма по МДС 81-35.2004'!J35:J53,\"IsMash\",'Форма по МДС 81-35.2004'!N35:N53),0)","v":157},{"$f":"'Форма по МДС 81-35.2004'!N36","v":17},{"$f":"ROUND(SUMIF('Форма по МДС 81-35.2004'!J35:J53,\"IsMater\",'Форма по МДС 81-35.2004'!N35:N53),0)","v":0},{"$f":"ROUND('Форма по МДС 81-35.2004'!F35*'Базовые цены за единицу'!G7,0)","v":0},{"$f":"ROUND('Форма по МДС 81-35.2004'!F35*'Базовые цены за единицу'!H7,0)","v":0},{"$f":"ОКРУГЛВСЕ(SUMIF('Форма по МДС 81-35.2004'!J35:J53,\"Г\",'Форма по МДС 81-35.2004'!F35:F53),8)","v":0},{"$f":"ОКРУГЛВСЕ('Форма по МДС 81-35.2004'!F35*'Базовые цены за единицу'!J7,8)","v":0},{"$f":"ОКРУГЛВСЕ(SUMIF('Форма по МДС 81-35.2004'!J35:J53,\"Ж\",'Форма по МДС 81-35.2004'!F35:F53),8)","v":1.28},{"$f":"ROUND('Форма по МДС 81-35.2004'!F35*'Базовые цены за единицу'!L7,0)","v":0},{"$f":"ROUND('Форма по МДС 81-35.2004'!F35*'Базовые цены за единицу'!M7,0)","v":0},{"$f":"ROUND(B7*'Форма по МДС 81-35.2004'!M48/100,0)","v":18},{"$f":"ROUND((B7+N7)*'Форма по МДС 81-35.2004'!M51/100,0)","v":14},{"$f":"ROUND('Форма по МДС 81-35.2004'!F35*'Базовые цены за единицу'!P7,0)","v":0},{"$f":"ROUND('Форма по МДС 81-35.2004'!F35*'Базовые цены за единицу'!Q7,0)","v":0},{"$f":"ROUND('Форма по МДС 81-35.2004'!F35*'Базовые цены за единицу'!R7,0)","v":0},{"$f":"ROUND('Форма по МДС 81-35.2004'!F35*'Базовые цены за единицу'!S7,0)","v":0},{"$f":"ROUND('Форма по МДС 81-35.2004'!F35*'Базовые цены за единицу'!T7,0)","v":0},{"$f":"ROUND('Форма по МДС 81-35.2004'!F35*'Базовые цены за единицу'!U7,0)","v":0},{"$f":"ROUND('Форма по МДС 81-35.2004'!F35*'Базовые цены за единицу'!V7,0)","v":0},null,{"$f":"ROUND('Форма по МДС 81-35.2004'!F35*'Базовые цены за единицу'!X7,0)","v":0},{"$f":"IF(Определители!I7=\"9\",ROUND(B7*(Начисления!M7/100)*'Форма по МДС 81-35.2004'!M48/100,0),0)","v":0},{"$f":"IF(Определители!I7=\"9\",ROUND(B7*(100-Начисления!M7/100)*'Форма по МДС 81-35.2004'!M48/100,0),0)","v":0},{"$f":"IF(Определители!I7=\"9\",ROUND((C7+E7)*(Начисления!M7/100)*('Форма по МДС 81-35.2004'!M51/100),0),0)","v":0},{"$f":"IF(Определители!I7=\"9\",ROUND((C7+E7)*(100-Начисления!M7/100)*('Форма по МДС 81-35.2004'!M51/100),0),0)","v":0},{"$f":"IF(Определители!I7=\"9\",ROUND(B7*Начисления!M7/100,0),0)","v":0},{"$f":"IF(Определители!I7=\"9\",ROUND(B7*(100-Начисления!M7)/100,0),0)","v":0},{"$f":"ROUND('Форма по МДС 81-35.2004'!F35*'Базовые цены за единицу'!AE7,0)","v":0}]
[{"$f":"'Форма по МДС 81-35.2004'!A54","v":"3."},{"$f":"'Форма по МДС 81-35.2004'!N54","v":221},{"$f":"ROUND(SUMIF('Форма по МДС 81-35.2004'!J54:J72,\"Г\",'Форма по МДС 81-35.2004'!N54:N72),0)","v":0},{"$f":"ROUND(SUMIF('Форма по МДС 81-35.2004'!J54:J72,\"IsMash\",'Форма по МДС 81-35.2004'!N54:N72),0)","v":221},{"$f":"'Форма по МДС 81-35.2004'!N55","v":8},{"$f":"ROUND(SUMIF('Форма по МДС 81-35.2004'!J54:J72,\"IsMater\",'Форма по МДС 81-35.2004'!N54:N72),0)","v":0},{"$f":"ROUND('Форма по МДС 81-35.2004'!F54*'Базовые цены за единицу'!G8,0)","v":0},{"$f":"ROUND('Форма по МДС 81-35.2004'!F54*'Базовые цены за единицу'!H8,0)","v":0},{"$f":"ОКРУГЛВСЕ(SUMIF('Форма по МДС 81-35.2004'!J54:J72,\"Г\",'Форма по МДС 81-35.2004'!F54:F72),8)","v":0},{"$f":"ОКРУГЛВСЕ('Форма по МДС 81-35.2004'!F54*'Базовые цены за единицу'!J8,8)","v":0},{"$f":"ОКРУГЛВСЕ(SUMIF('Форма по МДС 81-35.2004'!J54:J72,\"Ж\",'Форма по МДС 81-35.2004'!F54:F72),8)","v":0.70699999999999996},{"$f":"ROUND('Форма по МДС 81-35.2004'!F54*'Базовые цены за единицу'!L8,0)","v":0},{"$f":"ROUND('Форма по МДС 81-35.2004'!F54*'Базовые цены за единицу'!M8,0)","v":0},{"$f":"ROUND(B8*'Форма по МДС 81-35.2004'!M67/100,0)","v":26},{"$f":"ROUND((B8+N8)*'Форма по МДС 81-35.2004'!M70/100,0)","v":20},{"$f":"ROUND('Форма по МДС 81-35.2004'!F54*'Базовые цены за единицу'!P8,0)","v":0},{"$f":"ROUND('Форма по МДС 81-35.2004'!F54*'Базовые цены за единицу'!Q8,0)","v":0},{"$f":"ROUND('Форма по МДС 81-35.2004'!F54*'Базовые цены за единицу'!R8,0)","v":0},{"$f":"ROUND('Форма по МДС 81-35.2004'!F54*'Базовые цены за единицу'!S8,0)","v":0},{"$f":"ROUND('Форма по МДС 81-35.2004'!F54*'Базовые цены за единицу'!T8,0)","v":0},{"$f":"ROUND('Форма по МДС 81-35.2004'!F54*'Базовые цены за единицу'!U8,0)","v":0},{"$f":"ROUND('Форма по МДС 81-35.2004'!F54*'Базовые цены за единицу'!V8,0)","v":0},null,{"$f":"ROUND('Форма по МДС 81-35.2004'!F54*'Базовые цены за единицу'!X8,0)","v":0},{"$f":"IF(Определители!I8=\"9\",ROUND(B8*(Начисления!M8/100)*'Форма по МДС 81-35.2004'!M67/100,0),0)","v":0},{"$f":"IF(Определители!I8=\"9\",ROUND(B8*(100-Начисления!M8/100)*'Форма по МДС 81-35.2004'!M67/100,0),0)","v":0},{"$f":"IF(Определители!I8=\"9\",ROUND((C8+E8)*(Начисления!M8/100)*('Форма по МДС 81-35.2004'!M70/100),0),0)","v":0},{"$f":"IF(Определители!I8=\"9\",ROUND((C8+E8)*(100-Начисления!M8/100)*('Форма по МДС 81-35.2004'!M70/100),0),0)","v":0},{"$f":"IF(Определители!I8=\"9\",ROUND(B8*Начисления!M8/100,0),0)","v":0},{"$f":"IF(Определители!I8=\"9\",ROUND(B8*(100-Начисления!M8)/100,0),0)","v":0},{"$f":"ROUND('Форма по МДС 81-35.2004'!F54*'Базовые цены за единицу'!AE8,0)","v":0}]
[{"$f":"'Форма по МДС 81-35.2004'!A74","v":"4."},{"$f":"'Форма по МДС 81-35.2004'!N74","v":5},{"$f":"ROUND(SUMIF('Форма по МДС 81-35.2004'!J74:J92,\"Г\",'Форма по МДС 81-35.2004'!N74:N92),0)","v":0},{"$f":"ROUND(SUMIF('Форма по МДС 81-35.2004'!J74:J92,\"IsMash\",'Форма по МДС 81-35.2004'!N74:N92),0)","v":5},{"$f":"'Форма по МДС 81-35.2004'!N75","v":1},{"$f":"ROUND(SUMIF('Форма по МДС 81-35.2004'!J74:J92,\"IsMater\",'Форма по МДС 81-35.2004'!N74:N92),0)","v":0},{"$f":"ROUND('Форма по МДС 81-35.2004'!F74*'Базовые цены за единицу'!G9,0)","v":0},{"$f":"ROUND('Форма по МДС 81-35.2004'!F74*'Базовые цены за единицу'!H9,0)","v":0},{"$f":"ОКРУГЛВСЕ(SUMIF('Форма по МДС 81-35.2004'!J74:J92,\"Г\",'Форма по МДС 81-35.2004'!F74:F92),8)","v":0},{"$f":"ОКРУГЛВСЕ('Форма по МДС 81-35.2004'!F74*'Базовые цены за единицу'!J9,8)","v":0},{"$f":"ОКРУГЛВСЕ(SUMIF('Форма по МДС 81-35.2004'!J74:J92,\"Ж\",'Форма по МДС 81-35.2004'!F74:F92),8)","v":5.9400000000000001E-2},{"$f":"ROUND('Форма по МДС 81-35.2004'!F74*'Базовые цены за единицу'!L9,0)","v":0},{"$f":"ROUND('Форма по МДС 81-35.2004'!F74*'Базовые цены за единицу'!M9,0)","v":0},{"$f":"ROUND(B9*'Форма по МДС 81-35.2004'!M87/100,0)","v":1},{"$f":"ROUND((B9+N9)*'Форма по МДС 81-35.2004'!M90/100,0)","v":0},{"$f":"ROUND('Форма по МДС 81-35.2004'!F74*'Базовые цены за единицу'!P9,0)","v":0},{"$f":"ROUND('Форма по МДС 81-35.2004'!F74*'Базовые цены за единицу'!Q9,0)","v":0},{"$f":"ROUND('Форма по МДС 81-35.2004'!F74*'Базовые цены за единицу'!R9,0)","v":0},{"$f":"ROUND('Форма по МДС 81-35.2004'!F74*'Базовые цены за единицу'!S9,0)","v":0},{"$f":"ROUND('Форма по МДС 81-35.2004'!F74*'Базовые цены за единицу'!T9,0)","v":0},{"$f":"ROUND('Форма по МДС 81-35.2004'!F74*'Базовые цены за единицу'!U9,0)","v":0},{"$f":"ROUND('Форма по МДС 81-35.2004'!F74*'Базовые цены за единицу'!V9,0)","v":0},null,{"$f":"ROUND('Форма по МДС 81-35.2004'!F74*'Базовые цены за единицу'!X9,0)","v":0},{"$f":"IF(Определители!I9=\"9\",ROUND(B9*(Начисления!M9/100)*'Форма по МДС 81-35.2004'!M87/100,0),0)","v":0},{"$f":"IF(Определители!I9=\"9\",ROUND(B9*(100-Начисления!M9/100)*'Форма по МДС 81-35.2004'!M87/100,0),0)","v":0},{"$f":"IF(Определители!I9=\"9\",ROUND((C9+E9)*(Начисления!M9/100)*('Форма по МДС 81-35.2004'!M90/100),0),0)","v":0},{"$f":"IF(Определители!I9=\"9\",ROUND((C9+E9)*(100-Начисления!M9/100)*('Форма по МДС 81-35.2004'!M90/100),0),0)","v":0},{"$f":"IF(Определители!I9=\"9\",ROUND(B9*Начисления!M9/100,0),0)","v":0},{"$f":"IF(Определители!I9=\"9\",ROUND(B9*(100-Начисления!M9)/100,0),0)","v":0},{"$f":"ROUND('Форма по МДС 81-35.2004'!F74*'Базовые цены за единицу'!AE9,0)","v":0}]
[{"$f":"'Форма по МДС 81-35.2004'!A94","v":"5."},{"$f":"'Форма по МДС 81-35.2004'!N94","v":647},{"$f":"ROUND(SUMIF('Форма по МДС 81-35.2004'!J94:J112,\"Г\",'Форма по МДС 81-35.2004'!N94:N112),0)","v":0},{"$f":"ROUND(SUMIF('Форма по МДС 81-35.2004'!J94:J112,\"IsMash\",'Форма по МДС 81-35.2004'!N94:N112),0)","v":647},{"$f":"'Форма по МДС 81-35.2004'!N95","v":47},{"$f":"ROUND(SUMIF('Форма по МДС 81-35.2004'!J94:J112,\"IsMater\",'Форма по МДС 81-35.2004'!N94:N112),0)","v":0},{"$f":"ROUND('Форма по МДС 81-35.2004'!F94*'Базовые цены за единицу'!G10,0)","v":0},{"$f":"ROUND('Форма по МДС 81-35.2004'!F94*'Базовые цены за единицу'!H10,0)","v":0},{"$f":"ОКРУГЛВСЕ(SUMIF('Форма по МДС 81-35.2004'!J94:J112,\"Г\",'Форма по МДС 81-35.2004'!F94:F112),8)","v":0},{"$f":"ОКРУГЛВСЕ('Форма по МДС 81-35.2004'!F94*'Базовые цены за единицу'!J10,8)","v":0},{"$f":"ОКРУГЛВСЕ(SUMIF('Форма по МДС 81-35.2004'!J94:J112,\"Ж\",'Форма по МДС 81-35.2004'!F94:F112),8)","v":3.48},{"$f":"ROUND('Форма по МДС 81-35.2004'!F94*'Базовые цены за единицу'!L10,0)","v":0},{"$f":"ROUND('Форма по МДС 81-35.2004'!F94*'Базовые цены за единицу'!M10,0)","v":0},{"$f":"ROUND(B10*'Форма по МДС 81-35.2004'!M107/100,0)","v":76},{"$f":"ROUND((B10+N10)*'Форма по МДС 81-35.2004'!M110/100,0)","v":58},{"$f":"ROUND('Форма по МДС 81-35.2004'!F94*'Базовые цены за единицу'!P10,0)","v":0},{"$f":"ROUND('Форма по МДС 81-35.2004'!F94*'Базовые цены за единицу'!Q10,0)","v":0},{"$f":"ROUND('Форма по МДС 81-35.2004'!F94*'Базовые цены за единицу'!R10,0)","v":0},{"$f":"ROUND('Форма по МДС 81-35.2004'!F94*'Базовые цены за единицу'!S10,0)","v":0},{"$f":"ROUND('Форма по МДС 81-35.2004'!F94*'Базовые цены за единицу'!T10,0)","v":0},{"$f":"ROUND('Форма по МДС 81-35.2004'!F94*'Базовые цены за единицу'!U10,0)","v":0},{"$f":"ROUND('Форма по МДС 81-35.2004'!F94*'Базовые цены за единицу'!V10,0)","v":0},null,{"$f":"ROUND('Форма по МДС 81-35.2004'!F94*'Базовые цены за единицу'!X10,0)","v":0},{"$f":"IF(Определители!I10=\"9\",ROUND(B10*(Начисления!M10/100)*'Форма по МДС 81-35.2004'!M107/100,0),0)","v":0},{"$f":"IF(Определители!I10=\"9\",ROUND(B10*(100-Начисления!M10/100)*'Форма по МДС 81-35.2004'!M107/100,0),0)","v":0},{"$f":"IF(Определители!I10=\"9\",ROUND((C10+E10)*(Начисления!M10/100)*('Форма по МДС 81-35.2004'!M110/100),0),0)","v":0},{"$f":"IF(Определители!I10=\"9\",ROUND((C10+E10)*(100-Начисления!M10/100)*('Форма по МДС 81-35.2004'!M110/100),0),0)","v":0},{"$f":"IF(Определители!I10=\"9\",ROUND(B10*Начисления!M10/100,0),0)","v":0},{"$f":"IF(Определители!I10=\"9\",ROUND(B10*(100-Начисления!M10)/100,0),0)","v":0},{"$f":"ROUND('Форма по МДС 81-35.2004'!F94*'Базовые цены за единицу'!AE10,0)","v":0}]
[{"$f":"'Форма по МДС 81-35.2004'!A113","v":"6."},{"$f":"'Форма по МДС 81-35.2004'!N113","v":0},{"$f":"ROUND(SUMIF('Форма по МДС 81-35.2004'!J113:J134,\"Г\",'Форма по МДС 81-35.2004'!N113:N134),0)","v":0},{"$f":"ROUND(SUMIF('Форма по МДС 81-35.2004'!J113:J134,\"IsMash\",'Форма по МДС 81-35.2004'!N113:N134),0)","v":0},{"$f":"'Форма по МДС 81-35.2004'!N115","v":0},{"$f":"ROUND(SUMIF('Форма по МДС 81-35.2004'!J113:J134,\"IsMater\",'Форма по МДС 81-35.2004'!N113:N134),0)","v":0},{"$f":"ROUND('Форма по МДС 81-35.2004'!F113*'Базовые цены за единицу'!G11,0)","v":0},{"$f":"ROUND('Форма по МДС 81-35.2004'!F113*'Базовые цены за единицу'!H11,0)","v":0},{"$f":"ОКРУГЛВСЕ(SUMIF('Форма по МДС 81-35.2004'!J113:J134,\"Г\",'Форма по МДС 81-35.2004'!F113:F134),8)","v":0},{"$f":"ОКРУГЛВСЕ('Форма по МДС 81-35.2004'!F113*'Базовые цены за единицу'!J11,8)","v":0},{"$f":"ОКРУГЛВСЕ(SUMIF('Форма по МДС 81-35.2004'!J113:J134,\"Ж\",'Форма по МДС 81-35.2004'!F113:F134),8)","v":1.364244},{"$f":"ROUND('Форма по МДС 81-35.2004'!F113*'Базовые цены за единицу'!L11,0)","v":0},{"$f":"ROUND('Форма по МДС 81-35.2004'!F113*'Базовые цены за единицу'!M11,0)","v":0},{"$f":"ROUND(B11*'Форма по МДС 81-35.2004'!M129/100,0)","v":0},{"$f":"ROUND((B11+N11)*'Форма по МДС 81-35.2004'!M132/100,0)","v":0},{"$f":"ROUND('Форма по МДС 81-35.2004'!F113*'Базовые цены за единицу'!P11,0)","v":0},{"$f":"ROUND('Форма по МДС 81-35.2004'!F113*'Базовые цены за единицу'!Q11,0)","v":0},{"$f":"ROUND('Форма по МДС 81-35.2004'!F113*'Базовые цены за единицу'!R11,0)","v":0},{"$f":"ROUND('Форма по МДС 81-35.2004'!F113*'Базовые цены за единицу'!S11,0)","v":0},{"$f":"ROUND('Форма по МДС 81-35.2004'!F113*'Базовые цены за единицу'!T11,0)","v":0},{"$f":"ROUND('Форма по МДС 81-35.2004'!F113*'Базовые цены за единицу'!U11,0)","v":0},{"$f":"ROUND('Форма по МДС 81-35.2004'!F113*'Базовые цены за единицу'!V11,0)","v":0},null,{"$f":"ROUND('Форма по МДС 81-35.2004'!F113*'Базовые цены за единицу'!X11,0)","v":0},{"$f":"IF(Определители!I11=\"9\",ROUND(B11*(Начисления!M11/100)*'Форма по МДС 81-35.2004'!M129/100,0),0)","v":0},{"$f":"IF(Определители!I11=\"9\",ROUND(B11*(100-Начисления!M11/100)*'Форма по МДС 81-35.2004'!M129/100,0),0)","v":0},{"$f":"IF(Определители!I11=\"9\",ROUND((C11+E11)*(Начисления!M11/100)*('Форма по МДС 81-35.2004'!M132/100),0),0)","v":0},{"$f":"IF(Определители!I11=\"9\",ROUND((C11+E11)*(100-Начисления!M11/100)*('Форма по МДС 81-35.2004'!M132/100),0),0)","v":0},{"$f":"IF(Определители!I11=\"9\",ROUND(B11*Начисления!M11/100,0),0)","v":0},{"$f":"IF(Определители!I11=\"9\",ROUND(B11*(100-Начисления!M11)/100,0),0)","v":0},{"$f":"ROUND('Форма по МДС 81-35.2004'!F113*'Базовые цены за единицу'!AE11,0)","v":0}]
[{"$f":"'Форма по МДС 81-35.2004'!A135","v":"7."},{"$f":"'Форма по МДС 81-35.2004'!N135","v":56},{"$f":"ROUND(SUMIF('Форма по МДС 81-35.2004'!J135:J153,\"Г\",'Форма по МДС 81-35.2004'!N135:N153),0)","v":0},{"$f":"ROUND(SUMIF('Форма по МДС 81-35.2004'!J135:J153,\"IsMash\",'Форма по МДС 81-35.2004'!N135:N153),0)","v":56},{"$f":"'Форма по МДС 81-35.2004'!N136","v":4},{"$f":"ROUND(SUMIF('Форма по МДС 81-35.2004'!J135:J153,\"IsMater\",'Форма по МДС 81-35.2004'!N135:N153),0)","v":0},{"$f":"ROUND('Форма по МДС 81-35.2004'!F135*'Базовые цены за единицу'!G12,0)","v":0},{"$f":"ROUND('Форма по МДС 81-35.2004'!F135*'Базовые цены за единицу'!H12,0)","v":0},{"$f":"ОКРУГЛВСЕ(SUMIF('Форма по МДС 81-35.2004'!J135:J153,\"Г\",'Форма по МДС 81-35.2004'!F135:F153),8)","v":0},{"$f":"ОКРУГЛВСЕ('Форма по МДС 81-35.2004'!F135*'Базовые цены за единицу'!J12,8)","v":0},{"$f":"ОКРУГЛВСЕ(SUMIF('Форма по МДС 81-35.2004'!J135:J153,\"Ж\",'Форма по МДС 81-35.2004'!F135:F153),8)","v":0.3},{"$f":"ROUND('Форма по МДС 81-35.2004'!F135*'Базовые цены за единицу'!L12,0)","v":0},{"$f":"ROUND('Форма по МДС 81-35.2004'!F135*'Базовые цены за единицу'!M12,0)","v":0},{"$f":"ROUND(B12*'Форма по МДС 81-35.2004'!M148/100,0)","v":7},{"$f":"ROUND((B12+N12)*'Форма по МДС 81-35.2004'!M151/100,0)","v":5},{"$f":"ROUND('Форма по МДС 81-35.2004'!F135*'Базовые цены за единицу'!P12,0)","v":0},{"$f":"ROUND('Форма по МДС 81-35.2004'!F135*'Базовые цены за единицу'!Q12,0)","v":0},{"$f":"ROUND('Форма по МДС 81-35.2004'!F135*'Базовые цены за единицу'!R12,0)","v":0},{"$f":"ROUND('Форма по МДС 81-35.2004'!F135*'Базовые цены за единицу'!S12,0)","v":0},{"$f":"ROUND('Форма по МДС 81-35.2004'!F135*'Базовые цены за единицу'!T12,0)","v":0},{"$f":"ROUND('Форма по МДС 81-35.2004'!F135*'Базовые цены за единицу'!U12,0)","v":0},{"$f":"ROUND('Форма по МДС 81-35.2004'!F135*'Базовые цены за единицу'!V12,0)","v":0},null,{"$f":"ROUND('Форма по МДС 81-35.2004'!F135*'Базовые цены за единицу'!X12,0)","v":0},{"$f":"IF(Определители!I12=\"9\",ROUND(B12*(Начисления!M12/100)*'Форма по МДС 81-35.2004'!M148/100,0),0)","v":0},{"$f":"IF(Определители!I12=\"9\",ROUND(B12*(100-Начисления!M12/100)*'Форма по МДС 81-35.2004'!M148/100,0),0)","v":0},{"$f":"IF(Определители!I12=\"9\",ROUND((C12+E12)*(Начисления!M12/100)*('Форма по МДС 81-35.2004'!M151/100),0),0)","v":0},{"$f":"IF(Определители!I12=\"9\",ROUND((C12+E12)*(100-Начисления!M12/100)*('Форма по МДС 81-35.2004'!M151/100),0),0)","v":0},{"$f":"IF(Определители!I12=\"9\",ROUND(B12*Начисления!M12/100,0),0)","v":0},{"$f":"IF(Определители!I12=\"9\",ROUND(B12*(100-Начисления!M12)/100,0),0)","v":0},{"$f":"ROUND('Форма по МДС 81-35.2004'!F135*'Базовые цены за единицу'!AE12,0)","v":0}]
[{"$f":"'Форма по МДС 81-35.2004'!A154","v":"8."},{"$f":"'Форма по МДС 81-35.2004'!N154","v":2340},{"$f":"ROUND(SUMIF('Форма по МДС 81-35.2004'!J154:J174,\"Г\",'Форма по МДС 81-35.2004'!N154:N174),0)","v":0},{"$f":"ROUND(SUMIF('Форма по МДС 81-35.2004'!J154:J174,\"IsMash\",'Форма по МДС 81-35.2004'!N154:N174),0)","v":2340},{"$f":"'Форма по МДС 81-35.2004'!N155","v":178},{"$f":"ROUND(SUMIF('Форма по МДС 81-35.2004'!J154:J174,\"IsMater\",'Форма по МДС 81-35.2004'!N154:N174),0)","v":0},{"$f":"ROUND('Форма по МДС 81-35.2004'!F154*'Базовые цены за единицу'!G13,0)","v":0},{"$f":"ROUND('Форма по МДС 81-35.2004'!F154*'Базовые цены за единицу'!H13,0)","v":0},{"$f":"ОКРУГЛВСЕ(SUMIF('Форма по МДС 81-35.2004'!J154:J174,\"Г\",'Форма по МДС 81-35.2004'!F154:F174),8)","v":0},{"$f":"ОКРУГЛВСЕ('Форма по МДС 81-35.2004'!F154*'Базовые цены за единицу'!J13,8)","v":0},{"$f":"ОКРУГЛВСЕ(SUMIF('Форма по МДС 81-35.2004'!J154:J174,\"Ж\",'Форма по МДС 81-35.2004'!F154:F174),8)","v":13.391999999999999},{"$f":"ROUND('Форма по МДС 81-35.2004'!F154*'Базовые цены за единицу'!L13,0)","v":0},{"$f":"ROUND('Форма по МДС 81-35.2004'!F154*'Базовые цены за единицу'!M13,0)","v":0},{"$f":"ROUND(B13*'Форма по МДС 81-35.2004'!M169/100,0)","v":274},{"$f":"ROUND((B13+N13)*'Форма по МДС 81-35.2004'!M172/100,0)","v":209},{"$f":"ROUND('Форма по МДС 81-35.2004'!F154*'Базовые цены за единицу'!P13,0)","v":0},{"$f":"ROUND('Форма по МДС 81-35.2004'!F154*'Базовые цены за единицу'!Q13,0)","v":0},{"$f":"ROUND('Форма по МДС 81-35.2004'!F154*'Базовые цены за единицу'!R13,0)","v":0},{"$f":"ROUND('Форма по МДС 81-35.2004'!F154*'Базовые цены за единицу'!S13,0)","v":0},{"$f":"ROUND('Форма по МДС 81-35.2004'!F154*'Базовые цены за единицу'!T13,0)","v":0},{"$f":"ROUND('Форма по МДС 81-35.2004'!F154*'Базовые цены за единицу'!U13,0)","v":0},{"$f":"ROUND('Форма по МДС 81-35.2004'!F154*'Базовые цены за единицу'!V13,0)","v":0},null,{"$f":"ROUND('Форма по МДС 81-35.2004'!F154*'Базовые цены за единицу'!X13,0)","v":0},{"$f":"IF(Определители!I13=\"9\",ROUND(B13*(Начисления!M13/100)*'Форма по МДС 81-35.2004'!M169/100,0),0)","v":0},{"$f":"IF(Определители!I13=\"9\",ROUND(B13*(100-Начисления!M13/100)*'Форма по МДС 81-35.2004'!M169/100,0),0)","v":0},{"$f":"IF(Определители!I13=\"9\",ROUND((C13+E13)*(Начисления!M13/100)*('Форма по МДС 81-35.2004'!M172/100),0),0)","v":0},{"$f":"IF(Определители!I13=\"9\",ROUND((C13+E13)*(100-Начисления!M13/100)*('Форма по МДС 81-35.2004'!M172/100),0),0)","v":0},{"$f":"IF(Определители!I13=\"9\",ROUND(B13*Начисления!M13/100,0),0)","v":0},{"$f":"IF(Определители!I13=\"9\",ROUND(B13*(100-Начисления!M13)/100,0),0)","v":0},{"$f":"ROUND('Форма по МДС 81-35.2004'!F154*'Базовые цены за единицу'!AE13,0)","v":0}]
[{"$f":"'Форма по МДС 81-35.2004'!A175","v":"9."},{"$f":"'Форма по МДС 81-35.2004'!N175","v":1488},{"$f":"ROUND(SUMIF('Форма по МДС 81-35.2004'!J175:J193,\"Г\",'Форма по МДС 81-35.2004'!N175:N193),0)","v":0},{"$f":"ROUND(SUMIF('Форма по МДС 81-35.2004'!J175:J193,\"IsMash\",'Форма по МДС 81-35.2004'!N175:N193),0)","v":1488},{"$f":"'Форма по МДС 81-35.2004'!N176","v":108},{"$f":"ROUND(SUMIF('Форма по МДС 81-35.2004'!J175:J193,\"IsMater\",'Форма по МДС 81-35.2004'!N175:N193),0)","v":0},{"$f":"ROUND('Форма по МДС 81-35.2004'!F175*'Базовые цены за единицу'!G14,0)","v":0},{"$f":"ROUND('Форма по МДС 81-35.2004'!F175*'Базовые цены за единицу'!H14,0)","v":0},{"$f":"ОКРУГЛВСЕ(SUMIF('Форма по МДС 81-35.2004'!J175:J193,\"Г\",'Форма по МДС 81-35.2004'!F175:F193),8)","v":0},{"$f":"ОКРУГЛВСЕ('Форма по МДС 81-35.2004'!F175*'Базовые цены за единицу'!J14,8)","v":0},{"$f":"ОКРУГЛВСЕ(SUMIF('Форма по МДС 81-35.2004'!J175:J193,\"Ж\",'Форма по МДС 81-35.2004'!F175:F193),8)","v":8.0039999999999996},{"$f":"ROUND('Форма по МДС 81-35.2004'!F175*'Базовые цены за единицу'!L14,0)","v":0},{"$f":"ROUND('Форма по МДС 81-35.2004'!F175*'Базовые цены за единицу'!M14,0)","v":0},{"$f":"ROUND(B14*'Форма по МДС 81-35.2004'!M188/100,0)","v":174},{"$f":"ROUND((B14+N14)*'Форма по МДС 81-35.2004'!M191/100,0)","v":133},{"$f":"ROUND('Форма по МДС 81-35.2004'!F175*'Базовые цены за единицу'!P14,0)","v":0},{"$f":"ROUND('Форма по МДС 81-35.2004'!F175*'Базовые цены за единицу'!Q14,0)","v":0},{"$f":"ROUND('Форма по МДС 81-35.2004'!F175*'Базовые цены за единицу'!R14,0)","v":0},{"$f":"ROUND('Форма по МДС 81-35.2004'!F175*'Базовые цены за единицу'!S14,0)","v":0},{"$f":"ROUND('Форма по МДС 81-35.2004'!F175*'Базовые цены за единицу'!T14,0)","v":0},{"$f":"ROUND('Форма по МДС 81-35.2004'!F175*'Базовые цены за единицу'!U14,0)","v":0},{"$f":"ROUND('Форма по МДС 81-35.2004'!F175*'Базовые цены за единицу'!V14,0)","v":0},null,{"$f":"ROUND('Форма по МДС 81-35.2004'!F175*'Базовые цены за единицу'!X14,0)","v":0},{"$f":"IF(Определители!I14=\"9\",ROUND(B14*(Начисления!M14/100)*'Форма по МДС 81-35.2004'!M188/100,0),0)","v":0},{"$f":"IF(Определители!I14=\"9\",ROUND(B14*(100-Начисления!M14/100)*'Форма по МДС 81-35.2004'!M188/100,0),0)","v":0},{"$f":"IF(Определители!I14=\"9\",ROUND((C14+E14)*(Начисления!M14/100)*('Форма по МДС 81-35.2004'!M191/100),0),0)","v":0},{"$f":"IF(Определители!I14=\"9\",ROUND((C14+E14)*(100-Начисления!M14/100)*('Форма по МДС 81-35.2004'!M191/100),0),0)","v":0},{"$f":"IF(Определители!I14=\"9\",ROUND(B14*Начисления!M14/100,0),0)","v":0},{"$f":"IF(Определители!I14=\"9\",ROUND(B14*(100-Начисления!M14)/100,0),0)","v":0},{"$f":"ROUND('Форма по МДС 81-35.2004'!F175*'Базовые цены за единицу'!AE14,0)","v":0}]
[{"$f":"'Форма по МДС 81-35.2004'!A194","v":"10."},{"$f":"'Форма по МДС 81-35.2004'!N194","v":125},{"$f":"ROUND(SUMIF('Форма по МДС 81-35.2004'!J194:J212,\"Г\",'Форма по МДС 81-35.2004'!N194:N212),0)","v":0},{"$f":"ROUND(SUMIF('Форма по МДС 81-35.2004'!J194:J212,\"IsMash\",'Форма по МДС 81-35.2004'!N194:N212),0)","v":125},{"$f":"'Форма по МДС 81-35.2004'!N195","v":14},{"$f":"ROUND(SUMIF('Форма по МДС 81-35.2004'!J194:J212,\"IsMater\",'Форма по МДС 81-35.2004'!N194:N212),0)","v":0},{"$f":"ROUND('Форма по МДС 81-35.2004'!F194*'Базовые цены за единицу'!G15,0)","v":0},{"$f":"ROUND('Форма по МДС 81-35.2004'!F194*'Базовые цены за единицу'!H15,0)","v":0},{"$f":"ОКРУГЛВСЕ(SUMIF('Форма по МДС 81-35.2004'!J194:J212,\"Г\",'Форма по МДС 81-35.2004'!F194:F212),8)","v":0},{"$f":"ОКРУГЛВСЕ('Форма по МДС 81-35.2004'!F194*'Базовые цены за единицу'!J15,8)","v":0},{"$f":"ОКРУГЛВСЕ(SUMIF('Форма по МДС 81-35.2004'!J194:J212,\"Ж\",'Форма по МДС 81-35.2004'!F194:F212),8)","v":1.02},{"$f":"ROUND('Форма по МДС 81-35.2004'!F194*'Базовые цены за единицу'!L15,0)","v":0},{"$f":"ROUND('Форма по МДС 81-35.2004'!F194*'Базовые цены за единицу'!M15,0)","v":0},{"$f":"ROUND(B15*'Форма по МДС 81-35.2004'!M207/100,0)","v":15},{"$f":"ROUND((B15+N15)*'Форма по МДС 81-35.2004'!M210/100,0)","v":11},{"$f":"ROUND('Форма по МДС 81-35.2004'!F194*'Базовые цены за единицу'!P15,0)","v":0},{"$f":"ROUND('Форма по МДС 81-35.2004'!F194*'Базовые цены за единицу'!Q15,0)","v":0},{"$f":"ROUND('Форма по МДС 81-35.2004'!F194*'Базовые цены за единицу'!R15,0)","v":0},{"$f":"ROUND('Форма по МДС 81-35.2004'!F194*'Базовые цены за единицу'!S15,0)","v":0},{"$f":"ROUND('Форма по МДС 81-35.2004'!F194*'Базовые цены за единицу'!T15,0)","v":0},{"$f":"ROUND('Форма по МДС 81-35.2004'!F194*'Базовые цены за единицу'!U15,0)","v":0},{"$f":"ROUND('Форма по МДС 81-35.2004'!F194*'Базовые цены за единицу'!V15,0)","v":0},null,{"$f":"ROUND('Форма по МДС 81-35.2004'!F194*'Базовые цены за единицу'!X15,0)","v":0},{"$f":"IF(Определители!I15=\"9\",ROUND(B15*(Начисления!M15/100)*'Форма по МДС 81-35.2004'!M207/100,0),0)","v":0},{"$f":"IF(Определители!I15=\"9\",ROUND(B15*(100-Начисления!M15/100)*'Форма по МДС 81-35.2004'!M207/100,0),0)","v":0},{"$f":"IF(Определители!I15=\"9\",ROUND((C15+E15)*(Начисления!M15/100)*('Форма по МДС 81-35.2004'!M210/100),0),0)","v":0},{"$f":"IF(Определители!I15=\"9\",ROUND((C15+E15)*(100-Начисления!M15/100)*('Форма по МДС 81-35.2004'!M210/100),0),0)","v":0},{"$f":"IF(Определители!I15=\"9\",ROUND(B15*Начисления!M15/100,0),0)","v":0},{"$f":"IF(Определители!I15=\"9\",ROUND(B15*(100-Начисления!M15)/100,0),0)","v":0},{"$f":"ROUND('Форма по МДС 81-35.2004'!F194*'Базовые цены за единицу'!AE15,0)","v":0}]
[{"$f":"'Форма по МДС 81-35.2004'!A213","v":"11."},{"$f":"'Форма по МДС 81-35.2004'!N213","v":11},{"$f":"ROUND(SUMIF('Форма по МДС 81-35.2004'!J213:J237,\"Г\",'Форма по МДС 81-35.2004'!N213:N237),0)","v":3},{"$f":"ROUND(SUMIF('Форма по МДС 81-35.2004'!J213:J237,\"IsMash\",'Форма по МДС 81-35.2004'!N213:N237),0)","v":9},{"$f":"'Форма по МДС 81-35.2004'!N214","v":1},{"$f":"ROUND(SUMIF('Форма по МДС 81-35.2004'!J213:J237,\"IsMater\",'Форма по МДС 81-35.2004'!N213:N237),0)","v":0},{"$f":"ROUND('Форма по МДС 81-35.2004'!F213*'Базовые цены за единицу'!G16,0)","v":0},{"$f":"ROUND('Форма по МДС 81-35.2004'!F213*'Базовые цены за единицу'!H16,0)","v":0},{"$f":"ОКРУГЛВСЕ(SUMIF('Форма по МДС 81-35.2004'!J213:J237,\"Г\",'Форма по МДС 81-35.2004'!F213:F237),8)","v":0.23793},{"$f":"ОКРУГЛВСЕ('Форма по МДС 81-35.2004'!F213*'Базовые цены за единицу'!J16,8)","v":0},{"$f":"ОКРУГЛВСЕ(SUMIF('Форма по МДС 81-35.2004'!J213:J237,\"Ж\",'Форма по МДС 81-35.2004'!F213:F237),8)","v":7.9310000000000005E-2},{"$f":"ROUND('Форма по МДС 81-35.2004'!F213*'Базовые цены за единицу'!L16,0)","v":0},{"$f":"ROUND('Форма по МДС 81-35.2004'!F213*'Базовые цены за единицу'!M16,0)","v":0},{"$f":"ROUND(B16*'Форма по МДС 81-35.2004'!M232/100,0)","v":1},{"$f":"ROUND((B16+N16)*'Форма по МДС 81-35.2004'!M235/100,0)","v":1},{"$f":"ROUND('Форма по МДС 81-35.2004'!F213*'Базовые цены за единицу'!P16,0)","v":0},{"$f":"ROUND('Форма по МДС 81-35.2004'!F213*'Базовые цены за единицу'!Q16,0)","v":0},{"$f":"ROUND('Форма по МДС 81-35.2004'!F213*'Базовые цены за единицу'!R16,0)","v":0},{"$f":"ROUND('Форма по МДС 81-35.2004'!F213*'Базовые цены за единицу'!S16,0)","v":0},{"$f":"ROUND('Форма по МДС 81-35.2004'!F213*'Базовые цены за единицу'!T16,0)","v":0},{"$f":"ROUND('Форма по МДС 81-35.2004'!F213*'Базовые цены за единицу'!U16,0)","v":0},{"$f":"ROUND('Форма по МДС 81-35.2004'!F213*'Базовые цены за единицу'!V16,0)","v":0},null,{"$f":"ROUND('Форма по МДС 81-35.2004'!F213*'Базовые цены за единицу'!X16,0)","v":0},{"$f":"IF(Определители!I16=\"9\",ROUND(B16*(Начисления!M16/100)*'Форма по МДС 81-35.2004'!M232/100,0),0)","v":0},{"$f":"IF(Определители!I16=\"9\",ROUND(B16*(100-Начисления!M16/100)*'Форма по МДС 81-35.2004'!M232/100,0),0)","v":0},{"$f":"IF(Определители!I16=\"9\",ROUND((C16+E16)*(Начисления!M16/100)*('Форма по МДС 81-35.2004'!M235/100),0),0)","v":0},{"$f":"IF(Определители!I16=\"9\",ROUND((C16+E16)*(100-Начисления!M16/100)*('Форма по МДС 81-35.2004'!M235/100),0),0)","v":0},{"$f":"IF(Определители!I16=\"9\",ROUND(B16*Начисления!M16/100,0),0)","v":0},{"$f":"IF(Определители!I16=\"9\",ROUND(B16*(100-Начисления!M16)/100,0),0)","v":0},{"$f":"ROUND('Форма по МДС 81-35.2004'!F213*'Базовые цены за единицу'!AE16,0)","v":0}]
[{"$f":"'Форма по МДС 81-35.2004'!A238","v":"12."},{"$f":"'Форма по МДС 81-35.2004'!N238","v":17},{"$f":"ROUND(SUMIF('Форма по МДС 81-35.2004'!J238:J257,\"Г\",'Форма по МДС 81-35.2004'!N238:N257),0)","v":0},{"$f":"ROUND(SUMIF('Форма по МДС 81-35.2004'!J238:J257,\"IsMash\",'Форма по МДС 81-35.2004'!N238:N257),0)","v":17},{"$f":"'Форма по МДС 81-35.2004'!N240","v":2},{"$f":"ROUND(SUMIF('Форма по МДС 81-35.2004'!J238:J257,\"IsMater\",'Форма по МДС 81-35.2004'!N238:N257),0)","v":0},{"$f":"ROUND('Форма по МДС 81-35.2004'!F238*'Базовые цены за единицу'!G17,0)","v":0},{"$f":"ROUND('Форма по МДС 81-35.2004'!F238*'Базовые цены за единицу'!H17,0)","v":0},{"$f":"ОКРУГЛВСЕ(SUMIF('Форма по МДС 81-35.2004'!J238:J257,\"Г\",'Форма по МДС 81-35.2004'!F238:F257),8)","v":0},{"$f":"ОКРУГЛВСЕ('Форма по МДС 81-35.2004'!F238*'Базовые цены за единицу'!J17,8)","v":0},{"$f":"ОКРУГЛВСЕ(SUMIF('Форма по МДС 81-35.2004'!J238:J257,\"Ж\",'Форма по МДС 81-35.2004'!F238:F257),8)","v":0.20449999999999999},{"$f":"ROUND('Форма по МДС 81-35.2004'!F238*'Базовые цены за единицу'!L17,0)","v":0},{"$f":"ROUND('Форма по МДС 81-35.2004'!F238*'Базовые цены за единицу'!M17,0)","v":0},{"$f":"ROUND(B17*'Форма по МДС 81-35.2004'!M252/100,0)","v":2},{"$f":"ROUND((B17+N17)*'Форма по МДС 81-35.2004'!M255/100,0)","v":2},{"$f":"ROUND('Форма по МДС 81-35.2004'!F238*'Базовые цены за единицу'!P17,0)","v":0},{"$f":"ROUND('Форма по МДС 81-35.2004'!F238*'Базовые цены за единицу'!Q17,0)","v":0},{"$f":"ROUND('Форма по МДС 81-35.2004'!F238*'Базовые цены за единицу'!R17,0)","v":0},{"$f":"ROUND('Форма по МДС 81-35.2004'!F238*'Базовые цены за единицу'!S17,0)","v":0},{"$f":"ROUND('Форма по МДС 81-35.2004'!F238*'Базовые цены за единицу'!T17,0)","v":0},{"$f":"ROUND('Форма по МДС 81-35.2004'!F238*'Базовые цены за единицу'!U17,0)","v":0},{"$f":"ROUND('Форма по МДС 81-35.2004'!F238*'Базовые цены за единицу'!V17,0)","v":0},null,{"$f":"ROUND('Форма по МДС 81-35.2004'!F238*'Базовые цены за единицу'!X17,0)","v":0},{"$f":"IF(Определители!I17=\"9\",ROUND(B17*(Начисления!M17/100)*'Форма по МДС 81-35.2004'!M252/100,0),0)","v":0},{"$f":"IF(Определители!I17=\"9\",ROUND(B17*(100-Начисления!M17/100)*'Форма по МДС 81-35.2004'!M252/100,0),0)","v":0},{"$f":"IF(Определители!I17=\"9\",ROUND((C17+E17)*(Начисления!M17/100)*('Форма по МДС 81-35.2004'!M255/100),0),0)","v":0},{"$f":"IF(Определители!I17=\"9\",ROUND((C17+E17)*(100-Начисления!M17/100)*('Форма по МДС 81-35.2004'!M255/100),0),0)","v":0},{"$f":"IF(Определители!I17=\"9\",ROUND(B17*Начисления!M17/100,0),0)","v":0},{"$f":"IF(Определители!I17=\"9\",ROUND(B17*(100-Начисления!M17)/100,0),0)","v":0},{"$f":"ROUND('Форма по МДС 81-35.2004'!F238*'Базовые цены за единицу'!AE17,0)","v":0}]
[{"$f":"'Форма по МДС 81-35.2004'!A258","v":"13."},{"$f":"'Форма по МДС 81-35.2004'!N258","v":4},{"$f":"ROUND(SUMIF('Форма по МДС 81-35.2004'!J258:J276,\"Г\",'Форма по МДС 81-35.2004'!N258:N276),0)","v":0},{"$f":"ROUND(SUMIF('Форма по МДС 81-35.2004'!J258:J276,\"IsMash\",'Форма по МДС 81-35.2004'!N258:N276),0)","v":4},{"$f":"'Форма по МДС 81-35.2004'!N259","v":0},{"$f":"ROUND(SUMIF('Форма по МДС 81-35.2004'!J258:J276,\"IsMater\",'Форма по МДС 81-35.2004'!N258:N276),0)","v":0},{"$f":"ROUND('Форма по МДС 81-35.2004'!F258*'Базовые цены за единицу'!G18,0)","v":0},{"$f":"ROUND('Форма по МДС 81-35.2004'!F258*'Базовые цены за единицу'!H18,0)","v":0},{"$f":"ОКРУГЛВСЕ(SUMIF('Форма по МДС 81-35.2004'!J258:J276,\"Г\",'Форма по МДС 81-35.2004'!F258:F276),8)","v":0},{"$f":"ОКРУГЛВСЕ('Форма по МДС 81-35.2004'!F258*'Базовые цены за единицу'!J18,8)","v":0},{"$f":"ОКРУГЛВСЕ(SUMIF('Форма по МДС 81-35.2004'!J258:J276,\"Ж\",'Форма по МДС 81-35.2004'!F258:F276),8)","v":0},{"$f":"ROUND('Форма по МДС 81-35.2004'!F258*'Базовые цены за единицу'!L18,0)","v":0},{"$f":"ROUND('Форма по МДС 81-35.2004'!F258*'Базовые цены за единицу'!M18,0)","v":0},{"$f":"ROUND(B18*'Форма по МДС 81-35.2004'!M271/100,0)","v":0},{"$f":"ROUND((B18+N18)*'Форма по МДС 81-35.2004'!M274/100,0)","v":0},{"$f":"ROUND('Форма по МДС 81-35.2004'!F258*'Базовые цены за единицу'!P18,0)","v":0},{"$f":"ROUND('Форма по МДС 81-35.2004'!F258*'Базовые цены за единицу'!Q18,0)","v":0},{"$f":"ROUND('Форма по МДС 81-35.2004'!F258*'Базовые цены за единицу'!R18,0)","v":0},{"$f":"ROUND('Форма по МДС 81-35.2004'!F258*'Базовые цены за единицу'!S18,0)","v":0},{"$f":"ROUND('Форма по МДС 81-35.2004'!F258*'Базовые цены за единицу'!T18,0)","v":0},{"$f":"ROUND('Форма по МДС 81-35.2004'!F258*'Базовые цены за единицу'!U18,0)","v":0},{"$f":"ROUND('Форма по МДС 81-35.2004'!F258*'Базовые цены за единицу'!V18,0)","v":0},null,{"$f":"ROUND('Форма по МДС 81-35.2004'!F258*'Базовые цены за единицу'!X18,0)","v":0},{"$f":"IF(Определители!I18=\"9\",ROUND(B18*(Начисления!M18/100)*'Форма по МДС 81-35.2004'!M271/100,0),0)","v":0},{"$f":"IF(Определители!I18=\"9\",ROUND(B18*(100-Начисления!M18/100)*'Форма по МДС 81-35.2004'!M271/100,0),0)","v":0},{"$f":"IF(Определители!I18=\"9\",ROUND((C18+E18)*(Начисления!M18/100)*('Форма по МДС 81-35.2004'!M274/100),0),0)","v":0},{"$f":"IF(Определители!I18=\"9\",ROUND((C18+E18)*(100-Начисления!M18/100)*('Форма по МДС 81-35.2004'!M274/100),0),0)","v":0},{"$f":"IF(Определители!I18=\"9\",ROUND(B18*Начисления!M18/100,0),0)","v":0},{"$f":"IF(Определители!I18=\"9\",ROUND(B18*(100-Начисления!M18)/100,0),0)","v":0},{"$f":"ROUND('Форма по МДС 81-35.2004'!F258*'Базовые цены за единицу'!AE18,0)","v":0}]
[{"$f":"'Форма по МДС 81-35.2004'!A277","v":"14."},{"$f":"'Форма по МДС 81-35.2004'!N277","v":8},{"$f":"ROUND(SUMIF('Форма по МДС 81-35.2004'!J277:J296,\"Г\",'Форма по МДС 81-35.2004'!N277:N296),0)","v":0},{"$f":"ROUND(SUMIF('Форма по МДС 81-35.2004'!J277:J296,\"IsMash\",'Форма по МДС 81-35.2004'!N277:N296),0)","v":8},{"$f":"'Форма по МДС 81-35.2004'!N279","v":0},{"$f":"ROUND(SUMIF('Форма по МДС 81-35.2004'!J277:J296,\"IsMater\",'Форма по МДС 81-35.2004'!N277:N296),0)","v":0},{"$f":"ROUND('Форма по МДС 81-35.2004'!F277*'Базовые цены за единицу'!G19,0)","v":0},{"$f":"ROUND('Форма по МДС 81-35.2004'!F277*'Базовые цены за единицу'!H19,0)","v":0},{"$f":"ОКРУГЛВСЕ(SUMIF('Форма по МДС 81-35.2004'!J277:J296,\"Г\",'Форма по МДС 81-35.2004'!F277:F296),8)","v":0},{"$f":"ОКРУГЛВСЕ('Форма по МДС 81-35.2004'!F277*'Базовые цены за единицу'!J19,8)","v":0},{"$f":"ОКРУГЛВСЕ(SUMIF('Форма по МДС 81-35.2004'!J277:J296,\"Ж\",'Форма по МДС 81-35.2004'!F277:F296),8)","v":0},{"$f":"ROUND('Форма по МДС 81-35.2004'!F277*'Базовые цены за единицу'!L19,0)","v":0},{"$f":"ROUND('Форма по МДС 81-35.2004'!F277*'Базовые цены за единицу'!M19,0)","v":0},{"$f":"ROUND(B19*'Форма по МДС 81-35.2004'!M291/100,0)","v":1},{"$f":"ROUND((B19+N19)*'Форма по МДС 81-35.2004'!M294/100,0)","v":1},{"$f":"ROUND('Форма по МДС 81-35.2004'!F277*'Базовые цены за единицу'!P19,0)","v":0},{"$f":"ROUND('Форма по МДС 81-35.2004'!F277*'Базовые цены за единицу'!Q19,0)","v":0},{"$f":"ROUND('Форма по МДС 81-35.2004'!F277*'Базовые цены за единицу'!R19,0)","v":0},{"$f":"ROUND('Форма по МДС 81-35.2004'!F277*'Базовые цены за единицу'!S19,0)","v":0},{"$f":"ROUND('Форма по МДС 81-35.2004'!F277*'Базовые цены за единицу'!T19,0)","v":0},{"$f":"ROUND('Форма по МДС 81-35.2004'!F277*'Базовые цены за единицу'!U19,0)","v":0},{"$f":"ROUND('Форма по МДС 81-35.2004'!F277*'Базовые цены за единицу'!V19,0)","v":0},null,{"$f":"ROUND('Форма по МДС 81-35.2004'!F277*'Базовые цены за единицу'!X19,0)","v":0},{"$f":"IF(Определители!I19=\"9\",ROUND(B19*(Начисления!M19/100)*'Форма по МДС 81-35.2004'!M291/100,0),0)","v":0},{"$f":"IF(Определители!I19=\"9\",ROUND(B19*(100-Начисления!M19/100)*'Форма по МДС 81-35.2004'!M291/100,0),0)","v":0},{"$f":"IF(Определители!I19=\"9\",ROUND((C19+E19)*(Начисления!M19/100)*('Форма по МДС 81-35.2004'!M294/100),0),0)","v":0},{"$f":"IF(Определители!I19=\"9\",ROUND((C19+E19)*(100-Начисления!M19/100)*('Форма по МДС 81-35.2004'!M294/100),0),0)","v":0},{"$f":"IF(Определители!I19=\"9\",ROUND(B19*Начисления!M19/100,0),0)","v":0},{"$f":"IF(Определители!I19=\"9\",ROUND(B19*(100-Начисления!M19)/100,0),0)","v":0},{"$f":"ROUND('Форма по МДС 81-35.2004'!F277*'Базовые цены за единицу'!AE19,0)","v":0}]
[{"$f":"'Форма по МДС 81-35.2004'!A299","v":"15."},{"$f":"'Форма по МДС 81-35.2004'!N299","v":9},{"$f":"ROUND(SUMIF('Форма по МДС 81-35.2004'!J299:J318,\"Г\",'Форма по МДС 81-35.2004'!N299:N318),0)","v":4},{"$f":"ROUND(SUMIF('Форма по МДС 81-35.2004'!J299:J318,\"IsMash\",'Форма по МДС 81-35.2004'!N299:N318),0)","v":5},{"$f":"'Форма по МДС 81-35.2004'!N300","v":1},{"$f":"ROUND(SUMIF('Форма по МДС 81-35.2004'!J299:J318,\"IsMater\",'Форма по МДС 81-35.2004'!N299:N318),0)","v":0},{"$f":"ROUND('Форма по МДС 81-35.2004'!F299*'Базовые цены за единицу'!G20,0)","v":0},{"$f":"ROUND('Форма по МДС 81-35.2004'!F299*'Базовые цены за единицу'!H20,0)","v":0},{"$f":"ОКРУГЛВСЕ(SUMIF('Форма по МДС 81-35.2004'!J299:J318,\"Г\",'Форма по МДС 81-35.2004'!F299:F318),8)","v":0.50048000000000004},{"$f":"ОКРУГЛВСЕ('Форма по МДС 81-35.2004'!F299*'Базовые цены за единицу'!J20,8)","v":0},{"$f":"ОКРУГЛВСЕ(SUMIF('Форма по МДС 81-35.2004'!J299:J318,\"Ж\",'Форма по МДС 81-35.2004'!F299:F318),8)","v":6.2560000000000004E-2},{"$f":"ROUND('Форма по МДС 81-35.2004'!F299*'Базовые цены за единицу'!L20,0)","v":0},{"$f":"ROUND('Форма по МДС 81-35.2004'!F299*'Базовые цены за единицу'!M20,0)","v":0},{"$f":"ROUND(B20*'Форма по МДС 81-35.2004'!M313/100,0)","v":1},{"$f":"ROUND((B20+N20)*'Форма по МДС 81-35.2004'!M316/100,0)","v":1},{"$f":"ROUND('Форма по МДС 81-35.2004'!F299*'Базовые цены за единицу'!P20,0)","v":0},{"$f":"ROUND('Форма по МДС 81-35.2004'!F299*'Базовые цены за единицу'!Q20,0)","v":0},{"$f":"ROUND('Форма по МДС 81-35.2004'!F299*'Базовые цены за единицу'!R20,0)","v":0},{"$f":"ROUND('Форма по МДС 81-35.2004'!F299*'Базовые цены за единицу'!S20,0)","v":0},{"$f":"ROUND('Форма по МДС 81-35.2004'!F299*'Базовые цены за единицу'!T20,0)","v":0},{"$f":"ROUND('Форма по МДС 81-35.2004'!F299*'Базовые цены за единицу'!U20,0)","v":0},{"$f":"ROUND('Форма по МДС 81-35.2004'!F299*'Базовые цены за единицу'!V20,0)","v":0},null,{"$f":"ROUND('Форма по МДС 81-35.2004'!F299*'Базовые цены за единицу'!X20,0)","v":0},{"$f":"IF(Определители!I20=\"9\",ROUND(B20*(Начисления!M20/100)*'Форма по МДС 81-35.2004'!M313/100,0),0)","v":0},{"$f":"IF(Определители!I20=\"9\",ROUND(B20*(100-Начисления!M20/100)*'Форма по МДС 81-35.2004'!M313/100,0),0)","v":0},{"$f":"IF(Определители!I20=\"9\",ROUND((C20+E20)*(Начисления!M20/100)*('Форма по МДС 81-35.2004'!M316/100),0),0)","v":0},{"$f":"IF(Определители!I20=\"9\",ROUND((C20+E20)*(100-Начисления!M20/100)*('Форма по МДС 81-35.2004'!M316/100),0),0)","v":0},{"$f":"IF(Определители!I20=\"9\",ROUND(B20*Начисления!M20/100,0),0)","v":0},{"$f":"IF(Определители!I20=\"9\",ROUND(B20*(100-Начисления!M20)/100,0),0)","v":0},{"$f":"ROUND('Форма по МДС 81-35.2004'!F299*'Базовые цены за единицу'!AE20,0)","v":0}]
[{"$f":"'Форма по МДС 81-35.2004'!A319","v":"16."},{"$f":"'Форма по МДС 81-35.2004'!N319","v":54},{"$f":"ROUND(SUMIF('Форма по МДС 81-35.2004'!J319:J339,\"Г\",'Форма по МДС 81-35.2004'!N319:N339),0)","v":2},{"$f":"ROUND(SUMIF('Форма по МДС 81-35.2004'!J319:J339,\"IsMash\",'Форма по МДС 81-35.2004'!N319:N339),0)","v":0},{"$f":"'Форма по МДС 81-35.2004'!N320","v":0},{"$f":"ROUND(SUMIF('Форма по МДС 81-35.2004'!J319:J339,\"IsMater\",'Форма по МДС 81-35.2004'!N319:N339),0)","v":53},{"$f":"ROUND('Форма по МДС 81-35.2004'!F319*'Базовые цены за единицу'!G21,0)","v":51},{"$f":"ROUND('Форма по МДС 81-35.2004'!F319*'Базовые цены за единицу'!H21,0)","v":0},{"$f":"ОКРУГЛВСЕ(SUMIF('Форма по МДС 81-35.2004'!J319:J339,\"Г\",'Форма по МДС 81-35.2004'!F319:F339),8)","v":0.23372999999999999},{"$f":"ОКРУГЛВСЕ('Форма по МДС 81-35.2004'!F319*'Базовые цены за единицу'!J21,8)","v":0},{"$f":"ОКРУГЛВСЕ(SUMIF('Форма по МДС 81-35.2004'!J319:J339,\"Ж\",'Форма по МДС 81-35.2004'!F319:F339),8)","v":0},{"$f":"ROUND('Форма по МДС 81-35.2004'!F319*'Базовые цены за единицу'!L21,0)","v":0},{"$f":"ROUND('Форма по МДС 81-35.2004'!F319*'Базовые цены за единицу'!M21,0)","v":0},{"$f":"ROUND(B21*'Форма по МДС 81-35.2004'!M334/100,0)","v":6},{"$f":"ROUND((B21+N21)*'Форма по МДС 81-35.2004'!M337/100,0)","v":5},{"$f":"ROUND('Форма по МДС 81-35.2004'!F319*'Базовые цены за единицу'!P21,0)","v":0},{"$f":"ROUND('Форма по МДС 81-35.2004'!F319*'Базовые цены за единицу'!Q21,0)","v":0},{"$f":"ROUND('Форма по МДС 81-35.2004'!F319*'Базовые цены за единицу'!R21,0)","v":0},{"$f":"ROUND('Форма по МДС 81-35.2004'!F319*'Базовые цены за единицу'!S21,0)","v":0},{"$f":"ROUND('Форма по МДС 81-35.2004'!F319*'Базовые цены за единицу'!T21,0)","v":0},{"$f":"ROUND('Форма по МДС 81-35.2004'!F319*'Базовые цены за единицу'!U21,0)","v":0},{"$f":"ROUND('Форма по МДС 81-35.2004'!F319*'Базовые цены за единицу'!V21,0)","v":0},null,{"$f":"ROUND('Форма по МДС 81-35.2004'!F319*'Базовые цены за единицу'!X21,0)","v":0},{"$f":"IF(Определители!I21=\"9\",ROUND(B21*(Начисления!M21/100)*'Форма по МДС 81-35.2004'!M334/100,0),0)","v":0},{"$f":"IF(Определители!I21=\"9\",ROUND(B21*(100-Начисления!M21/100)*'Форма по МДС 81-35.2004'!M334/100,0),0)","v":0},{"$f":"IF(Определители!I21=\"9\",ROUND((C21+E21)*(Начисления!M21/100)*('Форма по МДС 81-35.2004'!M337/100),0),0)","v":0},{"$f":"IF(Определители!I21=\"9\",ROUND((C21+E21)*(100-Начисления!M21/100)*('Форма по МДС 81-35.2004'!M337/100),0),0)","v":0},{"$f":"IF(Определители!I21=\"9\",ROUND(B21*Начисления!M21/100,0),0)","v":0},{"$f":"IF(Определители!I21=\"9\",ROUND(B21*(100-Начисления!M21)/100,0),0)","v":0},{"$f":"ROUND('Форма по МДС 81-35.2004'!F319*'Базовые цены за единицу'!AE21,0)","v":0}]
[{"$f":"'Форма по МДС 81-35.2004'!A340","v":"17."},{"$f":"'Форма по МДС 81-35.2004'!N340","v":8},{"$f":"ROUND(SUMIF('Форма по МДС 81-35.2004'!J340:J359,\"Г\",'Форма по МДС 81-35.2004'!N340:N359),0)","v":2},{"$f":"ROUND(SUMIF('Форма по МДС 81-35.2004'!J340:J359,\"IsMash\",'Форма по МДС 81-35.2004'!N340:N359),0)","v":0},{"$f":"'Форма по МДС 81-35.2004'!N341","v":0},{"$f":"ROUND(SUMIF('Форма по МДС 81-35.2004'!J340:J359,\"IsMater\",'Форма по МДС 81-35.2004'!N340:N359),0)","v":6},{"$f":"ROUND('Форма по МДС 81-35.2004'!F340*'Базовые цены за единицу'!G22,0)","v":6},{"$f":"ROUND('Форма по МДС 81-35.2004'!F340*'Базовые цены за единицу'!H22,0)","v":0},{"$f":"ОКРУГЛВСЕ(SUMIF('Форма по МДС 81-35.2004'!J340:J359,\"Г\",'Форма по МДС 81-35.2004'!F340:F359),8)","v":0.19055},{"$f":"ОКРУГЛВСЕ('Форма по МДС 81-35.2004'!F340*'Базовые цены за единицу'!J22,8)","v":0},{"$f":"ОКРУГЛВСЕ(SUMIF('Форма по МДС 81-35.2004'!J340:J359,\"Ж\",'Форма по МДС 81-35.2004'!F340:F359),8)","v":0},{"$f":"ROUND('Форма по МДС 81-35.2004'!F340*'Базовые цены за единицу'!L22,0)","v":0},{"$f":"ROUND('Форма по МДС 81-35.2004'!F340*'Базовые цены за единицу'!M22,0)","v":0},{"$f":"ROUND(B22*'Форма по МДС 81-35.2004'!M354/100,0)","v":1},{"$f":"ROUND((B22+N22)*'Форма по МДС 81-35.2004'!M357/100,0)","v":1},{"$f":"ROUND('Форма по МДС 81-35.2004'!F340*'Базовые цены за единицу'!P22,0)","v":0},{"$f":"ROUND('Форма по МДС 81-35.2004'!F340*'Базовые цены за единицу'!Q22,0)","v":0},{"$f":"ROUND('Форма по МДС 81-35.2004'!F340*'Базовые цены за единицу'!R22,0)","v":0},{"$f":"ROUND('Форма по МДС 81-35.2004'!F340*'Базовые цены за единицу'!S22,0)","v":0},{"$f":"ROUND('Форма по МДС 81-35.2004'!F340*'Базовые цены за единицу'!T22,0)","v":0},{"$f":"ROUND('Форма по МДС 81-35.2004'!F340*'Базовые цены за единицу'!U22,0)","v":0},{"$f":"ROUND('Форма по МДС 81-35.2004'!F340*'Базовые цены за единицу'!V22,0)","v":0},null,{"$f":"ROUND('Форма по МДС 81-35.2004'!F340*'Базовые цены за единицу'!X22,0)","v":0},{"$f":"IF(Определители!I22=\"9\",ROUND(B22*(Начисления!M22/100)*'Форма по МДС 81-35.2004'!M354/100,0),0)","v":0},{"$f":"IF(Определители!I22=\"9\",ROUND(B22*(100-Начисления!M22/100)*'Форма по МДС 81-35.2004'!M354/100,0),0)","v":0},{"$f":"IF(Определители!I22=\"9\",ROUND((C22+E22)*(Начисления!M22/100)*('Форма по МДС 81-35.2004'!M357/100),0),0)","v":0},{"$f":"IF(Определители!I22=\"9\",ROUND((C22+E22)*(100-Начисления!M22/100)*('Форма по МДС 81-35.2004'!M357/100),0),0)","v":0},{"$f":"IF(Определители!I22=\"9\",ROUND(B22*Начисления!M22/100,0),0)","v":0},{"$f":"IF(Определители!I22=\"9\",ROUND(B22*(100-Начисления!M22)/100,0),0)","v":0},{"$f":"ROUND('Форма по МДС 81-35.2004'!F340*'Базовые цены за единицу'!AE22,0)","v":0}]
[{"$f":"'Форма по МДС 81-35.2004'!A360","v":"18."},{"$f":"'Форма по МДС 81-35.2004'!N360","v":0},{"$f":"ROUND(SUMIF('Форма по МДС 81-35.2004'!J360:J379,\"Г\",'Форма по МДС 81-35.2004'!N360:N379),0)","v":0},{"$f":"ROUND(SUMIF('Форма по МДС 81-35.2004'!J360:J379,\"IsMash\",'Форма по МДС 81-35.2004'!N360:N379),0)","v":0},{"$f":"'Форма по МДС 81-35.2004'!N361","v":0},{"$f":"ROUND(SUMIF('Форма по МДС 81-35.2004'!J360:J379,\"IsMater\",'Форма по МДС 81-35.2004'!N360:N379),0)","v":0},{"$f":"ROUND('Форма по МДС 81-35.2004'!F360*'Базовые цены за единицу'!G23,0)","v":0},{"$f":"ROUND('Форма по МДС 81-35.2004'!F360*'Базовые цены за единицу'!H23,0)","v":0},{"$f":"ОКРУГЛВСЕ(SUMIF('Форма по МДС 81-35.2004'!J360:J379,\"Г\",'Форма по МДС 81-35.2004'!F360:F379),8)","v":4.5999999999999999E-3},{"$f":"ОКРУГЛВСЕ('Форма по МДС 81-35.2004'!F360*'Базовые цены за единицу'!J23,8)","v":0},{"$f":"ОКРУГЛВСЕ(SUMIF('Форма по МДС 81-35.2004'!J360:J379,\"Ж\",'Форма по МДС 81-35.2004'!F360:F379),8)","v":1.15E-3},{"$f":"ROUND('Форма по МДС 81-35.2004'!F360*'Базовые цены за единицу'!L23,0)","v":0},{"$f":"ROUND('Форма по МДС 81-35.2004'!F360*'Базовые цены за единицу'!M23,0)","v":0},{"$f":"ROUND(B23*'Форма по МДС 81-35.2004'!M374/100,0)","v":0},{"$f":"ROUND((B23+N23)*'Форма по МДС 81-35.2004'!M377/100,0)","v":0},{"$f":"ROUND('Форма по МДС 81-35.2004'!F360*'Базовые цены за единицу'!P23,0)","v":0},{"$f":"ROUND('Форма по МДС 81-35.2004'!F360*'Базовые цены за единицу'!Q23,0)","v":0},{"$f":"ROUND('Форма по МДС 81-35.2004'!F360*'Базовые цены за единицу'!R23,0)","v":0},{"$f":"ROUND('Форма по МДС 81-35.2004'!F360*'Базовые цены за единицу'!S23,0)","v":0},{"$f":"ROUND('Форма по МДС 81-35.2004'!F360*'Базовые цены за единицу'!T23,0)","v":0},{"$f":"ROUND('Форма по МДС 81-35.2004'!F360*'Базовые цены за единицу'!U23,0)","v":0},{"$f":"ROUND('Форма по МДС 81-35.2004'!F360*'Базовые цены за единицу'!V23,0)","v":0},null,{"$f":"ROUND('Форма по МДС 81-35.2004'!F360*'Базовые цены за единицу'!X23,0)","v":0},{"$f":"IF(Определители!I23=\"9\",ROUND(B23*(Начисления!M23/100)*'Форма по МДС 81-35.2004'!M374/100,0),0)","v":0},{"$f":"IF(Определители!I23=\"9\",ROUND(B23*(100-Начисления!M23/100)*'Форма по МДС 81-35.2004'!M374/100,0),0)","v":0},{"$f":"IF(Определители!I23=\"9\",ROUND((C23+E23)*(Начисления!M23/100)*('Форма по МДС 81-35.2004'!M377/100),0),0)","v":0},{"$f":"IF(Определители!I23=\"9\",ROUND((C23+E23)*(100-Начисления!M23/100)*('Форма по МДС 81-35.2004'!M377/100),0),0)","v":0},{"$f":"IF(Определители!I23=\"9\",ROUND(B23*Начисления!M23/100,0),0)","v":0},{"$f":"IF(Определители!I23=\"9\",ROUND(B23*(100-Начисления!M23)/100,0),0)","v":0},{"$f":"ROUND('Форма по МДС 81-35.2004'!F360*'Базовые цены за единицу'!AE23,0)","v":0}]
[{"$f":"'Форма по МДС 81-35.2004'!A380","v":"19."},{"$f":"'Форма по МДС 81-35.2004'!N380","v":3},{"$f":"ROUND(SUMIF('Форма по МДС 81-35.2004'!J380:J399,\"Г\",'Форма по МДС 81-35.2004'!N380:N399),0)","v":1},{"$f":"ROUND(SUMIF('Форма по МДС 81-35.2004'!J380:J399,\"IsMash\",'Форма по МДС 81-35.2004'!N380:N399),0)","v":1},{"$f":"'Форма по МДС 81-35.2004'!N381","v":0},{"$f":"ROUND(SUMIF('Форма по МДС 81-35.2004'!J380:J399,\"IsMater\",'Форма по МДС 81-35.2004'!N380:N399),0)","v":0},{"$f":"ROUND('Форма по МДС 81-35.2004'!F380*'Базовые цены за единицу'!G24,0)","v":0},{"$f":"ROUND('Форма по МДС 81-35.2004'!F380*'Базовые цены за единицу'!H24,0)","v":0},{"$f":"ОКРУГЛВСЕ(SUMIF('Форма по МДС 81-35.2004'!J380:J399,\"Г\",'Форма по МДС 81-35.2004'!F380:F399),8)","v":0.13600000000000001},{"$f":"ОКРУГЛВСЕ('Форма по МДС 81-35.2004'!F380*'Базовые цены за единицу'!J24,8)","v":0},{"$f":"ОКРУГЛВСЕ(SUMIF('Форма по МДС 81-35.2004'!J380:J399,\"Ж\",'Форма по МДС 81-35.2004'!F380:F399),8)","v":1.7000000000000001E-2},{"$f":"ROUND('Форма по МДС 81-35.2004'!F380*'Базовые цены за единицу'!L24,0)","v":0},{"$f":"ROUND('Форма по МДС 81-35.2004'!F380*'Базовые цены за единицу'!M24,0)","v":0},{"$f":"ROUND(B24*'Форма по МДС 81-35.2004'!M394/100,0)","v":0},{"$f":"ROUND((B24+N24)*'Форма по МДС 81-35.2004'!M397/100,0)","v":0},{"$f":"ROUND('Форма по МДС 81-35.2004'!F380*'Базовые цены за единицу'!P24,0)","v":0},{"$f":"ROUND('Форма по МДС 81-35.2004'!F380*'Базовые цены за единицу'!Q24,0)","v":0},{"$f":"ROUND('Форма по МДС 81-35.2004'!F380*'Базовые цены за единицу'!R24,0)","v":0},{"$f":"ROUND('Форма по МДС 81-35.2004'!F380*'Базовые цены за единицу'!S24,0)","v":0},{"$f":"ROUND('Форма по МДС 81-35.2004'!F380*'Базовые цены за единицу'!T24,0)","v":0},{"$f":"ROUND('Форма по МДС 81-35.2004'!F380*'Базовые цены за единицу'!U24,0)","v":0},{"$f":"ROUND('Форма по МДС 81-35.2004'!F380*'Базовые цены за единицу'!V24,0)","v":0},null,{"$f":"ROUND('Форма по МДС 81-35.2004'!F380*'Базовые цены за единицу'!X24,0)","v":0},{"$f":"IF(Определители!I24=\"9\",ROUND(B24*(Начисления!M24/100)*'Форма по МДС 81-35.2004'!M394/100,0),0)","v":0},{"$f":"IF(Определители!I24=\"9\",ROUND(B24*(100-Начисления!M24/100)*'Форма по МДС 81-35.2004'!M394/100,0),0)","v":0},{"$f":"IF(Определители!I24=\"9\",ROUND((C24+E24)*(Начисления!M24/100)*('Форма по МДС 81-35.2004'!M397/100),0),0)","v":0},{"$f":"IF(Определители!I24=\"9\",ROUND((C24+E24)*(100-Начисления!M24/100)*('Форма по МДС 81-35.2004'!M397/100),0),0)","v":0},{"$f":"IF(Определители!I24=\"9\",ROUND(B24*Начисления!M24/100,0),0)","v":0},{"$f":"IF(Определители!I24=\"9\",ROUND(B24*(100-Начисления!M24)/100,0),0)","v":0},{"$f":"ROUND('Форма по МДС 81-35.2004'!F380*'Базовые цены за единицу'!AE24,0)","v":0}]
[{"$f":"'Форма по МДС 81-35.2004'!A402","v":"20."},{"$f":"'Форма по МДС 81-35.2004'!N402","v":1},{"$f":"ROUND(SUMIF('Форма по МДС 81-35.2004'!J402:J421,\"Г\",'Форма по МДС 81-35.2004'!N402:N421),0)","v":0},{"$f":"ROUND(SUMIF('Форма по МДС 81-35.2004'!J402:J421,\"IsMash\",'Форма по МДС 81-35.2004'!N402:N421),0)","v":0},{"$f":"'Форма по МДС 81-35.2004'!N403","v":0},{"$f":"ROUND(SUMIF('Форма по МДС 81-35.2004'!J402:J421,\"IsMater\",'Форма по МДС 81-35.2004'!N402:N421),0)","v":0},{"$f":"ROUND('Форма по МДС 81-35.2004'!F402*'Базовые цены за единицу'!G25,0)","v":0},{"$f":"ROUND('Форма по МДС 81-35.2004'!F402*'Базовые цены за единицу'!H25,0)","v":0},{"$f":"ОКРУГЛВСЕ(SUMIF('Форма по МДС 81-35.2004'!J402:J421,\"Г\",'Форма по МДС 81-35.2004'!F402:F421),8)","v":3.6799999999999999E-2},{"$f":"ОКРУГЛВСЕ('Форма по МДС 81-35.2004'!F402*'Базовые цены за единицу'!J25,8)","v":0},{"$f":"ОКРУГЛВСЕ(SUMIF('Форма по МДС 81-35.2004'!J402:J421,\"Ж\",'Форма по МДС 81-35.2004'!F402:F421),8)","v":4.5999999999999999E-3},{"$f":"ROUND('Форма по МДС 81-35.2004'!F402*'Базовые цены за единицу'!L25,0)","v":0},{"$f":"ROUND('Форма по МДС 81-35.2004'!F402*'Базовые цены за единицу'!M25,0)","v":0},{"$f":"ROUND(B25*'Форма по МДС 81-35.2004'!M416/100,0)","v":0},{"$f":"ROUND((B25+N25)*'Форма по МДС 81-35.2004'!M419/100,0)","v":0},{"$f":"ROUND('Форма по МДС 81-35.2004'!F402*'Базовые цены за единицу'!P25,0)","v":0},{"$f":"ROUND('Форма по МДС 81-35.2004'!F402*'Базовые цены за единицу'!Q25,0)","v":0},{"$f":"ROUND('Форма по МДС 81-35.2004'!F402*'Базовые цены за единицу'!R25,0)","v":0},{"$f":"ROUND('Форма по МДС 81-35.2004'!F402*'Базовые цены за единицу'!S25,0)","v":0},{"$f":"ROUND('Форма по МДС 81-35.2004'!F402*'Базовые цены за единицу'!T25,0)","v":0},{"$f":"ROUND('Форма по МДС 81-35.2004'!F402*'Базовые цены за единицу'!U25,0)","v":0},{"$f":"ROUND('Форма по МДС 81-35.2004'!F402*'Базовые цены за единицу'!V25,0)","v":0},null,{"$f":"ROUND('Форма по МДС 81-35.2004'!F402*'Базовые цены за единицу'!X25,0)","v":0},{"$f":"IF(Определители!I25=\"9\",ROUND(B25*(Начисления!M25/100)*'Форма по МДС 81-35.2004'!M416/100,0),0)","v":0},{"$f":"IF(Определители!I25=\"9\",ROUND(B25*(100-Начисления!M25/100)*'Форма по МДС 81-35.2004'!M416/100,0),0)","v":0},{"$f":"IF(Определители!I25=\"9\",ROUND((C25+E25)*(Начисления!M25/100)*('Форма по МДС 81-35.2004'!M419/100),0),0)","v":0},{"$f":"IF(Определители!I25=\"9\",ROUND((C25+E25)*(100-Начисления!M25/100)*('Форма по МДС 81-35.2004'!M419/100),0),0)","v":0},{"$f":"IF(Определители!I25=\"9\",ROUND(B25*Начисления!M25/100,0),0)","v":0},{"$f":"IF(Определители!I25=\"9\",ROUND(B25*(100-Начисления!M25)/100,0),0)","v":0},{"$f":"ROUND('Форма по МДС 81-35.2004'!F402*'Базовые цены за единицу'!AE25,0)","v":0}]
[{"$f":"'Форма по МДС 81-35.2004'!A422","v":"21."},{"$f":"'Форма по МДС 81-35.2004'!N422","v":0},{"$f":"ROUND(SUMIF('Форма по МДС 81-35.2004'!J422:J441,\"Г\",'Форма по МДС 81-35.2004'!N422:N441),0)","v":0},{"$f":"ROUND(SUMIF('Форма по МДС 81-35.2004'!J422:J441,\"IsMash\",'Форма по МДС 81-35.2004'!N422:N441),0)","v":0},{"$f":"'Форма по МДС 81-35.2004'!N423","v":0},{"$f":"ROUND(SUMIF('Форма по МДС 81-35.2004'!J422:J441,\"IsMater\",'Форма по МДС 81-35.2004'!N422:N441),0)","v":0},{"$f":"ROUND('Форма по МДС 81-35.2004'!F422*'Базовые цены за единицу'!G26,0)","v":0},{"$f":"ROUND('Форма по МДС 81-35.2004'!F422*'Базовые цены за единицу'!H26,0)","v":0},{"$f":"ОКРУГЛВСЕ(SUMIF('Форма по МДС 81-35.2004'!J422:J441,\"Г\",'Форма по МДС 81-35.2004'!F422:F441),8)","v":8.9599999999999992E-3},{"$f":"ОКРУГЛВСЕ('Форма по МДС 81-35.2004'!F422*'Базовые цены за единицу'!J26,8)","v":0},{"$f":"ОКРУГЛВСЕ(SUMIF('Форма по МДС 81-35.2004'!J422:J441,\"Ж\",'Форма по МДС 81-35.2004'!F422:F441),8)","v":1.1199999999999999E-3},{"$f":"ROUND('Форма по МДС 81-35.2004'!F422*'Базовые цены за единицу'!L26,0)","v":0},{"$f":"ROUND('Форма по МДС 81-35.2004'!F422*'Базовые цены за единицу'!M26,0)","v":0},{"$f":"ROUND(B26*'Форма по МДС 81-35.2004'!M436/100,0)","v":0},{"$f":"ROUND((B26+N26)*'Форма по МДС 81-35.2004'!M439/100,0)","v":0},{"$f":"ROUND('Форма по МДС 81-35.2004'!F422*'Базовые цены за единицу'!P26,0)","v":0},{"$f":"ROUND('Форма по МДС 81-35.2004'!F422*'Базовые цены за единицу'!Q26,0)","v":0},{"$f":"ROUND('Форма по МДС 81-35.2004'!F422*'Базовые цены за единицу'!R26,0)","v":0},{"$f":"ROUND('Форма по МДС 81-35.2004'!F422*'Базовые цены за единицу'!S26,0)","v":0},{"$f":"ROUND('Форма по МДС 81-35.2004'!F422*'Базовые цены за единицу'!T26,0)","v":0},{"$f":"ROUND('Форма по МДС 81-35.2004'!F422*'Базовые цены за единицу'!U26,0)","v":0},{"$f":"ROUND('Форма по МДС 81-35.2004'!F422*'Базовые цены за единицу'!V26,0)","v":0},null,{"$f":"ROUND('Форма по МДС 81-35.2004'!F422*'Базовые цены за единицу'!X26,0)","v":0},{"$f":"IF(Определители!I26=\"9\",ROUND(B26*(Начисления!M26/100)*'Форма по МДС 81-35.2004'!M436/100,0),0)","v":0},{"$f":"IF(Определители!I26=\"9\",ROUND(B26*(100-Начисления!M26/100)*'Форма по МДС 81-35.2004'!M436/100,0),0)","v":0},{"$f":"IF(Определители!I26=\"9\",ROUND((C26+E26)*(Начисления!M26/100)*('Форма по МДС 81-35.2004'!M439/100),0),0)","v":0},{"$f":"IF(Определители!I26=\"9\",ROUND((C26+E26)*(100-Начисления!M26/100)*('Форма по МДС 81-35.2004'!M439/100),0),0)","v":0},{"$f":"IF(Определители!I26=\"9\",ROUND(B26*Начисления!M26/100,0),0)","v":0},{"$f":"IF(Определители!I26=\"9\",ROUND(B26*(100-Начисления!M26)/100,0),0)","v":0},{"$f":"ROUND('Форма по МДС 81-35.2004'!F422*'Базовые цены за единицу'!AE26,0)","v":0}]
[{"$f":"'Форма по МДС 81-35.2004'!A442","v":"22."},{"$f":"'Форма по МДС 81-35.2004'!N442","v":60},{"$f":"ROUND(SUMIF('Форма по МДС 81-35.2004'!J442:J470,\"Г\",'Форма по МДС 81-35.2004'!N442:N470),0)","v":16},{"$f":"ROUND(SUMIF('Форма по МДС 81-35.2004'!J442:J470,\"IsMash\",'Форма по МДС 81-35.2004'!N442:N470),0)","v":43},{"$f":"'Форма по МДС 81-35.2004'!N443","v":6},{"$f":"ROUND(SUMIF('Форма по МДС 81-35.2004'!J442:J470,\"IsMater\",'Форма по МДС 81-35.2004'!N442:N470),0)","v":1},{"$f":"ROUND('Форма по МДС 81-35.2004'!F442*'Базовые цены за единицу'!G27,0)","v":1},{"$f":"ROUND('Форма по МДС 81-35.2004'!F442*'Базовые цены за единицу'!H27,0)","v":0},{"$f":"ОКРУГЛВСЕ(SUMIF('Форма по МДС 81-35.2004'!J442:J470,\"Г\",'Форма по МДС 81-35.2004'!F442:F470),8)","v":1.9781519999999999},{"$f":"ОКРУГЛВСЕ('Форма по МДС 81-35.2004'!F442*'Базовые цены за единицу'!J27,8)","v":0},{"$f":"ОКРУГЛВСЕ(SUMIF('Форма по МДС 81-35.2004'!J442:J470,\"Ж\",'Форма по МДС 81-35.2004'!F442:F470),8)","v":0.49453799999999998},{"$f":"ROUND('Форма по МДС 81-35.2004'!F442*'Базовые цены за единицу'!L27,0)","v":0},{"$f":"ROUND('Форма по МДС 81-35.2004'!F442*'Базовые цены за единицу'!M27,0)","v":0},{"$f":"ROUND(B27*'Форма по МДС 81-35.2004'!M465/100,0)","v":7},{"$f":"ROUND((B27+N27)*'Форма по МДС 81-35.2004'!M468/100,0)","v":5},{"$f":"ROUND('Форма по МДС 81-35.2004'!F442*'Базовые цены за единицу'!P27,0)","v":0},{"$f":"ROUND('Форма по МДС 81-35.2004'!F442*'Базовые цены за единицу'!Q27,0)","v":0},{"$f":"ROUND('Форма по МДС 81-35.2004'!F442*'Базовые цены за единицу'!R27,0)","v":0},{"$f":"ROUND('Форма по МДС 81-35.2004'!F442*'Базовые цены за единицу'!S27,0)","v":0},{"$f":"ROUND('Форма по МДС 81-35.2004'!F442*'Базовые цены за единицу'!T27,0)","v":0},{"$f":"ROUND('Форма по МДС 81-35.2004'!F442*'Базовые цены за единицу'!U27,0)","v":0},{"$f":"ROUND('Форма по МДС 81-35.2004'!F442*'Базовые цены за единицу'!V27,0)","v":0},null,{"$f":"ROUND('Форма по МДС 81-35.2004'!F442*'Базовые цены за единицу'!X27,0)","v":0},{"$f":"IF(Определители!I27=\"9\",ROUND(B27*(Начисления!M27/100)*'Форма по МДС 81-35.2004'!M465/100,0),0)","v":0},{"$f":"IF(Определители!I27=\"9\",ROUND(B27*(100-Начисления!M27/100)*'Форма по МДС 81-35.2004'!M465/100,0),0)","v":0},{"$f":"IF(Определители!I27=\"9\",ROUND((C27+E27)*(Начисления!M27/100)*('Форма по МДС 81-35.2004'!M468/100),0),0)","v":0},{"$f":"IF(Определители!I27=\"9\",ROUND((C27+E27)*(100-Начисления!M27/100)*('Форма по МДС 81-35.2004'!M468/100),0),0)","v":0},{"$f":"IF(Определители!I27=\"9\",ROUND(B27*Начисления!M27/100,0),0)","v":0},{"$f":"IF(Определители!I27=\"9\",ROUND(B27*(100-Начисления!M27)/100,0),0)","v":0},{"$f":"ROUND('Форма по МДС 81-35.2004'!F442*'Базовые цены за единицу'!AE27,0)","v":0}]
[{"$f":"'Форма по МДС 81-35.2004'!A472","v":"23."},{"$f":"'Форма по МДС 81-35.2004'!N472","v":16},{"$f":"ROUND(SUMIF('Форма по МДС 81-35.2004'!J472:J498,\"Г\",'Форма по МДС 81-35.2004'!N472:N498),0)","v":5},{"$f":"ROUND(SUMIF('Форма по МДС 81-35.2004'!J472:J498,\"IsMash\",'Форма по МДС 81-35.2004'!N472:N498),0)","v":13},{"$f":"'Форма по МДС 81-35.2004'!N473","v":2},{"$f":"ROUND(SUMIF('Форма по МДС 81-35.2004'!J472:J498,\"IsMater\",'Форма по МДС 81-35.2004'!N472:N498),0)","v":0},{"$f":"ROUND('Форма по МДС 81-35.2004'!F472*'Базовые цены за единицу'!G28,0)","v":0},{"$f":"ROUND('Форма по МДС 81-35.2004'!F472*'Базовые цены за единицу'!H28,0)","v":0},{"$f":"ОКРУГЛВСЕ(SUMIF('Форма по МДС 81-35.2004'!J472:J498,\"Г\",'Форма по МДС 81-35.2004'!F472:F498),8)","v":0.45350000000000001},{"$f":"ОКРУГЛВСЕ('Форма по МДС 81-35.2004'!F472*'Базовые цены за единицу'!J28,8)","v":0},{"$f":"ОКРУГЛВСЕ(SUMIF('Форма по МДС 81-35.2004'!J472:J498,\"Ж\",'Форма по МДС 81-35.2004'!F472:F498),8)","v":0.12959999999999999},{"$f":"ROUND('Форма по МДС 81-35.2004'!F472*'Базовые цены за единицу'!L28,0)","v":0},{"$f":"ROUND('Форма по МДС 81-35.2004'!F472*'Базовые цены за единицу'!M28,0)","v":0},{"$f":"ROUND(B28*'Форма по МДС 81-35.2004'!M493/100,0)","v":2},{"$f":"ROUND((B28+N28)*'Форма по МДС 81-35.2004'!M496/100,0)","v":1},{"$f":"ROUND('Форма по МДС 81-35.2004'!F472*'Базовые цены за единицу'!P28,0)","v":0},{"$f":"ROUND('Форма по МДС 81-35.2004'!F472*'Базовые цены за единицу'!Q28,0)","v":0},{"$f":"ROUND('Форма по МДС 81-35.2004'!F472*'Базовые цены за единицу'!R28,0)","v":0},{"$f":"ROUND('Форма по МДС 81-35.2004'!F472*'Базовые цены за единицу'!S28,0)","v":0},{"$f":"ROUND('Форма по МДС 81-35.2004'!F472*'Базовые цены за единицу'!T28,0)","v":0},{"$f":"ROUND('Форма по МДС 81-35.2004'!F472*'Базовые цены за единицу'!U28,0)","v":0},{"$f":"ROUND('Форма по МДС 81-35.2004'!F472*'Базовые цены за единицу'!V28,0)","v":0},null,{"$f":"ROUND('Форма по МДС 81-35.2004'!F472*'Базовые цены за единицу'!X28,0)","v":0},{"$f":"IF(Определители!I28=\"9\",ROUND(B28*(Начисления!M28/100)*'Форма по МДС 81-35.2004'!M493/100,0),0)","v":0},{"$f":"IF(Определители!I28=\"9\",ROUND(B28*(100-Начисления!M28/100)*'Форма по МДС 81-35.2004'!M493/100,0),0)","v":0},{"$f":"IF(Определители!I28=\"9\",ROUND((C28+E28)*(Начисления!M28/100)*('Форма по МДС 81-35.2004'!M496/100),0),0)","v":0},{"$f":"IF(Определители!I28=\"9\",ROUND((C28+E28)*(100-Начисления!M28/100)*('Форма по МДС 81-35.2004'!M496/100),0),0)","v":0},{"$f":"IF(Определители!I28=\"9\",ROUND(B28*Начисления!M28/100,0),0)","v":0},{"$f":"IF(Определители!I28=\"9\",ROUND(B28*(100-Начисления!M28)/100,0),0)","v":0},{"$f":"ROUND('Форма по МДС 81-35.2004'!F472*'Базовые цены за единицу'!AE28,0)","v":0}]
[{"$f":"'Форма по МДС 81-35.2004'!A499","v":"24."},{"$f":"'Форма по МДС 81-35.2004'!N499","v":4},{"$f":"ROUND(SUMIF('Форма по МДС 81-35.2004'!J499:J524,\"Г\",'Форма по МДС 81-35.2004'!N499:N524),0)","v":0},{"$f":"ROUND(SUMIF('Форма по МДС 81-35.2004'!J499:J524,\"IsMash\",'Форма по МДС 81-35.2004'!N499:N524),0)","v":4},{"$f":"'Форма по МДС 81-35.2004'!N500","v":1},{"$f":"ROUND(SUMIF('Форма по МДС 81-35.2004'!J499:J524,\"IsMater\",'Форма по МДС 81-35.2004'!N499:N524),0)","v":0},{"$f":"ROUND('Форма по МДС 81-35.2004'!F499*'Базовые цены за единицу'!G29,0)","v":0},{"$f":"ROUND('Форма по МДС 81-35.2004'!F499*'Базовые цены за единицу'!H29,0)","v":0},{"$f":"ОКРУГЛВСЕ(SUMIF('Форма по МДС 81-35.2004'!J499:J524,\"Г\",'Форма по МДС 81-35.2004'!F499:F524),8)","v":0.37840000000000001},{"$f":"ОКРУГЛВСЕ('Форма по МДС 81-35.2004'!F499*'Базовые цены за единицу'!J29,8)","v":0},{"$f":"ОКРУГЛВСЕ(SUMIF('Форма по МДС 81-35.2004'!J499:J524,\"Ж\",'Форма по МДС 81-35.2004'!F499:F524),8)","v":0.1419},{"$f":"ROUND('Форма по МДС 81-35.2004'!F499*'Базовые цены за единицу'!L29,0)","v":0},{"$f":"ROUND('Форма по МДС 81-35.2004'!F499*'Базовые цены за единицу'!M29,0)","v":0},{"$f":"ROUND(B29*'Форма по МДС 81-35.2004'!M519/100,0)","v":0},{"$f":"ROUND((B29+N29)*'Форма по МДС 81-35.2004'!M522/100,0)","v":0},{"$f":"ROUND('Форма по МДС 81-35.2004'!F499*'Базовые цены за единицу'!P29,0)","v":0},{"$f":"ROUND('Форма по МДС 81-35.2004'!F499*'Базовые цены за единицу'!Q29,0)","v":0},{"$f":"ROUND('Форма по МДС 81-35.2004'!F499*'Базовые цены за единицу'!R29,0)","v":0},{"$f":"ROUND('Форма по МДС 81-35.2004'!F499*'Базовые цены за единицу'!S29,0)","v":0},{"$f":"ROUND('Форма по МДС 81-35.2004'!F499*'Базовые цены за единицу'!T29,0)","v":0},{"$f":"ROUND('Форма по МДС 81-35.2004'!F499*'Базовые цены за единицу'!U29,0)","v":0},{"$f":"ROUND('Форма по МДС 81-35.2004'!F499*'Базовые цены за единицу'!V29,0)","v":0},null,{"$f":"ROUND('Форма по МДС 81-35.2004'!F499*'Базовые цены за единицу'!X29,0)","v":0},{"$f":"IF(Определители!I29=\"9\",ROUND(B29*(Начисления!M29/100)*'Форма по МДС 81-35.2004'!M519/100,0),0)","v":0},{"$f":"IF(Определители!I29=\"9\",ROUND(B29*(100-Начисления!M29/100)*'Форма по МДС 81-35.2004'!M519/100,0),0)","v":0},{"$f":"IF(Определители!I29=\"9\",ROUND((C29+E29)*(Начисления!M29/100)*('Форма по МДС 81-35.2004'!M522/100),0),0)","v":0},{"$f":"IF(Определители!I29=\"9\",ROUND((C29+E29)*(100-Начисления!M29/100)*('Форма по МДС 81-35.2004'!M522/100),0),0)","v":0},{"$f":"IF(Определители!I29=\"9\",ROUND(B29*Начисления!M29/100,0),0)","v":0},{"$f":"IF(Определители!I29=\"9\",ROUND(B29*(100-Начисления!M29)/100,0),0)","v":0},{"$f":"ROUND('Форма по МДС 81-35.2004'!F499*'Базовые цены за единицу'!AE29,0)","v":0}]
[{"$f":"'Форма по МДС 81-35.2004'!A525","v":"25."},{"$f":"'Форма по МДС 81-35.2004'!N525","v":0},{"$f":"ROUND(SUMIF('Форма по МДС 81-35.2004'!J525:J543,\"Г\",'Форма по МДС 81-35.2004'!N525:N543),0)","v":0},{"$f":"ROUND(SUMIF('Форма по МДС 81-35.2004'!J525:J543,\"IsMash\",'Форма по МДС 81-35.2004'!N525:N543),0)","v":0},{"$f":"'Форма по МДС 81-35.2004'!N527","v":0},{"$f":"ROUND(SUMIF('Форма по МДС 81-35.2004'!J525:J543,\"IsMater\",'Форма по МДС 81-35.2004'!N525:N543),0)","v":0},{"$f":"ROUND('Форма по МДС 81-35.2004'!F525*'Базовые цены за единицу'!G30,0)","v":0},{"$f":"ROUND('Форма по МДС 81-35.2004'!F525*'Базовые цены за единицу'!H30,0)","v":0},{"$f":"ОКРУГЛВСЕ(SUMIF('Форма по МДС 81-35.2004'!J525:J543,\"Г\",'Форма по МДС 81-35.2004'!F525:F543),8)","v":0},{"$f":"ОКРУГЛВСЕ('Форма по МДС 81-35.2004'!F525*'Базовые цены за единицу'!J30,8)","v":0},{"$f":"ОКРУГЛВСЕ(SUMIF('Форма по МДС 81-35.2004'!J525:J543,\"Ж\",'Форма по МДС 81-35.2004'!F525:F543),8)","v":0},{"$f":"ROUND('Форма по МДС 81-35.2004'!F525*'Базовые цены за единицу'!L30,0)","v":0},{"$f":"ROUND('Форма по МДС 81-35.2004'!F525*'Базовые цены за единицу'!M30,0)","v":0},{"$f":"ROUND(B30*'Форма по МДС 81-35.2004'!M538/100,0)","v":0},{"$f":"ROUND((B30+N30)*'Форма по МДС 81-35.2004'!M541/100,0)","v":0},{"$f":"ROUND('Форма по МДС 81-35.2004'!F525*'Базовые цены за единицу'!P30,0)","v":0},{"$f":"ROUND('Форма по МДС 81-35.2004'!F525*'Базовые цены за единицу'!Q30,0)","v":0},{"$f":"ROUND('Форма по МДС 81-35.2004'!F525*'Базовые цены за единицу'!R30,0)","v":0},{"$f":"ROUND('Форма по МДС 81-35.2004'!F525*'Базовые цены за единицу'!S30,0)","v":0},{"$f":"ROUND('Форма по МДС 81-35.2004'!F525*'Базовые цены за единицу'!T30,0)","v":0},{"$f":"ROUND('Форма по МДС 81-35.2004'!F525*'Базовые цены за единицу'!U30,0)","v":0},{"$f":"ROUND('Форма по МДС 81-35.2004'!F525*'Базовые цены за единицу'!V30,0)","v":0},null,{"$f":"ROUND('Форма по МДС 81-35.2004'!F525*'Базовые цены за единицу'!X30,0)","v":0},{"$f":"IF(Определители!I30=\"9\",ROUND(B30*(Начисления!M30/100)*'Форма по МДС 81-35.2004'!M538/100,0),0)","v":0},{"$f":"IF(Определители!I30=\"9\",ROUND(B30*(100-Начисления!M30/100)*'Форма по МДС 81-35.2004'!M538/100,0),0)","v":0},{"$f":"IF(Определители!I30=\"9\",ROUND((C30+E30)*(Начисления!M30/100)*('Форма по МДС 81-35.2004'!M541/100),0),0)","v":0},{"$f":"IF(Определители!I30=\"9\",ROUND((C30+E30)*(100-Начисления!M30/100)*('Форма по МДС 81-35.2004'!M541/100),0),0)","v":0},{"$f":"IF(Определители!I30=\"9\",ROUND(B30*Начисления!M30/100,0),0)","v":0},{"$f":"IF(Определители!I30=\"9\",ROUND(B30*(100-Начисления!M30)/100,0),0)","v":0},{"$f":"ROUND('Форма по МДС 81-35.2004'!F525*'Базовые цены за единицу'!AE30,0)","v":0}]
[{"$f":"'Форма по МДС 81-35.2004'!A545","v":"26."},{"$f":"'Форма по МДС 81-35.2004'!N545","v":26},{"$f":"ROUND(SUMIF('Форма по МДС 81-35.2004'!J545:J564,\"Г\",'Форма по МДС 81-35.2004'!N545:N564),0)","v":9},{"$f":"ROUND(SUMIF('Форма по МДС 81-35.2004'!J545:J564,\"IsMash\",'Форма по МДС 81-35.2004'!N545:N564),0)","v":17},{"$f":"'Форма по МДС 81-35.2004'!N546","v":2},{"$f":"ROUND(SUMIF('Форма по МДС 81-35.2004'!J545:J564,\"IsMater\",'Форма по МДС 81-35.2004'!N545:N564),0)","v":0},{"$f":"ROUND('Форма по МДС 81-35.2004'!F545*'Базовые цены за единицу'!G31,0)","v":0},{"$f":"ROUND('Форма по МДС 81-35.2004'!F545*'Базовые цены за единицу'!H31,0)","v":0},{"$f":"ОКРУГЛВСЕ(SUMIF('Форма по МДС 81-35.2004'!J545:J564,\"Г\",'Форма по МДС 81-35.2004'!F545:F564),8)","v":1.1901600000000001},{"$f":"ОКРУГЛВСЕ('Форма по МДС 81-35.2004'!F545*'Базовые цены за единицу'!J31,8)","v":0},{"$f":"ОКРУГЛВСЕ(SUMIF('Форма по МДС 81-35.2004'!J545:J564,\"Ж\",'Форма по МДС 81-35.2004'!F545:F564),8)","v":0.19836000000000001},{"$f":"ROUND('Форма по МДС 81-35.2004'!F545*'Базовые цены за единицу'!L31,0)","v":0},{"$f":"ROUND('Форма по МДС 81-35.2004'!F545*'Базовые цены за единицу'!M31,0)","v":0},{"$f":"ROUND(B31*'Форма по МДС 81-35.2004'!M559/100,0)","v":3},{"$f":"ROUND((B31+N31)*'Форма по МДС 81-35.2004'!M562/100,0)","v":2},{"$f":"ROUND('Форма по МДС 81-35.2004'!F545*'Базовые цены за единицу'!P31,0)","v":0},{"$f":"ROUND('Форма по МДС 81-35.2004'!F545*'Базовые цены за единицу'!Q31,0)","v":0},{"$f":"ROUND('Форма по МДС 81-35.2004'!F545*'Базовые цены за единицу'!R31,0)","v":0},{"$f":"ROUND('Форма по МДС 81-35.2004'!F545*'Базовые цены за единицу'!S31,0)","v":0},{"$f":"ROUND('Форма по МДС 81-35.2004'!F545*'Базовые цены за единицу'!T31,0)","v":0},{"$f":"ROUND('Форма по МДС 81-35.2004'!F545*'Базовые цены за единицу'!U31,0)","v":0},{"$f":"ROUND('Форма по МДС 81-35.2004'!F545*'Базовые цены за единицу'!V31,0)","v":0},null,{"$f":"ROUND('Форма по МДС 81-35.2004'!F545*'Базовые цены за единицу'!X31,0)","v":0},{"$f":"IF(Определители!I31=\"9\",ROUND(B31*(Начисления!M31/100)*'Форма по МДС 81-35.2004'!M559/100,0),0)","v":0},{"$f":"IF(Определители!I31=\"9\",ROUND(B31*(100-Начисления!M31/100)*'Форма по МДС 81-35.2004'!M559/100,0),0)","v":0},{"$f":"IF(Определители!I31=\"9\",ROUND((C31+E31)*(Начисления!M31/100)*('Форма по МДС 81-35.2004'!M562/100),0),0)","v":0},{"$f":"IF(Определители!I31=\"9\",ROUND((C31+E31)*(100-Начисления!M31/100)*('Форма по МДС 81-35.2004'!M562/100),0),0)","v":0},{"$f":"IF(Определители!I31=\"9\",ROUND(B31*Начисления!M31/100,0),0)","v":0},{"$f":"IF(Определители!I31=\"9\",ROUND(B31*(100-Начисления!M31)/100,0),0)","v":0},{"$f":"ROUND('Форма по МДС 81-35.2004'!F545*'Базовые цены за единицу'!AE31,0)","v":0}]
[{"$f":"'Форма по МДС 81-35.2004'!A566","v":"27."},{"$f":"'Форма по МДС 81-35.2004'!N566","v":37},{"$f":"ROUND(SUMIF('Форма по МДС 81-35.2004'!J566:J584,\"Г\",'Форма по МДС 81-35.2004'!N566:N584),0)","v":0},{"$f":"ROUND(SUMIF('Форма по МДС 81-35.2004'!J566:J584,\"IsMash\",'Форма по МДС 81-35.2004'!N566:N584),0)","v":37},{"$f":"'Форма по МДС 81-35.2004'!N567","v":6},{"$f":"ROUND(SUMIF('Форма по МДС 81-35.2004'!J566:J584,\"IsMater\",'Форма по МДС 81-35.2004'!N566:N584),0)","v":0},{"$f":"ROUND('Форма по МДС 81-35.2004'!F566*'Базовые цены за единицу'!G32,0)","v":0},{"$f":"ROUND('Форма по МДС 81-35.2004'!F566*'Базовые цены за единицу'!H32,0)","v":0},{"$f":"ОКРУГЛВСЕ(SUMIF('Форма по МДС 81-35.2004'!J566:J584,\"Г\",'Форма по МДС 81-35.2004'!F566:F584),8)","v":0},{"$f":"ОКРУГЛВСЕ('Форма по МДС 81-35.2004'!F566*'Базовые цены за единицу'!J32,8)","v":0},{"$f":"ОКРУГЛВСЕ(SUMIF('Форма по МДС 81-35.2004'!J566:J584,\"Ж\",'Форма по МДС 81-35.2004'!F566:F584),8)","v":0.55049999999999999},{"$f":"ROUND('Форма по МДС 81-35.2004'!F566*'Базовые цены за единицу'!L32,0)","v":0},{"$f":"ROUND('Форма по МДС 81-35.2004'!F566*'Базовые цены за единицу'!M32,0)","v":0},{"$f":"ROUND(B32*'Форма по МДС 81-35.2004'!M579/100,0)","v":4},{"$f":"ROUND((B32+N32)*'Форма по МДС 81-35.2004'!M582/100,0)","v":3},{"$f":"ROUND('Форма по МДС 81-35.2004'!F566*'Базовые цены за единицу'!P32,0)","v":0},{"$f":"ROUND('Форма по МДС 81-35.2004'!F566*'Базовые цены за единицу'!Q32,0)","v":0},{"$f":"ROUND('Форма по МДС 81-35.2004'!F566*'Базовые цены за единицу'!R32,0)","v":0},{"$f":"ROUND('Форма по МДС 81-35.2004'!F566*'Базовые цены за единицу'!S32,0)","v":0},{"$f":"ROUND('Форма по МДС 81-35.2004'!F566*'Базовые цены за единицу'!T32,0)","v":0},{"$f":"ROUND('Форма по МДС 81-35.2004'!F566*'Базовые цены за единицу'!U32,0)","v":0},{"$f":"ROUND('Форма по МДС 81-35.2004'!F566*'Базовые цены за единицу'!V32,0)","v":0},null,{"$f":"ROUND('Форма по МДС 81-35.2004'!F566*'Базовые цены за единицу'!X32,0)","v":0},{"$f":"IF(Определители!I32=\"9\",ROUND(B32*(Начисления!M32/100)*'Форма по МДС 81-35.2004'!M579/100,0),0)","v":0},{"$f":"IF(Определители!I32=\"9\",ROUND(B32*(100-Начисления!M32/100)*'Форма по МДС 81-35.2004'!M579/100,0),0)","v":0},{"$f":"IF(Определители!I32=\"9\",ROUND((C32+E32)*(Начисления!M32/100)*('Форма по МДС 81-35.2004'!M582/100),0),0)","v":0},{"$f":"IF(Определители!I32=\"9\",ROUND((C32+E32)*(100-Начисления!M32/100)*('Форма по МДС 81-35.2004'!M582/100),0),0)","v":0},{"$f":"IF(Определители!I32=\"9\",ROUND(B32*Начисления!M32/100,0),0)","v":0},{"$f":"IF(Определители!I32=\"9\",ROUND(B32*(100-Начисления!M32)/100,0),0)","v":0},{"$f":"ROUND('Форма по МДС 81-35.2004'!F566*'Базовые цены за единицу'!AE32,0)","v":0}]

{"sheet":"Текущие цены с учетом расхода","index":5,"n_rows":32,"n_cols":33,"rows_kept":32,"cut":false,"hidden":false,"merged":[[1,0,1,7],[2,1,2,7],[3,1,3,7],[4,0,4,7]]}
[null,"C1","C2","C3","C4","C5","C6","VOZVR","C8","C9","C10","C11","C12","NAKL","PLAN","NAKL_ZPR","NAKL_ZPM","PLAN_ZPR","PLAN_ZPM","RN11","RN12","RN13",null,"OBORUD_VSPOMOG","NAKL_PN","NAKL_VX","PLAN_PN","PLAN_VX","VTCH_PN","VTCH_VX","MR_BY_ZPR_VSPOMOG","NAKL_INC","PLAN_INC"]
[]
[null,"N = < ГЭСНс * 2015_s * 15_15_зр >"]
[null,"          Автомобильные дороги регионального или межмуниципального значения с автобусным движением с допустимым уровнем содержания  - норматив \"Авт\" (ЗИМНИЕ РАБОТЫ)"]
[]
[{"$f":"'Форма по МДС 81-35.2004'!A16","v":"1."},{"$f":"'Форма по МДС 81-35.2004'!H16","v":5363},{"$f":"ROUND(SUMIF('Форма по МДС 81-35.2004'!J16:J34,\"Г\",'Форма по МДС 81-35.2004'!H16:H34),0)","v":0},{"$f":"ROUND(SUMIF('Форма по МДС 81-35.2004'!J16:J34,\"IsMash\",'Форма по МДС 81-35.2004'!H16:H34),0)","v":5363},{"$f":"'Форма по МДС 81-35.2004'!H17","v":837},{"$f":"ROUND(SUMIF('Форма по МДС 81-35.2004'!J16:J34,\"IsMater\",'Форма по МДС 81-35.2004'!H16:H34),0)","v":0},{"$f":"ROUND('Форма по МДС 81-35.2004'!F16*'Текущие цены за единицу'!G6,0)","v":0},{"$f":"ROUND('Форма по МДС 81-35.2004'!F16*'Текущие цены за единицу'!H6,0)","v":0},{"$f":"ОКРУГЛВСЕ(SUMIF('Форма по МДС 81-35.2004'!J16:J34,\"Г\",'Форма по МДС 81-35.2004'!F16:F34),8)","v":0},{"$f":"ОКРУГЛВСЕ('Форма по МДС 81-35.2004'!F16*'Текущие цены за единицу'!J6,8)","v":0},{"$f":"ОКРУГЛВСЕ(SUMIF('Форма по МДС 81-35.2004'!J16:J34,\"Ж\",'Форма по МДС 81-35.2004'!F16:F34),8)","v":4.8},{"$f":"ROUND('Форма по МДС 81-35.2004'!F16*'Текущие цены за единицу'!L6,0)","v":0},{"$f":"ROUND('Форма по МДС 81-35.2004'!F16*'Текущие цены за единицу'!M6,0)","v":0},{"$f":"ROUND(B6*'Форма по МДС 81-35.2004'!G29/100,0)","v":627},{"$f":"ROUND((B6+N6)*'Форма по МДС 81-35.2004'!G32/100,0)","v":479},{"$f":"ROUND('Форма по МДС 81-35.2004'!F16*'Текущие цены за единицу'!P6,0)","v":0},{"$f":"ROUND('Форма по МДС 81-35.2004'!F16*'Текущие цены за единицу'!Q6,0)","v":0},{"$f":"ROUND('Форма по МДС 81-35.2004'!F16*'Текущие цены за единицу'!R6,0)","v":0},{"$f":"ROUND('Форма по МДС 81-35.2004'!F16*'Текущие цены за единицу'!S6,0)","v":0},{"$f":"ROUND('Форма по МДС 81-35.2004'!F16*'Текущие цены за единицу'!T6,0)","v":0},{"$f":"ROUND('Форма по МДС 81-35.2004'!F16*'Текущие цены за единицу'!U6,0)","v":0},{"$f":"ROUND('Форма по МДС 81-35.2004'!F16*'Текущие цены за единицу'!V6,0)","v":0},null,{"$f":"ROUND('Форма по МДС 81-35.2004'!F16*'Текущие цены за единицу'!X6,0)","v":0},{"$f":"IF(Определители!I6=\"9\",ROUND(B6*(Начисления!M6/100)*'Форма по МДС 81-35.2004'!G29/100,0),0)","v":0},{"$f":"IF(Определители!I6=\"9\",ROUND(B6*(100-Начисления!M6/100)*'Форма по МДС 81-35.2004'!G29/100,0),0)","v":0},{"$f":"IF(Определители!I6=\"9\",ROUND((C6+E6)*(Начисления!M6/100)*('Форма по МДС 81-35.2004'!G32/100),0),0)","v":0},{"$f":"IF(Определители!I6=\"9\",ROUND((C6+E6)*(100-Начисления!M6/100)*('Форма по МДС 81-35.2004'!G32/100),0),0)","v":0},{"$f":"IF(Определители!I6=\"9\",ROUND(B6*Начисления!M6/100,0),0)","v":0},{"$f":"IF(Определители!I6=\"9\",ROUND(B6*(100-Начисления!M6)/100,0),0)","v":0},{"$f":"ROUND('Форма по МДС 81-35.2004'!F16*'Текущие цены за единицу'!AE6,0)","v":0}]
[{"$f":"'Форма по МДС 81-35.2004'!A35","v":"2."},{"$f":"'Форма по МДС 81-35.2004'!H35","v":1227},{"$f":"ROUND(SUMIF('Форма по МДС 81-35.2004'!J35:J53,\"Г\",'Форма по МДС 81-35.2004'!H35:H53),0)","v":0},{"$f":"ROUND(SUMIF('Форма по МДС 81-35.2004'!J35:J53,\"IsMash\",'Форма по МДС 81-35.2004'!H35:H53),0)","v":1227},{"$f":"'Форма по МДС 81-35.2004'!H36","v":214},{"$f":"ROUND(SUMIF('Форма по МДС 81-35.2004'!J35:J53,\"IsMater\",'Форма по МДС 81-35.2004'!H35:H53),0)","v":0},{"$f":"ROUND('Форма по МДС 81-35.2004'!F35*'Текущие цены за единицу'!G7,0)","v":0},{"$f":"ROUND('Форма по МДС 81-35.2004'!F35*'Текущие цены за единицу'!H7,0)","v":0},{"$f":"ОКРУГЛВСЕ(SUMIF('Форма по МДС 81-35.2004'!J35:J53,\"Г\",'Форма по МДС 81-35.2004'!F35:F53),8)","v":0},{"$f":"ОКРУГЛВСЕ('Форма по МДС 81-35.2004'!F35*'Текущие цены за единицу'!J7,8)","v":0},{"$f":"ОКРУГЛВСЕ(SUMIF('Форма по МДС 81-35.2004'!J35:J53,\"Ж\",'Форма по МДС 81-35.2004'!F35:F53),8)","v":1.28},{"$f":"ROUND('Форма по МДС 81-35.2004'!F35*'Текущие цены за единицу'!L7,0)","v":0},{"$f":"ROUND('Форма по МДС 81-35.2004'!F35*'Текущие цены за единицу'!M7,0)","v":0},{"$f":"ROUND(B7*'Форма по МДС 81-35.2004'!G48/100,0)","v":144},{"$f":"ROUND((B7+N7)*'Форма по МДС 81-35.2004'!G51/100,0)","v":110},{"$f":"ROUND('Форма по МДС 81-35.2004'!F35*'Текущие цены за единицу'!P7,0)","v":0},{"$f":"ROUND('Форма по МДС 81-35.2004'!F35*'Текущие цены за единицу'!Q7,0)","v":0},{"$f":"ROUND('Форма по МДС 81-35.2004'!F35*'Текущие цены за единицу'!R7,0)","v":0},{"$f":"ROUND('Форма по МДС 81-35.2004'!F35*'Текущие цены за единицу'!S7,0)","v":0},{"$f":"ROUND('Форма по МДС 81-35.2004'!F35*'Текущие цены за единицу'!T7,0)","v":0},{"$f":"ROUND('Форма по МДС 81-35.2004'!F35*'Текущие цены за единицу'!U7,0)","v":0},{"$f":"ROUND('Форма по МДС 81-35.2004'!F35*'Текущие цены за единицу'!V7,0)","v":0},null,{"$f":"ROUND('Форма по МДС 81-35.2004'!F35*'Текущие цены за единицу'!X7,0)","v":0},{"$f":"IF(Определители!I7=\"9\",ROUND(B7*(Начисления!M7/100)*'Форма по МДС 81-35.2004'!G48/100,0),0)","v":0},{"$f":"IF(Определители!I7=\"9\",ROUND(B7*(100-Начисления!M7/100)*'Форма по МДС 81-35.2004'!G48/100,0),0)","v":0},{"$f":"IF(Определители!I7=\"9\",ROUND((C7+E7)*(Начисления!M7/100)*('Форма по МДС 81-35.2004'!G51/100),0),0)","v":0},{"$f":"IF(Определители!I7=\"9\",ROUND((C7+E7)*(100-Начисления!M7/100)*('Форма по МДС 81-35.2004'!G51/100),0),0)","v":0},{"$f":"IF(Определители!I7=\"9\",ROUND(B7*Начисления!M7/100,0),0)","v":0},{"$f":"IF(Определители!I7=\"9\",ROUND(B7*(100-Начисления!M7)/100,0),0)","v":0},{"$f":"ROUND('Форма по МДС 81-35.2004'!F35*'Текущие цены за единицу'!AE7,0)","v":0}]
[{"$f":"'Форма по МДС 81-35.2004'!A54","v":"3."},{"$f":"'Форма по МДС 81-35.2004'!H54","v":1188},{"$f":"ROUND(SUMIF('Форма по МДС 81-35.2004'!J54:J72,\"Г\",'Форма по МДС 81-35.2004'!H54:H72),0)","v":0},{"$f":"ROUND(SUMIF('Форма по МДС 81-35.2004'!J54:J72,\"IsMash\",'Форма по МДС 81-35.2004'!H54:H72),0)","v":1188},{"$f":"'Форма по МДС 81-35.2004'!H55","v":101},{"$f":"ROUND(SUMIF('Форма по МДС 81-35.2004'!J54:J72,\"IsMater\",'Форма по МДС 81-35.2004'!H54:H72),0)","v":0},{"$f":"ROUND('Форма по МДС 81-35.2004'!F54*'Текущие цены за единицу'!G8,0)","v":0},{"$f":"ROUND('Форма по МДС 81-35.2004'!F54*'Текущие цены за единицу'!H8,0)","v":0},{"$f":"ОКРУГЛВСЕ(SUMIF('Форма по МДС 81-35.2004'!J54:J72,\"Г\",'Форма по МДС 81-35.2004'!F54:F72),8)","v":0},{"$f":"ОКРУГЛВСЕ('Форма по МДС 81-35.2004'!F54*'Текущие цены за единицу'!J8,8)","v":0},{"$f":"ОКРУГЛВСЕ(SUMIF('Форма по МДС 81-35.2004'!J54:J72,\"Ж\",'Форма по МДС 81-35.2004'!F54:F72),8)","v":0.70699999999999996},{"$f":"ROUND('Форма по МДС 81-35.2004'!F54*'Текущие цены за единицу'!L8,0)","v":0},{"$f":"ROUND('Форма по МДС 81-35.2004'!F54*'Текущие цены за единицу'!M8,0)","v":0},{"$f":"ROUND(B8*'Форма по МДС 81-35.2004'!G67/100,0)","v":139},{"$f":"ROUND((B8+N8)*'Форма по МДС 81-35.2004'!G70/100,0)","v":106},{"$f":"ROUND('Форма по МДС 81-35.2004'!F54*'Текущие цены за единицу'!P8,0)","v":0},{"$f":"ROUND('Форма по МДС 81-35.2004'!F54*'Текущие цены за единицу'!Q8,0)","v":0},{"$f":"ROUND('Форма по МДС 81-35.2004'!F54*'Текущие цены за единицу'!R8,0)","v":0},{"$f":"ROUND('Форма по МДС 81-35.2004'!F54*'Текущие цены за единицу'!S8,0)","v":0},{"$f":"ROUND('Форма по МДС 81-35.2004'!F54*'Текущие цены за единицу'!T8,0)","v":0},{"$f":"ROUND('Форма по МДС 81-35.2004'!F54*'Текущие цены за единицу'!U8,0)","v":0},{"$f":"ROUND('Форма по МДС 81-35.2004'!F54*'Текущие цены за единицу'!V8,0)","v":0},null,{"$f":"ROUND('Форма по МДС 81-35.2004'!F54*'Текущие цены за единицу'!X8,0)","v":0},{"$f":"IF(Определители!I8=\"9\",ROUND(B8*(Начисления!M8/100)*'Форма по МДС 81-35.2004'!G67/100,0),0)","v":0},{"$f":"IF(Определители!I8=\"9\",ROUND(B8*(100-Начисления!M8/100)*'Форма по МДС 81-35.2004'!G67/100,0),0)","v":0},{"$f":"IF(Определители!I8=\"9\",ROUND((C8+E8)*(Начисления!M8/100)*('Форма по МДС 81-35.2004'!G70/100),0),0)","v":0},{"$f":"IF(Определители!I8=\"9\",ROUND((C8+E8)*(100-Начисления!M8/100)*('Форма по МДС 81-35.2004'!G70/100),0),0)","v":0},{"$f":"IF(Определители!I8=\"9\",ROUND(B8*Начисления!M8/100,0),0)","v":0},{"$f":"IF(Определители!I8=\"9\",ROUND(B8*(100-Начисления!M8)/100,0),0)","v":0},{"$f":"ROUND('Форма по МДС 81-35.2004'!F54*'Текущие цены за единицу'!AE8,0)","v":0}]
[{"$f":"'Форма по МДС 81-35.2004'!A74","v":"4."},{"$f":"'Форма по МДС 81-35.2004'!H74","v":36},{"$f":"ROUND(SUMIF('Форма по МДС 81-35.2004'!J74:J92,\"Г\",'Форма по МДС 81-35.2004'!H74:H92),0)","v":0},{"$f":"ROUND(SUMIF('Форма по МДС 81-35.2004'!J74:J92,\"IsMash\",'Форма по МДС 81-35.2004'!H74:H92),0)","v":36},{"$f":"'Форма по МДС 81-35.2004'!H75","v":11},{"$f":"ROUND(SUMIF('Форма по МДС 81-35.2004'!J74:J92,\"IsMater\",'Форма по МДС 81-35.2004'!H74:H92),0)","v":0},{"$f":"ROUND('Форма по МДС 81-35.2004'!F74*'Текущие цены за единицу'!G9,0)","v":0},{"$f":"ROUND('Форма по МДС 81-35.2004'!F74*'Текущие цены за единицу'!H9,0)","v":0},{"$f":"ОКРУГЛВСЕ(SUMIF('Форма по МДС 81-35.2004'!J74:J92,\"Г\",'Форма по МДС 81-35.2004'!F74:F92),8)","v":0},{"$f":"ОКРУГЛВСЕ('Форма по МДС 81-35.2004'!F74*'Текущие цены за единицу'!J9,8)","v":0},{"$f":"ОКРУГЛВСЕ(SUMIF('Форма по МДС 81-35.2004'!J74:J92,\"Ж\",'Форма по МДС 81-35.2004'!F74:F92),8)","v":5.9400000000000001E-2},{"$f":"ROUND('Форма по МДС 81-35.2004'!F74*'Текущие цены за единицу'!L9,0)","v":0},{"$f":"ROUND('Форма по МДС 81-35.2004'!F74*'Текущие цены за единицу'!M9,0)","v":0},{"$f":"ROUND(B9*'Форма по МДС 81-35.2004'!G87/100,0)","v":4},{"$f":"ROUND((B9+N9)*'Форма по МДС 81-35.2004'!G90/100,0)","v":3},{"$f":"ROUND('Форма по МДС 81-35.2004'!F74*'Текущие цены за единицу'!P9,0)","v":0},{"$f":"ROUND('Форма по МДС 81-35.2004'!F74*'Текущие цены за единицу'!Q9,0)","v":0},{"$f":"ROUND('Форма по МДС 81-35.2004'!F74*'Текущие цены за единицу'!R9,0)","v":0},{"$f":"ROUND('Форма по МДС 81-35.2004'!F74*'Текущие цены за единицу'!S9,0)","v":0},{"$f":"ROUND('Форма по МДС 81-35.2004'!F74*'Текущие цены за единицу'!T9,0)","v":0},{"$f":"ROUND('Форма по МДС 81-35.2004'!F74*'Текущие цены за единицу'!U9,0)","v":0},{"$f":"ROUND('Форма по МДС 81-35.2004'!F74*'Текущие цены за единицу'!V9,0)","v":0},null,{"$f":"ROUND('Форма по МДС 81-35.2004'!F74*'Текущие цены за единицу'!X9,0)","v":0},{"$f":"IF(Определители!I9=\"9\",ROUND(B9*(Начисления!M9/100)*'Форма по МДС 81-35.2004'!G87/100,0),0)","v":0},{"$f":"IF(Определители!I9=\"9\",ROUND(B9*(100-Начисления!M9/100)*'Форма по МДС 81-35.2004'!G87/100,0),0)","v":0},{"$f":"IF(Определители!I9=\"9\",ROUND((C9+E9)*(Начисления!M9/100)*('Форма по МДС 81-35.2004'!G90/100),0),0)","v":0},{"$f":"IF(Определители!I9=\"9\",ROUND((C9+E9)*(100-Начисления!M9/100)*('Форма по МДС 81-35.2004'!G90/100),0),0)","v":0},{"$f":"IF(Определители!I9=\"9\",ROUND(B9*Начисления!M9/100,0),0)","v":0},{"$f":"IF(Определители!I9=\"9\",ROUND(B9*(100-Начисления!M9)/100,0),0)","v":0},{"$f":"ROUND('Форма по МДС 81-35.2004'!F74*'Текущие цены за единицу'!AE9,0)","v":0}]
[{"$f":"'Форма по МДС 81-35.2004'!A94","v":"5."},{"$f":"'Форма по МДС 81-35.2004'!H94","v":3888},{"$f":"ROUND(SUMIF('Форма по МДС 81-35.2004'!J94:J112,\"Г\",'Форма по МДС 81-35.2004'!H94:H112),0)","v":0},{"$f":"ROUND(SUMIF('Форма по МДС 81-35.2004'!J94:J112,\"IsMash\",'Форма по МДС 81-35.2004'!H94:H112),0)","v":3888},{"$f":"'Форма по МДС 81-35.2004'!H95","v":607},{"$f":"ROUND(SUMIF('Форма по МДС 81-35.2004'!J94:J112,\"IsMater\",'Форма по МДС 81-35.2004'!H94:H112),0)","v":0},{"$f":"ROUND('Форма по МДС 81-35.2004'!F94*'Текущие цены за единицу'!G10,0)","v":0},{"$f":"ROUND('Форма по МДС 81-35.2004'!F94*'Текущие цены за единицу'!H10,0)","v":0},{"$f":"ОКРУГЛВСЕ(SUMIF('Форма по МДС 81-35.2004'!J94:J112,\"Г\",'Форма по МДС 81-35.2004'!F94:F112),8)","v":0},{"$f":"ОКРУГЛВСЕ('Форма по МДС 81-35.2004'!F94*'Текущие цены за единицу'!J10,8)","v":0},{"$f":"ОКРУГЛВСЕ(SUMIF('Форма по МДС 81-35.2004'!J94:J112,\"Ж\",'Форма по МДС 81-35.2004'!F94:F112),8)","v":3.48},{"$f":"ROUND('Форма по МДС 81-35.2004'!F94*'Текущие цены за единицу'!L10,0)","v":0},{"$f":"ROUND('Форма по МДС 81-35.2004'!F94*'Текущие цены за единицу'!M10,0)","v":0},{"$f":"ROUND(B10*'Форма по МДС 81-35.2004'!G107/100,0)","v":455},{"$f":"ROUND((B10+N10)*'Форма по МДС 81-35.2004'!G110/100,0)","v":347},{"$f":"ROUND('Форма по МДС 81-35.2004'!F94*'Текущие цены за единицу'!P10,0)","v":0},{"$f":"ROUND('Форма по МДС 81-35.2004'!F94*'Текущие цены за единицу'!Q10,0)","v":0},{"$f":"ROUND('Форма по МДС 81-35.2004'!F94*'Текущие цены за единицу'!R10,0)","v":0},{"$f":"ROUND('Форма по МДС 81-35.2004'!F94*'Текущие цены за единицу'!S10,0)","v":0},{"$f":"ROUND('Форма по МДС 81-35.2004'!F94*'Текущие цены за единицу'!T10,0)","v":0},{"$f":"ROUND('Форма по МДС 81-35.2004'!F94*'Текущие цены за единицу'!U10,0)","v":0},{"$f":"ROUND('Форма по МДС 81-35.2004'!F94*'Текущие цены за единицу'!V10,0)","v":0},null,{"$f":"ROUND('Форма по МДС 81-35.2004'!F94*'Текущие цены за единицу'!X10,0)","v":0},{"$f":"IF(Определители!I10=\"9\",ROUND(B10*(Начисления!M10/100)*'Форма по МДС 81-35.2004'!G107/100,0),0)","v":0},{"$f":"IF(Определители!I10=\"9\",ROUND(B10*(100-Начисления!M10/100)*'Форма по МДС 81-35.2004'!G107/100,0),0)","v":0},{"$f":"IF(Определители!I10=\"9\",ROUND((C10+E10)*(Начисления!M10/100)*('Форма по МДС 81-35.2004'!G110/100),0),0)","v":0},{"$f":"IF(Определители!I10=\"9\",ROUND((C10+E10)*(100-Начисления!M10/100)*('Форма по МДС 81-35.2004'!G110/100),0),0)","v":0},{"$f":"IF(Определители!I10=\"9\",ROUND(B10*Начисления!M10/100,0),0)","v":0},{"$f":"IF(Определители!I10=\"9\",ROUND(B10*(100-Начисления!M10)/100,0),0)","v":0},{"$f":"ROUND('Форма по МДС 81-35.2004'!F94*'Текущие цены за единицу'!AE10,0)","v":0}]
[{"$f":"'Форма по МДС 81-35.2004'!A113","v":"6."},{"$f":"'Форма по МДС 81-35.2004'!H113","v":10288},{"$f":"ROUND(SUMIF('Форма по МДС 81-35.2004'!J113:J134,\"Г\",'Форма по МДС 81-35.2004'!H113:H134),0)","v":0},{"$f":"ROUND(SUMIF('Форма по МДС 81-35.2004'!J113:J134,\"IsMash\",'Форма по МДС 81-35.2004'!H113:H134),0)","v":835},{"$f":"'Форма по МДС 81-35.2004'!H115","v":243},{"$f":"ROUND(SUMIF('Форма по МДС 81-35.2004'!J113:J134,\"IsMater\",'Форма по МДС 81-35.2004'!H113:H134),0)","v":9454},{"$f":"ROUND('Форма по МДС 81-35.2004'!F113*'Текущие цены за единицу'!G11,0)","v":0},{"$f":"ROUND('Форма по МДС 81-35.2004'!F113*'Текущие цены за единицу'!H11,0)","v":0},{"$f":"ОКРУГЛВСЕ(SUMIF('Форма по МДС 81-35.2004'!J113:J134,\"Г\",'Форма по МДС 81-35.2004'!F113:F134),8)","v":0},{"$f":"ОКРУГЛВСЕ('Форма по МДС 81-35.2004'!F113*'Текущие цены за единицу'!J11,8)","v":0},{"$f":"ОКРУГЛВСЕ(SUMIF('Форма по МДС 81-35.2004'!J113:J134,\"Ж\",'Форма по МДС 81-35.2004'!F113:F134),8)","v":1.364244},{"$f":"ROUND('Форма по МДС 81-35.2004'!F113*'Текущие цены за единицу'!L11,0)","v":0},{"$f":"ROUND('Форма по МДС 81-35.2004'!F113*'Текущие цены за единицу'!M11,0)","v":0},{"$f":"ROUND(B11*'Форма по МДС 81-35.2004'!G129/100,0)","v":1204},{"$f":"ROUND((B11+N11)*'Форма по МДС 81-35.2004'!G132/100,0)","v":919},{"$f":"ROUND('Форма по МДС 81-35.2004'!F113*'Текущие цены за единицу'!P11,0)","v":0},{"$f":"ROUND('Форма по МДС 81-35.2004'!F113*'Текущие цены за единицу'!Q11,0)","v":0},{"$f":"ROUND('Форма по МДС 81-35.2004'!F113*'Текущие цены за единицу'!R11,0)","v":0},{"$f":"ROUND('Форма по МДС 81-35.2004'!F113*'Текущие цены за единицу'!S11,0)","v":0},{"$f":"ROUND('Форма по МДС 81-35.2004'!F113*'Текущие цены за единицу'!T11,0)","v":0},{"$f":"ROUND('Форма по МДС 81-35.2004'!F113*'Текущие цены за единицу'!U11,0)","v":0},{"$f":"ROUND('Форма по МДС 81-35.2004'!F113*'Текущие цены за единицу'!V11,0)","v":0},null,{"$f":"ROUND('Форма по МДС 81-35.2004'!F113*'Текущие цены за единицу'!X11,0)","v":0},{"$f":"IF(Определители!I11=\"9\",ROUND(B11*(Начисления!M11/100)*'Форма по МДС 81-35.2004'!G129/100,0),0)","v":0},{"$f":"IF(Определители!I11=\"9\",ROUND(B11*(100-Начисления!M11/100)*'Форма по МДС 81-35.2004'!G129/100,0),0)","v":0},{"$f":"IF(Определители!I11=\"9\",ROUND((C11+E11)*(Начисления!M11/100)*('Форма по МДС 81-35.2004'!G132/100),0),0)","v":0},{"$f":"IF(Определители!I11=\"9\",ROUND((C11+E11)*(100-Начисления!M11/100)*('Форма по МДС 81-35.2004'!G132/100),0),0)","v":0},{"$f":"IF(Определители!I11=\"9\",ROUND(B11*Начисления!M11/100,0),0)","v":0},{"$f":"IF(Определители!I11=\"9\",ROUND(B11*(100-Начисления!M11)/100,0),0)","v":0},{"$f":"ROUND('Форма по МДС 81-35.2004'!F113*'Текущие цены за единицу'!AE11,0)","v":0}]
[{"$f":"'Форма по МДС 81-35.2004'!A135","v":"7."},{"$f":"'Форма по МДС 81-35.2004'!H135","v":335},{"$f":"ROUND(SUMIF('Форма по МДС 81-35.2004'!J135:J153,\"Г\",'Форма по МДС 81-35.2004'!H135:H153),0)","v":0},{"$f":"ROUND(SUMIF('Форма по МДС 81-35.2004'!J135:J153,\"IsMash\",'Форма по МДС 81-35.2004'!H135:H153),0)","v":335},{"$f":"'Форма по МДС 81-35.2004'!H136","v":52},{"$f":"ROUND(SUMIF('Форма по МДС 81-35.2004'!J135:J153,\"IsMater\",'Форма по МДС 81-35.2004'!H135:H153),0)","v":0},{"$f":"ROUND('Форма по МДС 81-35.2004'!F135*'Текущие цены за единицу'!G12,0)","v":0},{"$f":"ROUND('Форма по МДС 81-35.2004'!F135*'Текущие цены за единицу'!H12,0)","v":0},{"$f":"ОКРУГЛВСЕ(SUMIF('Форма по МДС 81-35.2004'!J135:J153,\"Г\",'Форма по МДС 81-35.2004'!F135:F153),8)","v":0},{"$f":"ОКРУГЛВСЕ('Форма по МДС 81-35.2004'!F135*'Текущие цены за единицу'!J12,8)","v":0},{"$f":"ОКРУГЛВСЕ(SUMIF('Форма по МДС 81-35.2004'!J135:J153,\"Ж\",'Форма по МДС 81-35.2004'!F135:F153),8)","v":0.3},{"$f":"ROUND('Форма по МДС 81-35.2004'!F135*'Текущие цены за единицу'!L12,0)","v":0},{"$f":"ROUND('Форма по МДС 81-35.2004'!F135*'Текущие цены за единицу'!M12,0)","v":0},{"$f":"ROUND(B12*'Форма по МДС 81-35.2004'!G148/100,0)","v":39},{"$f":"ROUND((B12+N12)*'Форма по МДС 81-35.2004'!G151/100,0)","v":30},{"$f":"ROUND('Форма по МДС 81-35.2004'!F135*'Текущие цены за единицу'!P12,0)","v":0},{"$f":"ROUND('Форма по МДС 81-35.2004'!F135*'Текущие цены за единицу'!Q12,0)","v":0},{"$f":"ROUND('Форма по МДС 81-35.2004'!F135*'Текущие цены за единицу'!R12,0)","v":0},{"$f":"ROUND('Форма по МДС 81-35.2004'!F135*'Текущие цены за единицу'!S12,0)","v":0},{"$f":"ROUND('Форма по МДС 81-35.2004'!F135*'Текущие цены за единицу'!T12,0)","v":0},{"$f":"ROUND('Форма по МДС 81-35.2004'!F135*'Текущие цены за единицу'!U12,0)","v":0},{"$f":"ROUND('Форма по МДС 81-35.2004'!F135*'Текущие цены за единицу'!V12,0)","v":0},null,{"$f":"ROUND('Форма по МДС 81-35.2004'!F135*'Текущие цены за единицу'!X12,0)","v":0},{"$f":"IF(Определители!I12=\"9\",ROUND(B12*(Начисления!M12/100)*'Форма по МДС 81-35.2004'!G148/100,0),0)","v":0},{"$f":"IF(Определители!I12=\"9\",ROUND(B12*(100-Начисления!M12/100)*'Форма по МДС 81-35.2004'!G148/100,0),0)","v":0},{"$f":"IF(Определители!I12=\"9\",ROUND((C12+E12)*(Начисления!M12/100)*('Форма по МДС 81-35.2004'!G151/100),0),0)","v":0},{"$f":"IF(Определители!I12=\"9\",ROUND((C12+E12)*(100-Начисления!M12/100)*('Форма по МДС 81-35.2004'!G151/100),0),0)","v":0},{"$f":"IF(Определители!I12=\"9\",ROUND(B12*Начисления!M12/100,0),0)","v":0},{"$f":"IF(Определители!I12=\"9\",ROUND(B12*(100-Начисления!M12)/100,0),0)","v":0},{"$f":"ROUND('Форма по МДС 81-35.2004'!F135*'Текущие цены за единицу'!AE12,0)","v":0}]
[{"$f":"'Форма по МДС 81-35.2004'!A154","v":"8."},{"$f":"'Форма по МДС 81-35.2004'!H154","v":14056},{"$f":"ROUND(SUMIF('Форма по МДС 81-35.2004'!J154:J174,\"Г\",'Форма по МДС 81-35.2004'!H154:H174),0)","v":0},{"$f":"ROUND(SUMIF('Форма по МДС 81-35.2004'!J154:J174,\"IsMash\",'Форма по МДС 81-35.2004'!H154:H174),0)","v":14056},{"$f":"'Форма по МДС 81-35.2004'!H155","v":2287},{"$f":"ROUND(SUMIF('Форма по МДС 81-35.2004'!J154:J174,\"IsMater\",'Форма по МДС 81-35.2004'!H154:H174),0)","v":0},{"$f":"ROUND('Форма по МДС 81-35.2004'!F154*'Текущие цены за единицу'!G13,0)","v":0},{"$f":"ROUND('Форма по МДС 81-35.2004'!F154*'Текущие цены за единицу'!H13,0)","v":0},{"$f":"ОКРУГЛВСЕ(SUMIF('Форма по МДС 81-35.2004'!J154:J174,\"Г\",'Форма по МДС 81-35.2004'!F154:F174),8)","v":0},{"$f":"ОКРУГЛВСЕ('Форма по МДС 81-35.2004'!F154*'Текущие цены за единицу'!J13,8)","v":0},{"$f":"ОКРУГЛВСЕ(SUMIF('Форма по МДС 81-35.2004'!J154:J174,\"Ж\",'Форма по МДС 81-35.2004'!F154:F174),8)","v":13.391999999999999},{"$f":"ROUND('Форма по МДС 81-35.2004'!F154*'Текущие цены за единицу'!L13,0)","v":0},{"$f":"ROUND('Форма по МДС 81-35.2004'!F154*'Текущие цены за единицу'!M13,0)","v":0},{"$f":"ROUND(B13*'Форма по МДС 81-35.2004'!G169/100,0)","v":1645},{"$f":"ROUND((B13+N13)*'Форма по МДС 81-35.2004'!G172/100,0)","v":1256},{"$f":"ROUND('Форма по МДС 81-35.2004'!F154*'Текущие цены за единицу'!P13,0)","v":0},{"$f":"ROUND('Форма по МДС 81-35.2004'!F154*'Текущие цены за единицу'!Q13,0)","v":0},{"$f":"ROUND('Форма по МДС 81-35.2004'!F154*'Текущие цены за единицу'!R13,0)","v":0},{"$f":"ROUND('Форма по МДС 81-35.2004'!F154*'Текущие цены за единицу'!S13,0)","v":0},{"$f":"ROUND('Форма по МДС 81-35.2004'!F154*'Текущие цены за единицу'!T13,0)","v":0},{"$f":"ROUND('Форма по МДС 81-35.2004'!F154*'Текущие цены за единицу'!U13,0)","v":0},{"$f":"ROUND('Форма по МДС 81-35.2004'!F154*'Текущие цены за единицу'!V13,0)","v":0},null,{"$f":"ROUND('Форма по МДС 81-35.2004'!F154*'Текущие цены за единицу'!X13,0)","v":0},{"$f":"IF(Определители!I13=\"9\",ROUND(B13*(Начисления!M13/100)*'Форма по МДС 81-35.2004'!G169/100,0),0)","v":0},{"$f":"IF(Определители!I13=\"9\",ROUND(B13*(100-Начисления!M13/100)*'Форма по МДС 81-35.2004'!G169/100,0),0)","v":0},{"$f":"IF(Определители!I13=\"9\",ROUND((C13+E13)*(Начисления!M13/100)*('Форма по МДС 81-35.2004'!G172/100),0),0)","v":0},{"$f":"IF(Определители!I13=\"9\",ROUND((C13+E13)*(100-Начисления!M13/100)*('Форма по МДС 81-35.2004'!G172/100),0),0)","v":0},{"$f":"IF(Определители!I13=\"9\",ROUND(B13*Начисления!M13/100,0),0)","v":0},{"$f":"IF(Определители!I13=\"9\",ROUND(B13*(100-Начисления!M13)/100,0),0)","v":0},{"$f":"ROUND('Форма по МДС 81-35.2004'!F154*'Текущие цены за единицу'!AE13,0)","v":0}]
[{"$f":"'Форма по МДС 81-35.2004'!A175","v":"9."},{"$f":"'Форма по МДС 81-35.2004'!H175","v":8943},{"$f":"ROUND(SUMIF('Форма по МДС 81-35.2004'!J175:J193,\"Г\",'Форма по МДС 81-35.2004'!H175:H193),0)","v":0},{"$f":"ROUND(SUMIF('Форма по МДС 81-35.2004'!J175:J193,\"IsMash\",'Форма по МДС 81-35.2004'!H175:H193),0)","v":8943},{"$f":"'Форма по МДС 81-35.2004'!H176","v":1395},{"$f":"ROUND(SUMIF('Форма по МДС 81-35.2004'!J175:J193,\"IsMater\",'Форма по МДС 81-35.2004'!H175:H193),0)","v":0},{"$f":"ROUND('Форма по МДС 81-35.2004'!F175*'Текущие цены за единицу'!G14,0)","v":0},{"$f":"ROUND('Форма по МДС 81-35.2004'!F175*'Текущие цены за единицу'!H14,0)","v":0},{"$f":"ОКРУГЛВСЕ(SUMIF('Форма по МДС 81-35.2004'!J175:J193,\"Г\",'Форма по МДС 81-35.2004'!F175:F193),8)","v":0},{"$f":"ОКРУГЛВСЕ('Форма по МДС 81-35.2004'!F175*'Текущие цены за единицу'!J14,8)","v":0},{"$f":"ОКРУГЛВСЕ(SUMIF('Форма по МДС 81-35.2004'!J175:J193,\"Ж\",'Форма по МДС 81-35.2004'!F175:F193),8)","v":8.0039999999999996},{"$f":"ROUND('Форма по МДС 81-35.2004'!F175*'Текущие цены за единицу'!L14,0)","v":0},{"$f":"ROUND('Форма по МДС 81-35.2004'!F175*'Текущие цены за единицу'!M14,0)","v":0},{"$f":"ROUND(B14*'Форма по МДС 81-35.2004'!G188/100,0)","v":1046},{"$f":"ROUND((B14+N14)*'Форма по МДС 81-35.2004'!G191/100,0)","v":799},{"$f":"ROUND('Форма по МДС 81-35.2004'!F175*'Текущие цены за единицу'!P14,0)","v":0},{"$f":"ROUND('Форма по МДС 81-35.2004'!F175*'Текущие цены за единицу'!Q14,0)","v":0},{"$f":"ROUND('Форма по МДС 81-35.2004'!F175*'Текущие цены за единицу'!R14,0)","v":0},{"$f":"ROUND('Форма по МДС 81-35.2004'!F175*'Текущие цены за единицу'!S14,0)","v":0},{"$f":"ROUND('Форма по МДС 81-35.2004'!F175*'Текущие цены за единицу'!T14,0)","v":0},{"$f":"ROUND('Форма по МДС 81-35.2004'!F175*'Текущие цены за единицу'!U14,0)","v":0},{"$f":"ROUND('Форма по МДС 81-35.2004'!F175*'Текущие цены за единицу'!V14,0)","v":0},null,{"$f":"ROUND('Форма по МДС 81-35.2004'!F175*'Текущие цены за единицу'!X14,0)","v":0},{"$f":"IF(Определители!I14=\"9\",ROUND(B14*(Начисления!M14/100)*'Форма по МДС 81-35.2004'!G188/100,0),0)","v":0},{"$f":"IF(Определители!I14=\"9\",ROUND(B14*(100-Начисления!M14/100)*'Форма по МДС 81-35.2004'!G188/100,0),0)","v":0},{"$f":"IF(Определители!I14=\"9\",ROUND((C14+E14)*(Начисления!M14/100)*('Форма по МДС 81-35.2004'!G191/100),0),0)","v":0},{"$f":"IF(Определители!I14=\"9\",ROUND((C14+E14)*(100-Начисления!M14/100)*('Форма по МДС 81-35.2004'!G191/100),0),0)","v":0},{"$f":"IF(Определители!I14=\"9\",ROUND(B14*Начисления!M14/100,0),0)","v":0},{"$f":"IF(Определители!I14=\"9\",ROUND(B14*(100-Начисления!M14)/100,0),0)","v":0},{"$f":"ROUND('Форма по МДС 81-35.2004'!F175*'Текущие цены за единицу'!AE14,0)","v":0}]
[{"$f":"'Форма по МДС 81-35.2004'!A194","v":"10."},{"$f":"'Форма по МДС 81-35.2004'!H194","v":978},{"$f":"ROUND(SUMIF('Форма по МДС 81-35.2004'!J194:J212,\"Г\",'Форма по МДС 81-35.2004'!H194:H212),0)","v":0},{"$f":"ROUND(SUMIF('Форма по МДС 81-35.2004'!J194:J212,\"IsMash\",'Форма по МДС 81-35.2004'!H194:H212),0)","v":978},{"$f":"'Форма по МДС 81-35.2004'!H195","v":170},{"$f":"ROUND(SUMIF('Форма по МДС 81-35.2004'!J194:J212,\"IsMater\",'Форма по МДС 81-35.2004'!H194:H212),0)","v":0},{"$f":"ROUND('Форма по МДС 81-35.2004'!F194*'Текущие цены за единицу'!G15,0)","v":0},{"$f":"ROUND('Форма по МДС 81-35.2004'!F194*'Текущие цены за единицу'!H15,0)","v":0},{"$f":"ОКРУГЛВСЕ(SUMIF('Форма по МДС 81-35.2004'!J194:J212,\"Г\",'Форма по МДС 81-35.2004'!F194:F212),8)","v":0},{"$f":"ОКРУГЛВСЕ('Форма по МДС 81-35.2004'!F194*'Текущие цены за единицу'!J15,8)","v":0},{"$f":"ОКРУГЛВСЕ(SUMIF('Форма по МДС 81-35.2004'!J194:J212,\"Ж\",'Форма по МДС 81-35.2004'!F194:F212),8)","v":1.02},{"$f":"ROUND('Форма по МДС 81-35.2004'!F194*'Текущие цены за единицу'!L15,0)","v":0},{"$f":"ROUND('Форма по МДС 81-35.2004'!F194*'Текущие цены за единицу'!M15,0)","v":0},{"$f":"ROUND(B15*'Форма по МДС 81-35.2004'!G207/100,0)","v":114},{"$f":"ROUND((B15+N15)*'Форма по МДС 81-35.2004'!G210/100,0)","v":87},{"$f":"ROUND('Форма по МДС 81-35.2004'!F194*'Текущие цены за единицу'!P15,0)","v":0},{"$f":"ROUND('Форма по МДС 81-35.2004'!F194*'Текущие цены за единицу'!Q15,0)","v":0},{"$f":"ROUND('Форма по МДС 81-35.2004'!F194*'Текущие цены за единицу'!R15,0)","v":0},{"$f":"ROUND('Форма по МДС 81-35.2004'!F194*'Текущие цены за единицу'!S15,0)","v":0},{"$f":"ROUND('Форма по МДС 81-35.2004'!F194*'Текущие цены за единицу'!T15,0)","v":0},{"$f":"ROUND('Форма по МДС 81-35.2004'!F194*'Текущие цены за единицу'!U15,0)","v":0},{"$f":"ROUND('Форма по МДС 81-35.2004'!F194*'Текущие цены за единицу'!V15,0)","v":0},null,{"$f":"ROUND('Форма по МДС 81-35.2004'!F194*'Текущие цены за единицу'!X15,0)","v":0},{"$f":"IF(Определители!I15=\"9\",ROUND(B15*(Начисления!M15/100)*'Форма по МДС 81-35.2004'!G207/100,0),0)","v":0},{"$f":"IF(Определители!I15=\"9\",ROUND(B15*(100-Начисления!M15/100)*'Форма по МДС 81-35.2004'!G207/100,0),0)","v":0},{"$f":"IF(Определители!I15=\"9\",ROUND((C15+E15)*(Начисления!M15/100)*('Форма по МДС 81-35.2004'!G210/100),0),0)","v":0},{"$f":"IF(Определители!I15=\"9\",ROUND((C15+E15)*(100-Начисления!M15/100)*('Форма по МДС 81-35.2004'!G210/100),0),0)","v":0},{"$f":"IF(Определители!I15=\"9\",ROUND(B15*Начисления!M15/100,0),0)","v":0},{"$f":"IF(Определители!I15=\"9\",ROUND(B15*(100-Начисления!M15)/100,0),0)","v":0},{"$f":"ROUND('Форма по МДС 81-35.2004'!F194*'Текущие цены за единицу'!AE15,0)","v":0}]
[{"$f":"'Форма по МДС 81-35.2004'!A213","v":"11."},{"$f":"'Форма по МДС 81-35.2004'!H213","v":164},{"$f":"ROUND(SUMIF('Форма по МДС 81-35.2004'!J213:J237,\"Г\",'Форма по МДС 81-35.2004'!H213:H237),0)","v":26},{"$f":"ROUND(SUMIF('Форма по МДС 81-35.2004'!J213:J237,\"IsMash\",'Форма по МДС 81-35.2004'!H213:H237),0)","v":57},{"$f":"'Форма по МДС 81-35.2004'!H214","v":12},{"$f":"ROUND(SUMIF('Форма по МДС 81-35.2004'!J213:J237,\"IsMater\",'Форма по МДС 81-35.2004'!H213:H237),0)","v":81},{"$f":"ROUND('Форма по МДС 81-35.2004'!F213*'Текущие цены за единицу'!G16,0)","v":0},{"$f":"ROUND('Форма по МДС 81-35.2004'!F213*'Текущие цены за единицу'!H16,0)","v":0},{"$f":"ОКРУГЛВСЕ(SUMIF('Форма по МДС 81-35.2004'!J213:J237,\"Г\",'Форма по МДС 81-35.2004'!F213:F237),8)","v":0.23793},{"$f":"ОКРУГЛВСЕ('Форма по МДС 81-35.2004'!F213*'Текущие цены за единицу'!J16,8)","v":0},{"$f":"ОКРУГЛВСЕ(SUMIF('Форма по МДС 81-35.2004'!J213:J237,\"Ж\",'Форма по МДС 81-35.2004'!F213:F237),8)","v":7.9310000000000005E-2},{"$f":"ROUND('Форма по МДС 81-35.2004'!F213*'Текущие цены за единицу'!L16,0)","v":0},{"$f":"ROUND('Форма по МДС 81-35.2004'!F213*'Текущие цены за единицу'!M16,0)","v":0},{"$f":"ROUND(B16*'Форма по МДС 81-35.2004'!G232/100,0)","v":19},{"$f":"ROUND((B16+N16)*'Форма по МДС 81-35.2004'!G235/100,0)","v":15},{"$f":"ROUND('Форма по МДС 81-35.2004'!F213*'Текущие цены за единицу'!P16,0)","v":0},{"$f":"ROUND('Форма по МДС 81-35.2004'!F213*'Текущие цены за единицу'!Q16,0)","v":0},{"$f":"ROUND('Форма по МДС 81-35.2004'!F213*'Текущие цены за единицу'!R16,0)","v":0},{"$f":"ROUND('Форма по МДС 81-35.2004'!F213*'Текущие цены за единицу'!S16,0)","v":0},{"$f":"ROUND('Форма по МДС 81-35.2004'!F213*'Текущие цены за единицу'!T16,0)","v":0},{"$f":"ROUND('Форма по МДС 81-35.2004'!F213*'Текущие цены за единицу'!U16,0)","v":0},{"$f":"ROUND('Форма по МДС 81-35.2004'!F213*'Текущие цены за единицу'!V16,0)","v":0},null,{"$f":"ROUND('Форма по МДС 81-35.2004'!F213*'Текущие цены за единицу'!X16,0)","v":0},{"$f":"IF(Определители!I16=\"9\",ROUND(B16*(Начисления!M16/100)*'Форма по МДС 81-35.2004'!G232/100,0),0)","v":0},{"$f":"IF(Определители!I16=\"9\",ROUND(B16*(100-Начисления!M16/100)*'Форма по МДС 81-35.2004'!G232/100,0),0)","v":0},{"$f":"IF(Определители!I16=\"9\",ROUND((C16+E16)*(Начисления!M16/100)*('Форма по МДС 81-35.2004'!G235/100),0),0)","v":0},{"$f":"IF(Определители!I16=\"9\",ROUND((C16+E16)*(100-Начисления!M16/100)*('Форма по МДС 81-35.2004'!G235/100),0),0)","v":0},{"$f":"IF(Определители!I16=\"9\",ROUND(B16*Начисления!M16/100,0),0)","v":0},{"$f":"IF(Определители!I16=\"9\",ROUND(B16*(100-Начисления!M16)/100,0),0)","v":0},{"$f":"ROUND('Форма по МДС 81-35.2004'!F213*'Текущие цены за единицу'!AE16,0)","v":0}]
[{"$f":"'Форма по МДС 81-35.2004'!A238","v":"12."},{"$f":"'Форма по МДС 81-35.2004'!H238","v":104},{"$f":"ROUND(SUMIF('Форма по МДС 81-35.2004'!J238:J257,\"Г\",'Форма по МДС 81-35.2004'!H238:H257),0)","v":0},{"$f":"ROUND(SUMIF('Форма по МДС 81-35.2004'!J238:J257,\"IsMash\",'Форма по МДС 81-35.2004'!H238:H257),0)","v":104},{"$f":"'Форма по МДС 81-35.2004'!H240","v":29},{"$f":"ROUND(SUMIF('Форма по МДС 81-35.2004'!J238:J257,\"IsMater\",'Форма по МДС 81-35.2004'!H238:H257),0)","v":0},{"$f":"ROUND('Форма по МДС 81-35.2004'!F238*'Текущие цены за единицу'!G17,0)","v":0},{"$f":"ROUND('Форма по МДС 81-35.2004'!F238*'Текущие цены за единицу'!H17,0)","v":0},{"$f":"ОКРУГЛВСЕ(SUMIF('Форма по МДС 81-35.2004'!J238:J257,\"Г\",'Форма по МДС 81-35.2004'!F238:F257),8)","v":0},{"$f":"ОКРУГЛВСЕ('Форма по МДС 81-35.2004'!F238*'Текущие цены за единицу'!J17,8)","v":0},{"$f":"ОКРУГЛВСЕ(SUMIF('Форма по МДС 81-35.2004'!J238:J257,\"Ж\",'Форма по МДС 81-35.2004'!F238:F257),8)","v":0.20449999999999999},{"$f":"ROUND('Форма по МДС 81-35.2004'!F238*'Текущие цены за единицу'!L17,0)","v":0},{"$f":"ROUND('Форма по МДС 81-35.2004'!F238*'Текущие цены за единицу'!M17,0)","v":0},{"$f":"ROUND(B17*'Форма по МДС 81-35.2004'!G252/100,0)","v":12},{"$f":"ROUND((B17+N17)*'Форма по МДС 81-35.2004'!G255/100,0)","v":9},{"$f":"ROUND('Форма по МДС 81-35.2004'!F238*'Текущие цены за единицу'!P17,0)","v":0},{"$f":"ROUND('Форма по МДС 81-35.2004'!F238*'Текущие цены за единицу'!Q17,0)","v":0},{"$f":"ROUND('Форма по МДС 81-35.2004'!F238*'Текущие цены за единицу'!R17,0)","v":0},{"$f":"ROUND('Форма по МДС 81-35.2004'!F238*'Текущие цены за единицу'!S17,0)","v":0},{"$f":"ROUND('Форма по МДС 81-35.2004'!F238*'Текущие цены за единицу'!T17,0)","v":0},{"$f":"ROUND('Форма по МДС 81-35.2004'!F238*'Текущие цены за единицу'!U17,0)","v":0},{"$f":"ROUND('Форма по МДС 81-35.2004'!F238*'Текущие цены за единицу'!V17,0)","v":0},null,{"$f":"ROUND('Форма по МДС 81-35.2004'!F238*'Текущие цены за единицу'!X17,0)","v":0},{"$f":"IF(Определители!I17=\"9\",ROUND(B17*(Начисления!M17/100)*'Форма по МДС 81-35.2004'!G252/100,0),0)","v":0},{"$f":"IF(Определители!I17=\"9\",ROUND(B17*(100-Начисления!M17/100)*'Форма по МДС 81-35.2004'!G252/100,0),0)","v":0},{"$f":"IF(Определители!I17=\"9\",ROUND((C17+E17)*(Начисления!M17/100)*('Форма по МДС 81-35.2004'!G255/100),0),0)","v":0},{"$f":"IF(Определители!I17=\"9\",ROUND((C17+E17)*(100-Начисления!M17/100)*('Форма по МДС 81-35.2004'!G255/100),0),0)","v":0},{"$f":"IF(Определители!I17=\"9\",ROUND(B17*Начисления!M17/100,0),0)","v":0},{"$f":"IF(Определители!I17=\"9\",ROUND(B17*(100-Начисления!M17)/100,0),0)","v":0},{"$f":"ROUND('Форма по МДС 81-35.2004'!F238*'Текущие цены за единицу'!AE17,0)","v":0}]
[{"$f":"'Форма по МДС 81-35.2004'!A258","v":"13."},{"$f":"'Форма по МДС 81-35.2004'!H258","v":27},{"$f":"ROUND(SUMIF('Форма по МДС 81-35.2004'!J258:J276,\"Г\",'Форма по МДС 81-35.2004'!H258:H276),0)","v":0},{"$f":"ROUND(SUMIF('Форма по МДС 81-35.2004'!J258:J276,\"IsMash\",'Форма по МДС 81-35.2004'!H258:H276),0)","v":27},{"$f":"'Форма по МДС 81-35.2004'!H259","v":0},{"$f":"ROUND(SUMIF('Форма по МДС 81-35.2004'!J258:J276,\"IsMater\",'Форма по МДС 81-35.2004'!H258:H276),0)","v":0},{"$f":"ROUND('Форма по МДС 81-35.2004'!F258*'Текущие цены за единицу'!G18,0)","v":0},{"$f":"ROUND('Форма по МДС 81-35.2004'!F258*'Текущие цены за единицу'!H18,0)","v":0},{"$f":"ОКРУГЛВСЕ(SUMIF('Форма по МДС 81-35.2004'!J258:J276,\"Г\",'Форма по МДС 81-35.2004'!F258:F276),8)","v":0},{"$f":"ОКРУГЛВСЕ('Форма по МДС 81-35.2004'!F258*'Текущие цены за единицу'!J18,8)","v":0},{"$f":"ОКРУГЛВСЕ(SUMIF('Форма по МДС 81-35.2004'!J258:J276,\"Ж\",'Форма по МДС 81-35.2004'!F258:F276),8)","v":0},{"$f":"ROUND('Форма по МДС 81-35.2004'!F258*'Текущие цены за единицу'!L18,0)","v":0},{"$f":"ROUND('Форма по МДС 81-35.2004'!F258*'Текущие цены за единицу'!M18,0)","v":0},{"$f":"ROUND(B18*'Форма по МДС 81-35.2004'!G271/100,0)","v":3},{"$f":"ROUND((B18+N18)*'Форма по МДС 81-35.2004'!G274/100,0)","v":2},{"$f":"ROUND('Форма по МДС 81-35.2004'!F258*'Текущие цены за единицу'!P18,0)","v":0},{"$f":"ROUND('Форма по МДС 81-35.2004'!F258*'Текущие цены за единицу'!Q18,0)","v":0},{"$f":"ROUND('Форма по МДС 81-35.2004'!F258*'Текущие цены за единицу'!R18,0)","v":0},{"$f":"ROUND('Форма по МДС 81-35.2004'!F258*'Текущие цены за единицу'!S18,0)","v":0},{"$f":"ROUND('Форма по МДС 81-35.2004'!F258*'Текущие цены за единицу'!T18,0)","v":0},{"$f":"ROUND('Форма по МДС 81-35.2004'!F258*'Текущие цены за единицу'!U18,0)","v":0},{"$f":"ROUND('Форма по МДС 81-35.2004'!F258*'Текущие цены за единицу'!V18,0)","v":0},null,{"$f":"ROUND('Форма по МДС 81-35.2004'!F258*'Текущие цены за единицу'!X18,0)","v":0},{"$f":"IF(Определители!I18=\"9\",ROUND(B18*(Начисления!M18/100)*'Форма по МДС 81-35.2004'!G271/100,0),0)","v":0},{"$f":"IF(Определители!I18=\"9\",ROUND(B18*(100-Начисления!M18/100)*'Форма по МДС 81-35.2004'!G271/100,0),0)","v":0},{"$f":"IF(Определители!I18=\"9\",ROUND((C18+E18)*(Начисления!M18/100)*('Форма по МДС 81-35.2004'!G274/100),0),0)","v":0},{"$f":"IF(Определители!I18=\"9\",ROUND((C18+E18)*(100-Начисления!M18/100)*('Форма по МДС 81-35.2004'!G274/100),0),0)","v":0},{"$f":"IF(Определители!I18=\"9\",ROUND(B18*Начисления!M18/100,0),0)","v":0},{"$f":"IF(Определители!I18=\"9\",ROUND(B18*(100-Начисления!M18)/100,0),0)","v":0},{"$f":"ROUND('Форма по МДС 81-35.2004'!F258*'Текущие цены за единицу'!AE18,0)","v":0}]
[{"$f":"'Форма по МДС 81-35.2004'!A277","v":"14."},{"$f":"'Форма по МДС 81-35.2004'!H277","v":48},{"$f":"ROUND(SUMIF('Форма по МДС 81-35.2004'!J277:J296,\"Г\",'Форма по МДС 81-35.2004'!H277:H296),0)","v":0},{"$f":"ROUND(SUMIF('Форма по МДС 81-35.2004'!J277:J296,\"IsMash\",'Форма по МДС 81-35.2004'!H277:H296),0)","v":48},{"$f":"'Форма по МДС 81-35.2004'!H279","v":0},{"$f":"ROUND(SUMIF('Форма по МДС 81-35.2004'!J277:J296,\"IsMater\",'Форма по МДС 81-35.2004'!H277:H296),0)","v":0},{"$f":"ROUND('Форма по МДС 81-35.2004'!F277*'Текущие цены за единицу'!G19,0)","v":0},{"$f":"ROUND('Форма по МДС 81-35.2004'!F277*'Текущие цены за единицу'!H19,0)","v":0},{"$f":"ОКРУГЛВСЕ(SUMIF('Форма по МДС 81-35.2004'!J277:J296,\"Г\",'Форма по МДС 81-35.2004'!F277:F296),8)","v":0},{"$f":"ОКРУГЛВСЕ('Форма по МДС 81-35.2004'!F277*'Текущие цены за единицу'!J19,8)","v":0},{"$f":"ОКРУГЛВСЕ(SUMIF('Форма по МДС 81-35.2004'!J277:J296,\"Ж\",'Форма по МДС 81-35.2004'!F277:F296),8)","v":0},{"$f":"ROUND('Форма по МДС 81-35.2004'!F277*'Текущие цены за единицу'!L19,0)","v":0},{"$f":"ROUND('Форма по МДС 81-35.2004'!F277*'Текущие цены за единицу'!M19,0)","v":0},{"$f":"ROUND(B19*'Форма по МДС 81-35.2004'!G291/100,0)","v":6},{"$f":"ROUND((B19+N19)*'Форма по МДС 81-35.2004'!G294/100,0)","v":4},{"$f":"ROUND('Форма по МДС 81-35.2004'!F277*'Текущие цены за единицу'!P19,0)","v":0},{"$f":"ROUND('Форма по МДС 81-35.2004'!F277*'Текущие цены за единицу'!Q19,0)","v":0},{"$f":"ROUND('Форма по МДС 81-35.2004'!F277*'Текущие цены за единицу'!R19,0)","v":0},{"$f":"ROUND('Форма по МДС 81-35.2004'!F277*'Текущие цены за единицу'!S19,0)","v":0},{"$f":"ROUND('Форма по МДС 81-35.2004'!F277*'Текущие цены за единицу'!T19,0)","v":0},{"$f":"ROUND('Форма по МДС 81-35.2004'!F277*'Текущие цены за единицу'!U19,0)","v":0},{"$f":"ROUND('Форма по МДС 81-35.2004'!F277*'Текущие цены за единицу'!V19,0)","v":0},null,{"$f":"ROUND('Форма по МДС 81-35.2004'!F277*'Текущие цены за единицу'!X19,0)","v":0},{"$f":"IF(Определители!I19=\"9\",ROUND(B19*(Начисления!M19/100)*'Форма по МДС 81-35.2004'!G291/100,0),0)","v":0},{"$f":"IF(Определители!I19=\"9\",ROUND(B19*(100-Начисления!M19/100)*'Форма по МДС 81-35.2004'!G291/100,0),0)","v":0},{"$f":"IF(Определители!I19=\"9\",ROUND((C19+E19)*(Начисления!M19/100)*('Форма по МДС 81-35.2004'!G294/100),0),0)","v":0},{"$f":"IF(Определители!I19=\"9\",ROUND((C19+E19)*(100-Начисления!M19/100)*('Форма по МДС 81-35.2004'!G294/100),0),0)","v":0},{"$f":"IF(Определители!I19=\"9\",ROUND(B19*Начисления!M19/100,0),0)","v":0},{"$f":"IF(Определители!I19=\"9\",ROUND(B19*(100-Начисления!M19)/100,0),0)","v":0},{"$f":"ROUND('Форма по МДС 81-35.2004'!F277*'Текущие цены за единицу'!AE19,0)","v":0}]
[{"$f":"'Форма по МДС 81-35.2004'!A299","v":"15."},{"$f":"'Форма по МДС 81-35.2004'!H299","v":85},{"$f":"ROUND(SUMIF('Форма по МДС 81-35.2004'!J299:J318,\"Г\",'Форма по МДС 81-35.2004'!H299:H318),0)","v":50},{"$f":"ROUND(SUMIF('Форма по МДС 81-35.2004'!J299:J318,\"IsMash\",'Форма по МДС 81-35.2004'!H299:H318),0)","v":35},{"$f":"'Форма по МДС 81-35.2004'!H300","v":9},{"$f":"ROUND(SUMIF('Форма по МДС 81-35.2004'!J299:J318,\"IsMater\",'Форма по МДС 81-35.2004'!H299:H318),0)","v":0},{"$f":"ROUND('Форма по МДС 81-35.2004'!F299*'Текущие цены за единицу'!G20,0)","v":0},{"$f":"ROUND('Форма по МДС 81-35.2004'!F299*'Текущие цены за единицу'!H20,0)","v":0},{"$f":"ОКРУГЛВСЕ(SUMIF('Форма по МДС 81-35.2004'!J299:J318,\"Г\",'Форма по МДС 81-35.2004'!F299:F318),8)","v":0.50048000000000004},{"$f":"ОКРУГЛВСЕ('Форма по МДС 81-35.2004'!F299*'Текущие цены за единицу'!J20,8)","v":0},{"$f":"ОКРУГЛВСЕ(SUMIF('Форма по МДС 81-35.2004'!J299:J318,\"Ж\",'Форма по МДС 81-35.2004'!F299:F318),8)","v":6.2560000000000004E-2},{"$f":"ROUND('Форма по МДС 81-35.2004'!F299*'Текущие цены за единицу'!L20,0)","v":0},{"$f":"ROUND('Форма по МДС 81-35.2004'!F299*'Текущие цены за единицу'!M20,0)","v":0},{"$f":"ROUND(B20*'Форма по МДС 81-35.2004'!G313/100,0)","v":10},{"$f":"ROUND((B20+N20)*'Форма по МДС 81-35.2004'!G316/100,0)","v":8},{"$f":"ROUND('Форма по МДС 81-35.2004'!F299*'Текущие цены за единицу'!P20,0)","v":0},{"$f":"ROUND('Форма по МДС 81-35.2004'!F299*'Текущие цены за единицу'!Q20,0)","v":0},{"$f":"ROUND('Форма по МДС 81-35.2004'!F299*'Текущие цены за единицу'!R20,0)","v":0},{"$f":"ROUND('Форма по МДС 81-35.2004'!F299*'Текущие цены за единицу'!S20,0)","v":0},{"$f":"ROUND('Форма по МДС 81-35.2004'!F299*'Текущие цены за единицу'!T20,0)","v":0},{"$f":"ROUND('Форма по МДС 81-35.2004'!F299*'Текущие цены за единицу'!U20,0)","v":0},{"$f":"ROUND('Форма по МДС 81-35.2004'!F299*'Текущие цены за единицу'!V20,0)","v":0},null,{"$f":"ROUND('Форма по МДС 81-35.2004'!F299*'Текущие цены за единицу'!X20,0)","v":0},{"$f":"IF(Определители!I20=\"9\",ROUND(B20*(Начисления!M20/100)*'Форма по МДС 81-35.2004'!G313/100,0),0)","v":0},{"$f":"IF(Определители!I20=\"9\",ROUND(B20*(100-Начисления!M20/100)*'Форма по МДС 81-35.2004'!G313/100,0),0)","v":0},{"$f":"IF(Определители!I20=\"9\",ROUND((C20+E20)*(Начисления!M20/100)*('Форма по МДС 81-35.2004'!G316/100),0),0)","v":0},{"$f":"IF(Определители!I20=\"9\",ROUND((C20+E20)*(100-Начисления!M20/100)*('Форма по МДС 81-35.2004'!G316/100),0),0)","v":0},{"$f":"IF(Определители!I20=\"9\",ROUND(B20*Начисления!M20/100,0),0)","v":0},{"$f":"IF(Определители!I20=\"9\",ROUND(B20*(100-Начисления!M20)/100,0),0)","v":0},{"$f":"ROUND('Форма по МДС 81-35.2004'!F299*'Текущие цены за единицу'!AE20,0)","v":0}]
[{"$f":"'Форма по МДС 81-35.2004'!A319","v":"16."},{"$f":"'Форма по МДС 81-35.2004'!H319","v":213},{"$f":"ROUND(SUMIF('Форма по МДС 81-35.2004'!J319:J339,\"Г\",'Форма по МДС 81-35.2004'!H319:H339),0)","v":25},{"$f":"ROUND(SUMIF('Форма по МДС 81-35.2004'!J319:J339,\"IsMash\",'Форма по МДС 81-35.2004'!H319:H339),0)","v":0},{"$f":"'Форма по МДС 81-35.2004'!H320","v":0},{"$f":"ROUND(SUMIF('Форма по МДС 81-35.2004'!J319:J339,\"IsMater\",'Форма по МДС 81-35.2004'!H319:H339),0)","v":189},{"$f":"ROUND('Форма по МДС 81-35.2004'!F319*'Текущие цены за единицу'!G21,0)","v":0},{"$f":"ROUND('Форма по МДС 81-35.2004'!F319*'Текущие цены за единицу'!H21,0)","v":0},{"$f":"ОКРУГЛВСЕ(SUMIF('Форма по МДС 81-35.2004'!J319:J339,\"Г\",'Форма по МДС 81-35.2004'!F319:F339),8)","v":0.23372999999999999},{"$f":"ОКРУГЛВСЕ('Форма по МДС 81-35.2004'!F319*'Текущие цены за единицу'!J21,8)","v":0},{"$f":"ОКРУГЛВСЕ(SUMIF('Форма по МДС 81-35.2004'!J319:J339,\"Ж\",'Форма по МДС 81-35.2004'!F319:F339),8)","v":0},{"$f":"ROUND('Форма по МДС 81-35.2004'!F319*'Текущие цены за единицу'!L21,0)","v":0},{"$f":"ROUND('Форма по МДС 81-35.2004'!F319*'Текущие цены за единицу'!M21,0)","v":0},{"$f":"ROUND(B21*'Форма по МДС 81-35.2004'!G334/100,0)","v":25},{"$f":"ROUND((B21+N21)*'Форма по МДС 81-35.2004'!G337/100,0)","v":19},{"$f":"ROUND('Форма по МДС 81-35.2004'!F319*'Текущие цены за единицу'!P21,0)","v":0},{"$f":"ROUND('Форма по МДС 81-35.2004'!F319*'Текущие цены за единицу'!Q21,0)","v":0},{"$f":"ROUND('Форма по МДС 81-35.2004'!F319*'Текущие цены за единицу'!R21,0)","v":0},{"$f":"ROUND('Форма по МДС 81-35.2004'!F319*'Текущие цены за единицу'!S21,0)","v":0},{"$f":"ROUND('Форма по МДС 81-35.2004'!F319*'Текущие цены за единицу'!T21,0)","v":0},{"$f":"ROUND('Форма по МДС 81-35.2004'!F319*'Текущие цены за единицу'!U21,0)","v":0},{"$f":"ROUND('Форма по МДС 81-35.2004'!F319*'Текущие цены за единицу'!V21,0)","v":0},null,{"$f":"ROUND('Форма по МДС 81-35.2004'!F319*'Текущие цены за единицу'!X21,0)","v":0},{"$f":"IF(Определители!I21=\"9\",ROUND(B21*(Начисления!M21/100)*'Форма по МДС 81-35.2004'!G334/100,0),0)","v":0},{"$f":"IF(Определители!I21=\"9\",ROUND(B21*(100-Начисления!M21/100)*'Форма по МДС 81-35.2004'!G334/100,0),0)","v":0},{"$f":"IF(Определители!I21=\"9\",ROUND((C21+E21)*(Начисления!M21/100)*('Форма по МДС 81-35.2004'!G337/100),0),0)","v":0},{"$f":"IF(Определители!I21=\"9\",ROUND((C21+E21)*(100-Начисления!M21/100)*('Форма по МДС 81-35.2004'!G337/100),0),0)","v":0},{"$f":"IF(Определители!I21=\"9\",ROUND(B21*Начисления!M21/100,0),0)","v":0},{"$f":"IF(Определители!I21=\"9\",ROUND(B21*(100-Начисления!M21)/100,0),0)","v":0},{"$f":"ROUND('Форма по МДС 81-35.2004'!F319*'Текущие цены за единицу'!AE21,0)","v":0}]
[{"$f":"'Форма по МДС 81-35.2004'!A340","v":"17."},{"$f":"'Форма по МДС 81-35.2004'!H340","v":48},{"$f":"ROUND(SUMIF('Форма по МДС 81-35.2004'!J340:J359,\"Г\",'Форма по МДС 81-35.2004'!H340:H359),0)","v":24},{"$f":"ROUND(SUMIF('Форма по МДС 81-35.2004'!J340:J359,\"IsMash\",'Форма по МДС 81-35.2004'!H340:H359),0)","v":0},{"$f":"'Форма по МДС 81-35.2004'!H341","v":0},{"$f":"ROUND(SUMIF('Форма по МДС 81-35.2004'!J340:J359,\"IsMater\",'Форма по МДС 81-35.2004'!H340:H359),0)","v":24},{"$f":"ROUND('Форма по МДС 81-35.2004'!F340*'Текущие цены за единицу'!G22,0)","v":0},{"$f":"ROUND('Форма по МДС 81-35.2004'!F340*'Текущие цены за единицу'!H22,0)","v":0},{"$f":"ОКРУГЛВСЕ(SUMIF('Форма по МДС 81-35.2004'!J340:J359,\"Г\",'Форма по МДС 81-35.2004'!F340:F359),8)","v":0.19055},{"$f":"ОКРУГЛВСЕ('Форма по МДС 81-35.2004'!F340*'Текущие цены за единицу'!J22,8)","v":0},{"$f":"ОКРУГЛВСЕ(SUMIF('Форма по МДС 81-35.2004'!J340:J359,\"Ж\",'Форма по МДС 81-35.2004'!F340:F359),8)","v":0},{"$f":"ROUND('Форма по МДС 81-35.2004'!F340*'Текущие цены за единицу'!L22,0)","v":0},{"$f":"ROUND('Форма по МДС 81-35.2004'!F340*'Текущие цены за единицу'!M22,0)","v":0},{"$f":"ROUND(B22*'Форма по МДС 81-35.2004'!G354/100,0)","v":6},{"$f":"ROUND((B22+N22)*'Форма по МДС 81-35.2004'!G357/100,0)","v":4},{"$f":"ROUND('Форма по МДС 81-35.2004'!F340*'Текущие цены за единицу'!P22,0)","v":0},{"$f":"ROUND('Форма по МДС 81-35.2004'!F340*'Текущие цены за единицу'!Q22,0)","v":0},{"$f":"ROUND('Форма по МДС 81-35.2004'!F340*'Текущие цены за единицу'!R22,0)","v":0},{"$f":"ROUND('Форма по МДС 81-35.2004'!F340*'Текущие цены за единицу'!S22,0)","v":0},{"$f":"ROUND('Форма по МДС 81-35.2004'!F340*'Текущие цены за единицу'!T22,0)","v":0},{"$f":"ROUND('Форма по МДС 81-35.2004'!F340*'Текущие цены за единицу'!U22,0)","v":0},{"$f":"ROUND('Форма по МДС 81-35.2004'!F340*'Текущие цены за единицу'!V22,0)","v":0},null,{"$f":"ROUND('Форма по МДС 81-35.2004'!F340*'Текущие цены за единицу'!X22,0)","v":0},{"$f":"IF(Определители!I22=\"9\",ROUND(B22*(Начисления!M22/100)*'Форма по МДС 81-35.2004'!G354/100,0),0)","v":0},{"$f":"IF(Определители!I22=\"9\",ROUND(B22*(100-Начисления!M22/100)*'Форма по МДС 81-35.2004'!G354/100,0),0)","v":0},{"$f":"IF(Определители!I22=\"9\",ROUND((C22+E22)*(Начисления!M22/100)*('Форма по МДС 81-35.2004'!G357/100),0),0)","v":0},{"$f":"IF(Определители!I22=\"9\",ROUND((C22+E22)*(100-Начисления!M22/100)*('Форма по МДС 81-35.2004'!G357/100),0),0)","v":0},{"$f":"IF(Определители!I22=\"9\",ROUND(B22*Начисления!M22/100,0),0)","v":0},{"$f":"IF(Определители!I22=\"9\",ROUND(B22*(100-Начисления!M22)/100,0),0)","v":0},{"$f":"ROUND('Форма по МДС 81-35.2004'!F340*'Текущие цены за единицу'!AE22,0)","v":0}]
[{"$f":"'Форма по МДС 81-35.2004'!A360","v":"18."},{"$f":"'Форма по МДС 81-35.2004'!H360","v":1},{"$f":"ROUND(SUMIF('Форма по МДС 81-35.2004'!J360:J379,\"Г\",'Форма по МДС 81-35.2004'!H360:H379),0)","v":0},{"$f":"ROUND(SUMIF('Форма по МДС 81-35.2004'!J360:J379,\"IsMash\",'Форма по МДС 81-35.2004'!H360:H379),0)","v":1},{"$f":"'Форма по МДС 81-35.2004'!H361","v":0},{"$f":"ROUND(SUMIF('Форма по МДС 81-35.2004'!J360:J379,\"IsMater\",'Форма по МДС 81-35.2004'!H360:H379),0)","v":0},{"$f":"ROUND('Форма по МДС 81-35.2004'!F360*'Текущие цены за единицу'!G23,0)","v":0},{"$f":"ROUND('Форма по МДС 81-35.2004'!F360*'Текущие цены за единицу'!H23,0)","v":0},{"$f":"ОКРУГЛВСЕ(SUMIF('Форма по МДС 81-35.2004'!J360:J379,\"Г\",'Форма по МДС 81-35.2004'!F360:F379),8)","v":4.5999999999999999E-3},{"$f":"ОКРУГЛВСЕ('Форма по МДС 81-35.2004'!F360*'Текущие цены за единицу'!J23,8)","v":0},{"$f":"ОКРУГЛВСЕ(SUMIF('Форма по МДС 81-35.2004'!J360:J379,\"Ж\",'Форма по МДС 81-35.2004'!F360:F379),8)","v":1.15E-3},{"$f":"ROUND('Форма по МДС 81-35.2004'!F360*'Текущие цены за единицу'!L23,0)","v":0},{"$f":"ROUND('Форма по МДС 81-35.2004'!F360*'Текущие цены за единицу'!M23,0)","v":0},{"$f":"ROUND(B23*'Форма по МДС 81-35.2004'!G374/100,0)","v":0},{"$f":"ROUND((B23+N23)*'Форма по МДС 81-35.2004'!G377/100,0)","v":0},{"$f":"ROUND('Форма по МДС 81-35.2004'!F360*'Текущие цены за единицу'!P23,0)","v":0},{"$f":"ROUND('Форма по МДС 81-35.2004'!F360*'Текущие цены за единицу'!Q23,0)","v":0},{"$f":"ROUND('Форма по МДС 81-35.2004'!F360*'Текущие цены за единицу'!R23,0)","v":0},{"$f":"ROUND('Форма по МДС 81-35.2004'!F360*'Текущие цены за единицу'!S23,0)","v":0},{"$f":"ROUND('Форма по МДС 81-35.2004'!F360*'Текущие цены за единицу'!T23,0)","v":0},{"$f":"ROUND('Форма по МДС 81-35.2004'!F360*'Текущие цены за единицу'!U23,0)","v":0},{"$f":"ROUND('Форма по МДС 81-35.2004'!F360*'Текущие цены за единицу'!V23,0)","v":0},null,{"$f":"ROUND('Форма по МДС 81-35.2004'!F360*'Текущие цены за единицу'!X23,0)","v":0},{"$f":"IF(Определители!I23=\"9\",ROUND(B23*(Начисления!M23/100)*'Форма по МДС 81-35.2004'!G374/100,0),0)","v":0},{"$f":"IF(Определители!I23=\"9\",ROUND(B23*(100-Начисления!M23/100)*'Форма по МДС 81-35.2004'!G374/100,0),0)","v":0},{"$f":"IF(Определители!I23=\"9\",ROUND((C23+E23)*(Начисления!M23/100)*('Форма по МДС 81-35.2004'!G377/100),0),0)","v":0},{"$f":"IF(Определители!I23=\"9\",ROUND((C23+E23)*(100-Начисления!M23/100)*('Форма по МДС 81-35.2004'!G377/100),0),0)","v":0},{"$f":"IF(Определители!I23=\"9\",ROUND(B23*Начисления!M23/100,0),0)","v":0},{"$f":"IF(Определители!I23=\"9\",ROUND(B23*(100-Начисления!M23)/100,0),0)","v":0},{"$f":"ROUND('Форма по МДС 81-35.2004'!F360*'Текущие цены за единицу'!AE23,0)","v":0}]
[{"$f":"'Форма по МДС 81-35.2004'!A380","v":"19."},{"$f":"'Форма по МДС 81-35.2004'!H380","v":23},{"$f":"ROUND(SUMIF('Форма по МДС 81-35.2004'!J380:J399,\"Г\",'Форма по МДС 81-35.2004'!H380:H399),0)","v":14},{"$f":"ROUND(SUMIF('Форма по МДС 81-35.2004'!J380:J399,\"IsMash\",'Форма по МДС 81-35.2004'!H380:H399),0)","v":9},{"$f":"'Форма по МДС 81-35.2004'!H381","v":3},{"$f":"ROUND(SUMIF('Форма по МДС 81-35.2004'!J380:J399,\"IsMater\",'Форма по МДС 81-35.2004'!H380:H399),0)","v":0},{"$f":"ROUND('Форма по МДС 81-35.2004'!F380*'Текущие цены за единицу'!G24,0)","v":0},{"$f":"ROUND('Форма по МДС 81-35.2004'!F380*'Текущие цены за единицу'!H24,0)","v":0},{"$f":"ОКРУГЛВСЕ(SUMIF('Форма по МДС 81-35.2004'!J380:J399,\"Г\",'Форма по МДС 81-35.2004'!F380:F399),8)","v":0.13600000000000001},{"$f":"ОКРУГЛВСЕ('Форма по МДС 81-35.2004'!F380*'Текущие цены за единицу'!J24,8)","v":0},{"$f":"ОКРУГЛВСЕ(SUMIF('Форма по МДС 81-35.2004'!J380:J399,\"Ж\",'Форма по МДС 81-35.2004'!F380:F399),8)","v":1.7000000000000001E-2},{"$f":"ROUND('Форма по МДС 81-35.2004'!F380*'Текущие цены за единицу'!L24,0)","v":0},{"$f":"ROUND('Форма по МДС 81-35.2004'!F380*'Текущие цены за единицу'!M24,0)","v":0},{"$f":"ROUND(B24*'Форма по МДС 81-35.2004'!G394/100,0)","v":3},{"$f":"ROUND((B24+N24)*'Форма по МДС 81-35.2004'!G397/100,0)","v":2},{"$f":"ROUND('Форма по МДС 81-35.2004'!F380*'Текущие цены за единицу'!P24,0)","v":0},{"$f":"ROUND('Форма по МДС 81-35.2004'!F380*'Текущие цены за единицу'!Q24,0)","v":0},{"$f":"ROUND('Форма по МДС 81-35.2004'!F380*'Текущие цены за единицу'!R24,0)","v":0},{"$f":"ROUND('Форма по МДС 81-35.2004'!F380*'Текущие цены за единицу'!S24,0)","v":0},{"$f":"ROUND('Форма по МДС 81-35.2004'!F380*'Текущие цены за единицу'!T24,0)","v":0},{"$f":"ROUND('Форма по МДС 81-35.2004'!F380*'Текущие цены за единицу'!U24,0)","v":0},{"$f":"ROUND('Форма по МДС 81-35.2004'!F380*'Текущие цены за единицу'!V24,0)","v":0},null,{"$f":"ROUND('Форма по МДС 81-35.2004'!F380*'Текущие цены за единицу'!X24,0)","v":0},{"$f":"IF(Определители!I24=\"9\",ROUND(B24*(Начисления!M24/100)*'Форма по МДС 81-35.2004'!G394/100,0),0)","v":0},{"$f":"IF(Определители!I24=\"9\",ROUND(B24*(100-Начисления!M24/100)*'Форма по МДС 81-35.2004'!G394/100,0),0)","v":0},{"$f":"IF(Определители!I24=\"9\",ROUND((C24+E24)*(Начисления!M24/100)*('Форма по МДС 81-35.2004'!G397/100),0),0)","v":0},{"$f":"IF(Определители!I24=\"9\",ROUND((C24+E24)*(100-Начисления!M24/100)*('Форма по МДС 81-35.2004'!G397/100),0),0)","v":0},{"$f":"IF(Определители!I24=\"9\",ROUND(B24*Начисления!M24/100,0),0)","v":0},{"$f":"IF(Определители!I24=\"9\",ROUND(B24*(100-Начисления!M24)/100,0),0)","v":0},{"$f":"ROUND('Форма по МДС 81-35.2004'!F380*'Текущие цены за единицу'!AE24,0)","v":0}]
[{"$f":"'Форма по МДС 81-35.2004'!A402","v":"20."},{"$f":"'Форма по МДС 81-35.2004'!H402","v":6},{"$f":"ROUND(SUMIF('Форма по МДС 81-35.2004'!J402:J421,\"Г\",'Форма по МДС 81-35.2004'!H402:H421),0)","v":4},{"$f":"ROUND(SUMIF('Форма по МДС 81-35.2004'!J402:J421,\"IsMash\",'Форма по МДС 81-35.2004'!H402:H421),0)","v":3},{"$f":"'Форма по МДС 81-35.2004'!H403","v":1},{"$f":"ROUND(SUMIF('Форма по МДС 81-35.2004'!J402:J421,\"IsMater\",'Форма по МДС 81-35.2004'!H402:H421),0)","v":0},{"$f":"ROUND('Форма по МДС 81-35.2004'!F402*'Текущие цены за единицу'!G25,0)","v":0},{"$f":"ROUND('Форма по МДС 81-35.2004'!F402*'Текущие цены за единицу'!H25,0)","v":0},{"$f":"ОКРУГЛВСЕ(SUMIF('Форма по МДС 81-35.2004'!J402:J421,\"Г\",'Форма по МДС 81-35.2004'!F402:F421),8)","v":3.6799999999999999E-2},{"$f":"ОКРУГЛВСЕ('Форма по МДС 81-35.2004'!F402*'Текущие цены за единицу'!J25,8)","v":0},{"$f":"ОКРУГЛВСЕ(SUMIF('Форма по МДС 81-35.2004'!J402:J421,\"Ж\",'Форма по МДС 81-35.2004'!F402:F421),8)","v":4.5999999999999999E-3},{"$f":"ROUND('Форма по МДС 81-35.2004'!F402*'Текущие цены за единицу'!L25,0)","v":0},{"$f":"ROUND('Форма по МДС 81-35.2004'!F402*'Текущие цены за единицу'!M25,0)","v":0},{"$f":"ROUND(B25*'Форма по МДС 81-35.2004'!G416/100,0)","v":1},{"$f":"ROUND((B25+N25)*'Форма по МДС 81-35.2004'!G419/100,0)","v":1},{"$f":"ROUND('Форма по МДС 81-35.2004'!F402*'Текущие цены за единицу'!P25,0)","v":0},{"$f":"ROUND('Форма по МДС 81-35.2004'!F402*'Текущие цены за единицу'!Q25,0)","v":0},{"$f":"ROUND('Форма по МДС 81-35.2004'!F402*'Текущие цены за единицу'!R25,0)","v":0},{"$f":"ROUND('Форма по МДС 81-35.2004'!F402*'Текущие цены за единицу'!S25,0)","v":0},{"$f":"ROUND('Форма по МДС 81-35.2004'!F402*'Текущие цены за единицу'!T25,0)","v":0},{"$f":"ROUND('Форма по МДС 81-35.2004'!F402*'Текущие цены за единицу'!U25,0)","v":0},{"$f":"ROUND('Форма по МДС 81-35.2004'!F402*'Текущие цены за единицу'!V25,0)","v":0},null,{"$f":"ROUND('Форма по МДС 81-35.2004'!F402*'Текущие цены за единицу'!X25,0)","v":0},{"$f":"IF(Определители!I25=\"9\",ROUND(B25*(Начисления!M25/100)*'Форма по МДС 81-35.2004'!G416/100,0),0)","v":0},{"$f":"IF(Определители!I25=\"9\",ROUND(B25*(100-Начисления!M25/100)*'Форма по МДС 81-35.2004'!G416/100,0),0)","v":0},{"$f":"IF(Определители!I25=\"9\",ROUND((C25+E25)*(Начисления!M25/100)*('Форма по МДС 81-35.2004'!G419/100),0),0)","v":0},{"$f":"IF(Определители!I25=\"9\",ROUND((C25+E25)*(100-Начисления!M25/100)*('Форма по МДС 81-35.2004'!G419/100),0),0)","v":0},{"$f":"IF(Определители!I25=\"9\",ROUND(B25*Начисления!M25/100,0),0)","v":0},{"$f":"IF(Определители!I25=\"9\",ROUND(B25*(100-Начисления!M25)/100,0),0)","v":0},{"$f":"ROUND('Форма по МДС 81-35.2004'!F402*'Текущие цены за единицу'!AE25,0)","v":0}]
[{"$f":"'Форма по МДС 81-35.2004'!A422","v":"21."},{"$f":"'Форма по МДС 81-35.2004'!H422","v":2},{"$f":"ROUND(SUMIF('Форма по МДС 81-35.2004'!J422:J441,\"Г\",'Форма по МДС 81-35.2004'!H422:H441),0)","v":1},{"$f":"ROUND(SUMIF('Форма по МДС 81-35.2004'!J422:J441,\"IsMash\",'Форма по МДС 81-35.2004'!H422:H441),0)","v":1},{"$f":"'Форма по МДС 81-35.2004'!H423","v":0},{"$f":"ROUND(SUMIF('Форма по МДС 81-35.2004'!J422:J441,\"IsMater\",'Форма по МДС 81-35.2004'!H422:H441),0)","v":0},{"$f":"ROUND('Форма по МДС 81-35.2004'!F422*'Текущие цены за единицу'!G26,0)","v":0},{"$f":"ROUND('Форма по МДС 81-35.2004'!F422*'Текущие цены за единицу'!H26,0)","v":0},{"$f":"ОКРУГЛВСЕ(SUMIF('Форма по МДС 81-35.2004'!J422:J441,\"Г\",'Форма по МДС 81-35.2004'!F422:F441),8)","v":8.9599999999999992E-3},{"$f":"ОКРУГЛВСЕ('Форма по МДС 81-35.2004'!F422*'Текущие цены за единицу'!J26,8)","v":0},{"$f":"ОКРУГЛВСЕ(SUMIF('Форма по МДС 81-35.2004'!J422:J441,\"Ж\",'Форма по МДС 81-35.2004'!F422:F441),8)","v":1.1199999999999999E-3},{"$f":"ROUND('Форма по МДС 81-35.2004'!F422*'Текущие цены за единицу'!L26,0)","v":0},{"$f":"ROUND('Форма по МДС 81-35.2004'!F422*'Текущие цены за единицу'!M26,0)","v":0},{"$f":"ROUND(B26*'Форма по МДС 81-35.2004'!G436/100,0)","v":0},{"$f":"ROUND((B26+N26)*'Форма по МДС 81-35.2004'!G439/100,0)","v":0},{"$f":"ROUND('Форма по МДС 81-35.2004'!F422*'Текущие цены за единицу'!P26,0)","v":0},{"$f":"ROUND('Форма по МДС 81-35.2004'!F422*'Текущие цены за единицу'!Q26,0)","v":0},{"$f":"ROUND('Форма по МДС 81-35.2004'!F422*'Текущие цены за единицу'!R26,0)","v":0},{"$f":"ROUND('Форма по МДС 81-35.2004'!F422*'Текущие цены за единицу'!S26,0)","v":0},{"$f":"ROUND('Форма по МДС 81-35.2004'!F422*'Текущие цены за единицу'!T26,0)","v":0},{"$f":"ROUND('Форма по МДС 81-35.2004'!F422*'Текущие цены за единицу'!U26,0)","v":0},{"$f":"ROUND('Форма по МДС 81-35.2004'!F422*'Текущие цены за единицу'!V26,0)","v":0},null,{"$f":"ROUND('Форма по МДС 81-35.2004'!F422*'Текущие цены за единицу'!X26,0)","v":0},{"$f":"IF(Определители!I26=\"9\",ROUND(B26*(Начисления!M26/100)*'Форма по МДС 81-35.2004'!G436/100,0),0)","v":0},{"$f":"IF(Определители!I26=\"9\",ROUND(B26*(100-Начисления!M26/100)*'Форма по МДС 81-35.2004'!G436/100,0),0)","v":0},{"$f":"IF(Определители!I26=\"9\",ROUND((C26+E26)*(Начисления!M26/100)*('Форма по МДС 81-35.2004'!G439/100),0),0)","v":0},{"$f":"IF(Определители!I26=\"9\",ROUND((C26+E26)*(100-Начисления!M26/100)*('Форма по МДС 81-35.2004'!G439/100),0),0)","v":0},{"$f":"IF(Определители!I26=\"9\",ROUND(B26*Начисления!M26/100,0),0)","v":0},{"$f":"IF(Определители!I26=\"9\",ROUND(B26*(100-Начисления!M26)/100,0),0)","v":0},{"$f":"ROUND('Форма по МДС 81-35.2004'!F422*'Текущие цены за единицу'!AE26,0)","v":0}]
[{"$f":"'Форма по МДС 81-35.2004'!A442","v":"22."},{"$f":"'Форма по МДС 81-35.2004'!H442","v":1960},{"$f":"ROUND(SUMIF('Форма по МДС 81-35.2004'!J442:J470,\"Г\",'Форма по МДС 81-35.2004'!H442:H470),0)","v":208},{"$f":"ROUND(SUMIF('Форма по МДС 81-35.2004'!J442:J470,\"IsMash\",'Форма по МДС 81-35.2004'!H442:H470),0)","v":273},{"$f":"'Форма по МДС 81-35.2004'!H443","v":74},{"$f":"ROUND(SUMIF('Форма по МДС 81-35.2004'!J442:J470,\"IsMater\",'Форма по МДС 81-35.2004'!H442:H470),0)","v":1478},{"$f":"ROUND('Форма по МДС 81-35.2004'!F442*'Текущие цены за единицу'!G27,0)","v":0},{"$f":"ROUND('Форма по МДС 81-35.2004'!F442*'Текущие цены за единицу'!H27,0)","v":0},{"$f":"ОКРУГЛВСЕ(SUMIF('Форма по МДС 81-35.2004'!J442:J470,\"Г\",'Форма по МДС 81-35.2004'!F442:F470),8)","v":1.9781519999999999},{"$f":"ОКРУГЛВСЕ('Форма по МДС 81-35.2004'!F442*'Текущие цены за единицу'!J27,8)","v":0},{"$f":"ОКРУГЛВСЕ(SUMIF('Форма по МДС 81-35.2004'!J442:J470,\"Ж\",'Форма по МДС 81-35.2004'!F442:F470),8)","v":0.49453799999999998},{"$f":"ROUND('Форма по МДС 81-35.2004'!F442*'Текущие цены за единицу'!L27,0)","v":0},{"$f":"ROUND('Форма по МДС 81-35.2004'!F442*'Текущие цены за единицу'!M27,0)","v":0},{"$f":"ROUND(B27*'Форма по МДС 81-35.2004'!G465/100,0)","v":229},{"$f":"ROUND((B27+N27)*'Форма по МДС 81-35.2004'!G468/100,0)","v":175},{"$f":"ROUND('Форма по МДС 81-35.2004'!F442*'Текущие цены за единицу'!P27,0)","v":0},{"$f":"ROUND('Форма по МДС 81-35.2004'!F442*'Текущие цены за единицу'!Q27,0)","v":0},{"$f":"ROUND('Форма по МДС 81-35.2004'!F442*'Текущие цены за единицу'!R27,0)","v":0},{"$f":"ROUND('Форма по МДС 81-35.2004'!F442*'Текущие цены за единицу'!S27,0)","v":0},{"$f":"ROUND('Форма по МДС 81-35.2004'!F442*'Текущие цены за единицу'!T27,0)","v":0},{"$f":"ROUND('Форма по МДС 81-35.2004'!F442*'Текущие цены за единицу'!U27,0)","v":0},{"$f":"ROUND('Форма по МДС 81-35.2004'!F442*'Текущие цены за единицу'!V27,0)","v":0},null,{"$f":"ROUND('Форма по МДС 81-35.2004'!F442*'Текущие цены за единицу'!X27,0)","v":0},{"$f":"IF(Определители!I27=\"9\",ROUND(B27*(Начисления!M27/100)*'Форма по МДС 81-35.2004'!G465/100,0),0)","v":0},{"$f":"IF(Определители!I27=\"9\",ROUND(B27*(100-Начисления!M27/100)*'Форма по МДС 81-35.2004'!G465/100,0),0)","v":0},{"$f":"IF(Определители!I27=\"9\",ROUND((C27+E27)*(Начисления!M27/100)*('Форма по МДС 81-35.2004'!G468/100),0),0)","v":0},{"$f":"IF(Определители!I27=\"9\",ROUND((C27+E27)*(100-Начисления!M27/100)*('Форма по МДС 81-35.2004'!G468/100),0),0)","v":0},{"$f":"IF(Определители!I27=\"9\",ROUND(B27*Начисления!M27/100,0),0)","v":0},{"$f":"IF(Определители!I27=\"9\",ROUND(B27*(100-Начисления!M27)/100,0),0)","v":0},{"$f":"ROUND('Форма по МДС 81-35.2004'!F442*'Текущие цены за единицу'!AE27,0)","v":0}]
[{"$f":"'Форма по МДС 81-35.2004'!A472","v":"23."},{"$f":"'Форма по МДС 81-35.2004'!H472","v":133},{"$f":"ROUND(SUMIF('Форма по МДС 81-35.2004'!J472:J498,\"Г\",'Форма по МДС 81-35.2004'!H472:H498),0)","v":51},{"$f":"ROUND(SUMIF('Форма по МДС 81-35.2004'!J472:J498,\"IsMash\",'Форма по МДС 81-35.2004'!H472:H498),0)","v":76},{"$f":"'Форма по МДС 81-35.2004'!H473","v":19},{"$f":"ROUND(SUMIF('Форма по МДС 81-35.2004'!J472:J498,\"IsMater\",'Форма по МДС 81-35.2004'!H472:H498),0)","v":6},{"$f":"ROUND('Форма по МДС 81-35.2004'!F472*'Текущие цены за единицу'!G28,0)","v":0},{"$f":"ROUND('Форма по МДС 81-35.2004'!F472*'Текущие цены за единицу'!H28,0)","v":0},{"$f":"ОКРУГЛВСЕ(SUMIF('Форма по МДС 81-35.2004'!J472:J498,\"Г\",'Форма по МДС 81-35.2004'!F472:F498),8)","v":0.45350000000000001},{"$f":"ОКРУГЛВСЕ('Форма по МДС 81-35.2004'!F472*'Текущие цены за единицу'!J28,8)","v":0},{"$f":"ОКРУГЛВСЕ(SUMIF('Форма по МДС 81-35.2004'!J472:J498,\"Ж\",'Форма по МДС 81-35.2004'!F472:F498),8)","v":0.12959999999999999},{"$f":"ROUND('Форма по МДС 81-35.2004'!F472*'Текущие цены за единицу'!L28,0)","v":0},{"$f":"ROUND('Форма по МДС 81-35.2004'!F472*'Текущие цены за единицу'!M28,0)","v":0},{"$f":"ROUND(B28*'Форма по МДС 81-35.2004'!G493/100,0)","v":16},{"$f":"ROUND((B28+N28)*'Форма по МДС 81-35.2004'!G496/100,0)","v":12},{"$f":"ROUND('Форма по МДС 81-35.2004'!F472*'Текущие цены за единицу'!P28,0)","v":0},{"$f":"ROUND('Форма по МДС 81-35.2004'!F472*'Текущие цены за единицу'!Q28,0)","v":0},{"$f":"ROUND('Форма по МДС 81-35.2004'!F472*'Текущие цены за единицу'!R28,0)","v":0},{"$f":"ROUND('Форма по МДС 81-35.2004'!F472*'Текущие цены за единицу'!S28,0)","v":0},{"$f":"ROUND('Форма по МДС 81-35.2004'!F472*'Текущие цены за единицу'!T28,0)","v":0},{"$f":"ROUND('Форма по МДС 81-35.2004'!F472*'Текущие цены за единицу'!U28,0)","v":0},{"$f":"ROUND('Форма по МДС 81-35.2004'!F472*'Текущие цены за единицу'!V28,0)","v":0},null,{"$f":"ROUND('Форма по МДС 81-35.2004'!F472*'Текущие цены за единицу'!X28,0)","v":0},{"$f":"IF(Определители!I28=\"9\",ROUND(B28*(Начисления!M28/100)*'Форма по МДС 81-35.2004'!G493/100,0),0)","v":0},{"$f":"IF(Определители!I28=\"9\",ROUND(B28*(100-Начисления!M28/100)*'Форма по МДС 81-35.2004'!G493/100,0),0)","v":0},{"$f":"IF(Определители!I28=\"9\",ROUND((C28+E28)*(Начисления!M28/100)*('Форма по МДС 81-35.2004'!G496/100),0),0)","v":0},{"$f":"IF(Определители!I28=\"9\",ROUND((C28+E28)*(100-Начисления!M28/100)*('Форма по МДС 81-35.2004'!G496/100),0),0)","v":0},{"$f":"IF(Определители!I28=\"9\",ROUND(B28*Начисления!M28/100,0),0)","v":0},{"$f":"IF(Определители!I28=\"9\",ROUND(B28*(100-Начисления!M28)/100,0),0)","v":0},{"$f":"ROUND('Форма по МДС 81-35.2004'!F472*'Текущие цены за единицу'!AE28,0)","v":0}]
[{"$f":"'Форма по МДС 81-35.2004'!A499","v":"24."},{"$f":"'Форма по МДС 81-35.2004'!H499","v":122},{"$f":"ROUND(SUMIF('Форма по МДС 81-35.2004'!J499:J524,\"Г\",'Форма по МДС 81-35.2004'!H499:H524),0)","v":41},{"$f":"ROUND(SUMIF('Форма по МДС 81-35.2004'!J499:J524,\"IsMash\",'Форма по МДС 81-35.2004'!H499:H524),0)","v":81},{"$f":"'Форма по МДС 81-35.2004'!H500","v":21},{"$f":"ROUND(SUMIF('Форма по МДС 81-35.2004'!J499:J524,\"IsMater\",'Форма по МДС 81-35.2004'!H499:H524),0)","v":0},{"$f":"ROUND('Форма по МДС 81-35.2004'!F499*'Текущие цены за единицу'!G29,0)","v":0},{"$f":"ROUND('Форма по МДС 81-35.2004'!F499*'Текущие цены за единицу'!H29,0)","v":0},{"$f":"ОКРУГЛВСЕ(SUMIF('Форма по МДС 81-35.2004'!J499:J524,\"Г\",'Форма по МДС 81-35.2004'!F499:F524),8)","v":0.37840000000000001},{"$f":"ОКРУГЛВСЕ('Форма по МДС 81-35.2004'!F499*'Текущие цены за единицу'!J29,8)","v":0},{"$f":"ОКРУГЛВСЕ(SUMIF('Форма по МДС 81-35.2004'!J499:J524,\"Ж\",'Форма по МДС 81-35.2004'!F499:F524),8)","v":0.1419},{"$f":"ROUND('Форма по МДС 81-35.2004'!F499*'Текущие цены за единицу'!L29,0)","v":0},{"$f":"ROUND('Форма по МДС 81-35.2004'!F499*'Текущие цены за единицу'!M29,0)","v":0},{"$f":"ROUND(B29*'Форма по МДС 81-35.2004'!G519/100,0)","v":14},{"$f":"ROUND((B29+N29)*'Форма по МДС 81-35.2004'!G522/100,0)","v":11},{"$f":"ROUND('Форма по МДС 81-35.2004'!F499*'Текущие цены за единицу'!P29,0)","v":0},{"$f":"ROUND('Форма по МДС 81-35.2004'!F499*'Текущие цены за единицу'!Q29,0)","v":0},{"$f":"ROUND('Форма по МДС 81-35.2004'!F499*'Текущие цены за единицу'!R29,0)","v":0},{"$f":"ROUND('Форма по МДС 81-35.2004'!F499*'Текущие цены за единицу'!S29,0)","v":0},{"$f":"ROUND('Форма по МДС 81-35.2004'!F499*'Текущие цены за единицу'!T29,0)","v":0},{"$f":"ROUND('Форма по МДС 81-35.2004'!F499*'Текущие цены за единицу'!U29,0)","v":0},{"$f":"ROUND('Форма по МДС 81-35.2004'!F499*'Текущие цены за единицу'!V29,0)","v":0},null,{"$f":"ROUND('Форма по МДС 81-35.2004'!F499*'Текущие цены за единицу'!X29,0)","v":0},{"$f":"IF(Определители!I29=\"9\",ROUND(B29*(Начисления!M29/100)*'Форма по МДС 81-35.2004'!G519/100,0),0)","v":0},{"$f":"IF(Определители!I29=\"9\",ROUND(B29*(100-Начисления!M29/100)*'Форма по МДС 81-35.2004'!G519/100,0),0)","v":0},{"$f":"IF(Определители!I29=\"9\",ROUND((C29+E29)*(Начисления!M29/100)*('Форма по МДС 81-35.2004'!G522/100),0),0)","v":0},{"$f":"IF(Определители!I29=\"9\",ROUND((C29+E29)*(100-Начисления!M29/100)*('Форма по МДС 81-35.2004'!G522/100),0),0)","v":0},{"$f":"IF(Определители!I29=\"9\",ROUND(B29*Начисления!M29/100,0),0)","v":0},{"$f":"IF(Определители!I29=\"9\",ROUND(B29*(100-Начисления!M29)/100,0),0)","v":0},{"$f":"ROUND('Форма по МДС 81-35.2004'!F499*'Текущие цены за единицу'!AE29,0)","v":0}]
[{"$f":"'Форма по МДС 81-35.2004'!A525","v":"25."},{"$f":"'Форма по МДС 81-35.2004'!H525","v":498},{"$f":"ROUND(SUMIF('Форма по МДС 81-35.2004'!J525:J543,\"Г\",'Форма по МДС 81-35.2004'!H525:H543),0)","v":0},{"$f":"ROUND(SUMIF('Форма по МДС 81-35.2004'!J525:J543,\"IsMash\",'Форма по МДС 81-35.2004'!H525:H543),0)","v":0},{"$f":"'Форма по МДС 81-35.2004'!H527","v":0},{"$f":"ROUND(SUMIF('Форма по МДС 81-35.2004'!J525:J543,\"IsMater\",'Форма по МДС 81-35.2004'!H525:H543),0)","v":498},{"$f":"ROUND('Форма по МДС 81-35.2004'!F525*'Текущие цены за единицу'!G30,0)","v":0},{"$f":"ROUND('Форма по МДС 81-35.2004'!F525*'Текущие цены за единицу'!H30,0)","v":0},{"$f":"ОКРУГЛВСЕ(SUMIF('Форма по МДС 81-35.2004'!J525:J543,\"Г\",'Форма по МДС 81-35.2004'!F525:F543),8)","v":0},{"$f":"ОКРУГЛВСЕ('Форма по МДС 81-35.2004'!F525*'Текущие цены за единицу'!J30,8)","v":0},{"$f":"ОКРУГЛВСЕ(SUMIF('Форма по МДС 81-35.2004'!J525:J543,\"Ж\",'Форма по МДС 81-35.2004'!F525:F543),8)","v":0},{"$f":"ROUND('Форма по МДС 81-35.2004'!F525*'Текущие цены за единицу'!L30,0)","v":0},{"$f":"ROUND('Форма по МДС 81-35.2004'!F525*'Текущие цены за единицу'!M30,0)","v":0},{"$f":"ROUND(B30*'Форма по МДС 81-35.2004'!G538/100,0)","v":58},{"$f":"ROUND((B30+N30)*'Форма по МДС 81-35.2004'!G541/100,0)","v":44},{"$f":"ROUND('Форма по МДС 81-35.2004'!F525*'Текущие цены за единицу'!P30,0)","v":0},{"$f":"ROUND('Форма по МДС 81-35.2004'!F525*'Текущие цены за единицу'!Q30,0)","v":0},{"$f":"ROUND('Форма по МДС 81-35.2004'!F525*'Текущие цены за единицу'!R30,0)","v":0},{"$f":"ROUND('Форма по МДС 81-35.2004'!F525*'Текущие цены за единицу'!S30,0)","v":0},{"$f":"ROUND('Форма по МДС 81-35.2004'!F525*'Текущие цены за единицу'!T30,0)","v":0},{"$f":"ROUND('Форма по МДС 81-35.2004'!F525*'Текущие цены за единицу'!U30,0)","v":0},{"$f":"ROUND('Форма по МДС 81-35.2004'!F525*'Текущие цены за единицу'!V30,0)","v":0},null,{"$f":"ROUND('Форма по МДС 81-35.2004'!F525*'Текущие цены за единицу'!X30,0)","v":0},{"$f":"IF(Определители!I30=\"9\",ROUND(B30*(Начисления!M30/100)*'Форма по МДС 81-35.2004'!G538/100,0),0)","v":0},{"$f":"IF(Определители!I30=\"9\",ROUND(B30*(100-Начисления!M30/100)*'Форма по МДС 81-35.2004'!G538/100,0),0)","v":0},{"$f":"IF(Определители!I30=\"9\",ROUND((C30+E30)*(Начисления!M30/100)*('Форма по МДС 81-35.2004'!G541/100),0),0)","v":0},{"$f":"IF(Определители!I30=\"9\",ROUND((C30+E30)*(100-Начисления!M30/100)*('Форма по МДС 81-35.2004'!G541/100),0),0)","v":0},{"$f":"IF(Определители!I30=\"9\",ROUND(B30*Начисления!M30/100,0),0)","v":0},{"$f":"IF(Определители!I30=\"9\",ROUND(B30*(100-Начисления!M30)/100,0),0)","v":0},{"$f":"ROUND('Форма по МДС 81-35.2004'!F525*'Текущие цены за единицу'!AE30,0)","v":0}]
[{"$f":"'Форма по МДС 81-35.2004'!A545","v":"26."},{"$f":"'Форма по МДС 81-35.2004'!H545","v":229},{"$f":"ROUND(SUMIF('Форма по МДС 81-35.2004'!J545:J564,\"Г\",'Форма по МДС 81-35.2004'!H545:H564),0)","v":120},{"$f":"ROUND(SUMIF('Форма по МДС 81-35.2004'!J545:J564,\"IsMash\",'Форма по МДС 81-35.2004'!H545:H564),0)","v":110},{"$f":"'Форма по МДС 81-35.2004'!H546","v":30},{"$f":"ROUND(SUMIF('Форма по МДС 81-35.2004'!J545:J564,\"IsMater\",'Форма по МДС 81-35.2004'!H545:H564),0)","v":0},{"$f":"ROUND('Форма по МДС 81-35.2004'!F545*'Текущие цены за единицу'!G31,0)","v":0},{"$f":"ROUND('Форма по МДС 81-35.2004'!F545*'Текущие цены за единицу'!H31,0)","v":0},{"$f":"ОКРУГЛВСЕ(SUMIF('Форма по МДС 81-35.2004'!J545:J564,\"Г\",'Форма по МДС 81-35.2004'!F545:F564),8)","v":1.1901600000000001},{"$f":"ОКРУГЛВСЕ('Форма по МДС 81-35.2004'!F545*'Текущие цены за единицу'!J31,8)","v":0},{"$f":"ОКРУГЛВСЕ(SUMIF('Форма по МДС 81-35.2004'!J545:J564,\"Ж\",'Форма по МДС 81-35.2004'!F545:F564),8)","v":0.19836000000000001},{"$f":"ROUND('Форма по МДС 81-35.2004'!F545*'Текущие цены за единицу'!L31,0)","v":0},{"$f":"ROUND('Форма по МДС 81-35.2004'!F545*'Текущие цены за единицу'!M31,0)","v":0},{"$f":"ROUND(B31*'Форма по МДС 81-35.2004'!G559/100,0)","v":27},{"$f":"ROUND((B31+N31)*'Форма по МДС 81-35.2004'!G562/100,0)","v":20},{"$f":"ROUND('Форма по МДС 81-35.2004'!F545*'Текущие цены за единицу'!P31,0)","v":0},{"$f":"ROUND('Форма по МДС 81-35.2004'!F545*'Текущие цены за единицу'!Q31,0)","v":0},{"$f":"ROUND('Форма по МДС 81-35.2004'!F545*'Текущие цены за единицу'!R31,0)","v":0},{"$f":"ROUND('Форма по МДС 81-35.2004'!F545*'Текущие цены за единицу'!S31,0)","v":0},{"$f":"ROUND('Форма по МДС 81-35.2004'!F545*'Текущие цены за единицу'!T31,0)","v":0},{"$f":"ROUND('Форма по МДС 81-35.2004'!F545*'Текущие цены за единицу'!U31,0)","v":0},{"$f":"ROUND('Форма по МДС 81-35.2004'!F545*'Текущие цены за единицу'!V31,0)","v":0},null,{"$f":"ROUND('Форма по МДС 81-35.2004'!F545*'Текущие цены за единицу'!X31,0)","v":0},{"$f":"IF(Определители!I31=\"9\",ROUND(B31*(Начисления!M31/100)*'Форма по МДС 81-35.2004'!G559/100,0),0)","v":0},{"$f":"IF(Определители!I31=\"9\",ROUND(B31*(100-Начисления!M31/100)*'Форма по МДС 81-35.2004'!G559/100,0),0)","v":0},{"$f":"IF(Определители!I31=\"9\",ROUND((C31+E31)*(Начисления!M31/100)*('Форма по МДС 81-35.2004'!G562/100),0),0)","v":0},{"$f":"IF(Определители!I31=\"9\",ROUND((C31+E31)*(100-Начисления!M31/100)*('Форма по МДС 81-35.2004'!G562/100),0),0)","v":0},{"$f":"IF(Определители!I31=\"9\",ROUND(B31*Начисления!M31/100,0),0)","v":0},{"$f":"IF(Определители!I31=\"9\",ROUND(B31*(100-Начисления!M31)/100,0),0)","v":0},{"$f":"ROUND('Форма по МДС 81-35.2004'!F545*'Текущие цены за единицу'!AE31,0)","v":0}]
[{"$f":"'Форма по МДС 81-35.2004'!A566","v":"27."},{"$f":"'Форма по МДС 81-35.2004'!H566","v":213},{"$f":"ROUND(SUMIF('Форма по МДС 81-35.2004'!J566:J584,\"Г\",'Форма по МДС 81-35.2004'!H566:H584),0)","v":0},{"$f":"ROUND(SUMIF('Форма по МДС 81-35.2004'!J566:J584,\"IsMash\",'Форма по МДС 81-35.2004'!H566:H584),0)","v":213},{"$f":"'Форма по МДС 81-35.2004'!H567","v":79},{"$f":"ROUND(SUMIF('Форма по МДС 81-35.2004'!J566:J584,\"IsMater\",'Форма по МДС 81-35.2004'!H566:H584),0)","v":0},{"$f":"ROUND('Форма по МДС 81-35.2004'!F566*'Текущие цены за единицу'!G32,0)","v":0},{"$f":"ROUND('Форма по МДС 81-35.2004'!F566*'Текущие цены за единицу'!H32,0)","v":0},{"$f":"ОКРУГЛВСЕ(SUMIF('Форма по МДС 81-35.2004'!J566:J584,\"Г\",'Форма по МДС 81-35.2004'!F566:F584),8)","v":0},{"$f":"ОКРУГЛВСЕ('Форма по МДС 81-35.2004'!F566*'Текущие цены за единицу'!J32,8)","v":0},{"$f":"ОКРУГЛВСЕ(SUMIF('Форма по МДС 81-35.2004'!J566:J584,\"Ж\",'Форма по МДС 81-35.2004'!F566:F584),8)","v":0.55049999999999999},{"$f":"ROUND('Форма по МДС 81-35.2004'!F566*'Текущие цены за единицу'!L32,0)","v":0},{"$f":"ROUND('Форма по МДС 81-35.2004'!F566*'Текущие цены за единицу'!M32,0)","v":0},{"$f":"ROUND(B32*'Форма по МДС 81-35.2004'!G579/100,0)","v":25},{"$f":"ROUND((B32+N32)*'Форма по МДС 81-35.2004'!G582/100,0)","v":19},{"$f":"ROUND('Форма по МДС 81-35.2004'!F566*'Текущие цены за единицу'!P32,0)","v":0},{"$f":"ROUND('Форма по МДС 81-35.2004'!F566*'Текущие цены за единицу'!Q32,0)","v":0},{"$f":"ROUND('Форма по МДС 81-35.2004'!F566*'Текущие цены за единицу'!R32,0)","v":0},{"$f":"ROUND('Форма по МДС 81-35.2004'!F566*'Текущие цены за единицу'!S32,0)","v":0},{"$f":"ROUND('Форма по МДС 81-35.2004'!F566*'Текущие цены за единицу'!T32,0)","v":0},{"$f":"ROUND('Форма по МДС 81-35.2004'!F566*'Текущие цены за единицу'!U32,0)","v":0},{"$f":"ROUND('Форма по МДС 81-35.2004'!F566*'Текущие цены за единицу'!V32,0)","v":0},null,{"$f":"ROUND('Форма по МДС 81-35.2004'!F566*'Текущие цены за единицу'!X32,0)","v":0},{"$f":"IF(Определители!I32=\"9\",ROUND(B32*(Начисления!M32/100)*'Форма по МДС 81-35.2004'!G579/100,0),0)","v":0},{"$f":"IF(Определители!I32=\"9\",ROUND(B32*(100-Начисления!M32/100)*'Форма по МДС 81-35.2004'!G579/100,0),0)","v":0},{"$f":"IF(Определители!I32=\"9\",ROUND((C32+E32)*(Начисления!M32/100)*('Форма по МДС 81-35.2004'!G582/100),0),0)","v":0},{"$f":"IF(Определители!I32=\"9\",ROUND((C32+E32)*(100-Начисления!M32/100)*('Форма по МДС 81-35.2004'!G582/100),0),0)","v":0},{"$f":"IF(Определители!I32=\"9\",ROUND(B32*Начисления!M32/100,0),0)","v":0},{"$f":"IF(Определители!I32=\"9\",ROUND(B32*(100-Начисления!M32)/100,0),0)","v":0},{"$f":"ROUND('Форма по МДС 81-35.2004'!F566*'Текущие цены за единицу'!AE32,0)","v":0}]

{"sheet":"Начисления","index":6,"n_rows":32,"n_cols":50,"rows_kept":32,"cut":false,"hidden":false,"merged":[[1,0,1,7],[2,1,2,7],[3,1,3,7],[4,0,4,7]]}
[null,"Н1","Н2","Н3","Н4","Н5","Н6","Н7","Н8","Н9","Н10","Н11","Н12","Н13","Н14","Н15","Н16","Н17","Н18","Н19","Н20","Н21","Н22","Н23","Н24","Н25","Н26","Н27","Н28","Н29","Н30","Н31","Н32","Н33","Н34","Н35","Н36","Н37","Н38","Н39","Н40","Н41","Н42","Н43","Н44","Н45","Н46","Н47","Н48","Н49"]
[]
[null,"N = < ГЭСНс * 2015_s * 15_15_зр >"]
[null,"          Автомобильные дороги регионального или межмуниципального значения с автобусным движением с допустимым уровнем содержания  - норматив \"Авт\" (ЗИМНИЕ РАБОТЫ)"]
[]
[{"$f":"'Форма по МДС 81-35.2004'!A16","v":"1."},1,1,1,1,1,1,1,1,1,0,0,100,0,0,1,1,0,0,1,0,0,0,0,0,0,0,0,0,0,0,0,1.7,1.6,1.29,9.1999999999999998E-2,0.18,1,1,0.2,1.5,1,1,1,1,1,100,1,1,1]
[{"$f":"'Форма по МДС 81-35.2004'!A35","v":"2."},1,1,1,1,1,1,1,1,1,0,0,100,0,0,1,1,0,0,1,0,0,0,0,0,0,0,0,0,0,0,0,1.7,1.6,1.29,9.1999999999999998E-2,0.18,1,1,0.2,1.5,1,1,1,1,1,100,1,1,1]
[{"$f":"'Форма по МДС 81-35.2004'!A54","v":"3."},1,1,1,1,1,1,1,1,1,0,0,100,0,0,1,1,0,0,1,0,0,0,0,0,0,0,0,0,0,0,0,1.7,1.6,1.29,9.1999999999999998E-2,0.18,1,1,0.2,1.5,1,1,1,1,1,100,1,1,1]
[{"$f":"'Форма по МДС 81-35.2004'!A74","v":"4."},1,1,1,1,1,1,1,1,1,0,0,100,0,0,1,1,0,0,1,0,0,0,0,0,0,0,0,0,0,0,0,1.7,1.6,1.29,9.1999999999999998E-2,0.18,1,1,0.2,1.5,1,1,1,1,1,100,1,1,1]
[{"$f":"'Форма по МДС 81-35.2004'!A94","v":"5."},1,1,1,1,1,1,1,1,1,0,0,100,0,0,1,1,0,0,1,0,0,0,0,0,0,0,0,0,0,0,0,1.7,1.6,1.29,9.1999999999999998E-2,0.18,1,1,0.2,1.5,1,1,1,1,1,100,1,1,1]
[{"$f":"'Форма по МДС 81-35.2004'!A113","v":"6."},1,1,1,1,1,1,1,1,1,0,0,100,0,0,1,1,0,0,1,0,0,0,0,0,0,0,0,0,0,0,0,1.7,1.6,1.29,9.1999999999999998E-2,0.18,1,1,0.2,1.5,1,1,1,1,1,100,1,1,1]
[{"$f":"'Форма по МДС 81-35.2004'!A135","v":"7."},1,1,1,1,1,1,1,1,1,0,0,100,0,0,1,1,0,0,1,0,0,0,0,0,0,0,0,0,0,0,0,1.7,1.6,1.29,9.1999999999999998E-2,0.18,1,1,0.2,1.5,1,1,1,1,1,100,1,1,1]
[{"$f":"'Форма по МДС 81-35.2004'!A154","v":"8."},1,1,1,1,1,1,1,1,1,0,0,100,0,0,1,1,0,0,1,0,0,0,0,0,0,0,0,0,0,0,0,1.7,1.6,1.29,9.1999999999999998E-2,0.18,1,1,0.2,1.5,1,1,1,1,1,100,1,1,1]
[{"$f":"'Форма по МДС 81-35.2004'!A175","v":"9."},1,1,1,1,1,1,1,1,1,0,0,100,0,0,1,1,0,0,1,0,0,0,0,0,0,0,0,0,0,0,0,1.7,1.6,1.29,9.1999999999999998E-2,0.18,1,1,0.2,1.5,1,1,1,1,1,100,1,1,1]
[{"$f":"'Форма по МДС 81-35.2004'!A194","v":"10."},1,1,1,1,1,1,1,1,1,0,0,100,0,0,1,1,0,0,1,0,0,0,0,0,0,0,0,0,0,0,0,1.7,1.6,1.29,9.1999999999999998E-2,0.18,1,1,0.2,1.5,1,1,1,1,1,100,1,1,1]
[{"$f":"'Форма по МДС 81-35.2004'!A213","v":"11."},1,1,1,1,1,1,1,1,1,0,0,100,0,0,1,1,0,0,1,0,0,0,0,0,0,0,0,0,0,0,0,1.7,1.6,1.29,9.1999999999999998E-2,0.18,1,1,0.2,1.5,1,1,1,1,1,100,1,1,1]
[{"$f":"'Форма по МДС 81-35.2004'!A238","v":"12."},1,1,1,1,1,1,1,1,1,0,0,100,0,0,1,1,0,0,1,0,0,0,0,0,0,0,0,0,0,0,0,1.7,1.6,1.29,9.1999999999999998E-2,0.18,1,1,0.2,1.5,1,1,1,1,1,100,1,1,1]
[{"$f":"'Форма по МДС 81-35.2004'!A258","v":"13."},1,1,1,1,1,1,1,1,1,0,0,100,0,0,1,1,0,0,1,0,0,0,0,0,0,0,0,0,0,0,0,1.7,1.6,1.29,9.1999999999999998E-2,0.18,1,1,0.2,1.5,1,1,1,1,1,100,1,1,1]
[{"$f":"'Форма по МДС 81-35.2004'!A277","v":"14."},1,1,1,1,1,1,1,1,1,0,0,100,0,0,1,1,0,0,1,0,0,0,0,0,0,0,0,0,0,0,0,1.7,1.6,1.29,9.1999999999999998E-2,0.18,1,1,0.2,1.5,1,1,1,1,1,100,1,1,1]
[{"$f":"'Форма по МДС 81-35.2004'!A299","v":"15."},1,1,1,1,1,1,1,1,1,0,0,100,0,0,1,1,0,0,1,0,0,0,0,0,0,0,0,0,0,0,0,1.7,1.6,1.29,9.1999999999999998E-2,0.18,1,1,0.2,1.5,1,1,1,1,1,100,1,1,1]
[{"$f":"'Форма по МДС 81-35.2004'!A319","v":"16."},1,1,1,1,1,1,1,1,1,0,0,100,0,0,1,1,0,0,1,0,0,0,0,0,0,0,0,0,0,0,0,1.7,1.6,1.29,9.1999999999999998E-2,0.18,1,1,0.2,1.5,1,1,1,1,1,100,1,1,1]
[{"$f":"'Форма по МДС 81-35.2004'!A340","v":"17."},1,1,1,1,1,1,1,1,1,0,0,100,0,0,1,1,0,0,1,0,0,0,0,0,0,0,0,0,0,0,0,1.7,1.6,1.29,9.1999999999999998E-2,0.18,1,1,0.2,1.5,1,1,1,1,1,100,1,1,1]
[{"$f":"'Форма по МДС 81-35.2004'!A360","v":"18."},1,1,1,1,1,1,1,1,1,0,0,100,0,0,1,1,0,0,1,0,0,0,0,0,0,0,0,0,0,0,0,1.7,1.6,1.29,9.1999999999999998E-2,0.18,1,1,0.2,1.5,1,1,1,1,1,100,1,1,1]
[{"$f":"'Форма по МДС 81-35.2004'!A380","v":"19."},1,1,1,1,1,1,1,1,1,0,0,100,0,0,1,1,0,0,1,0,0,0,0,0,0,0,0,0,0,0,0,1.7,1.6,1.29,9.1999999999999998E-2,0.18,1,1,0.2,1.5,1,1,1,1,1,100,1,1,1]
[{"$f":"'Форма по МДС 81-35.2004'!A402","v":"20."},1,1,1,1,1,1,1,1,1,0,0,100,0,0,1,1,0,0,1,0,0,0,0,0,0,0,0,0,0,0,0,1.7,1.6,1.29,9.1999999999999998E-2,0.18,1,1,0.2,1.5,1,1,1,1,1,100,1,1,1]
[{"$f":"'Форма по МДС 81-35.2004'!A422","v":"21."},1,1,1,1,1,1,1,1,1,0,0,100,0,0,1,1,0,0,1,0,0,0,0,0,0,0,0,0,0,0,0,1.7,1.6,1.29,9.1999999999999998E-2,0.18,1,1,0.2,1.5,1,1,1,1,1,100,1,1,1]
[{"$f":"'Форма по МДС 81-35.2004'!A442","v":"22."},1,1,1,1,1,1,1,1,1,0,0,100,0,0,1,1,0,0,1,0,0,0,0,0,0,0,0,0,0,0,0,1.7,1.6,1.29,9.1999999999999998E-2,0.18,1,1,0.2,1.5,1,1,1,1,1,100,1,1,1]
[{"$f":"'Форма по МДС 81-35.2004'!A472","v":"23."},1,1,1,1,1,1,1,1,1,0,0,100,0,0,1,1,0,0,1,0,0,0,0,0,0,0,0,0,0,0,0,1.7,1.6,1.29,9.1999999999999998E-2,0.18,1,1,0.2,1.5,1,1,1,1,1,100,1,1,1]
[{"$f":"'Форма по МДС 81-35.2004'!A499","v":"24."},1,1,1,1,1,1,1,1,1,0,0,100,0,0,1,1,0,0,1,0,0,0,0,0,0,0,0,0,0,0,0,1.7,1.6,1.29,9.1999999999999998E-2,0.18,1,1,0.2,1.5,1,1,1,1,1,100,1,1,1]
[{"$f":"'Форма по МДС 81-35.2004'!A525","v":"25."},1,1,1,1,1,1,1,1,1,0,0,100,0,0,1,1,0,0,1,0,0,0,0,0,0,0,0,0,0,0,0,1.7,1.6,1.29,9.1999999999999998E-2,0.18,1,1,0.2,1.5,1,1,1,1,1,100,1,1,1]
[{"$f":"'Форма по МДС 81-35.2004'!A545","v":"26."},1,1,1,1,1,1,1,1,1,0,0,100,0,0,1,1,0,0,1,0,0,0,0,0,0,0,0,0,0,0,0,1.7,1.6,1.29,9.1999999999999998E-2,0.18,1,1,0.2,1.5,1,1,1,1,1,100,1,1,1]
[{"$f":"'Форма по МДС 81-35.2004'!A566","v":"27."},1,1,1,1,1,1,1,1,1,0,0,100,0,0,1,1,0,0,1,0,0,0,0,0,0,0,0,0,0,0,0,1.7,1.6,1.29,9.1999999999999998E-2,0.18,1,1,0.2,1.5,1,1,1,1,1,100,1,1,1]

{"sheet":"Определители","index":7,"n_rows":32,"n_cols":10,"rows_kept":32,"cut":false,"hidden":false,"merged":[[1,0,1,7],[2,1,2,7],[3,1,3,7],[4,0,4,7]]}
[null,"О0","О1","О2","О3","О4","О5","О6","О7","О8"]
[]
[null,"N = < ГЭСНс * 2015_s * 15_15_зр >"]
[null,"          Автомобильные дороги регионального или межмуниципального значения с автобусным движением с допустимым уровнем содержания  - норматив \"Авт\" (ЗИМНИЕ РАБОТЫ)"]
[]
[{"$f":"'Форма по МДС 81-35.2004'!A16","v":"1."},"1","1"," "," ","0"," "," ","2"," "]
[{"$f":"'Форма по МДС 81-35.2004'!A35","v":"2."},"1","1"," "," ","0"," "," ","2"," "]
[{"$f":"'Форма по МДС 81-35.2004'!A54","v":"3."},"1","1"," "," ","0"," "," ","2"," "]
[{"$f":"'Форма по МДС 81-35.2004'!A74","v":"4."},"1","1"," "," ","0"," "," ","2"," "]
[{"$f":"'Форма по МДС 81-35.2004'!A94","v":"5."},"1","1"," "," ","0"," "," ","2"," "]
[{"$f":"'Форма по МДС 81-35.2004'!A113","v":"6."},"1","1"," "," ","0"," "," ","2"," "]
[{"$f":"'Форма по МДС 81-35.2004'!A135","v":"7."},"1","1"," "," ","0"," "," ","2"," "]
[{"$f":"'Форма по МДС 81-35.2004'!A154","v":"8."},"1","1"," "," ","0"," "," ","2"," "]
[{"$f":"'Форма по МДС 81-35.2004'!A175","v":"9."},"1","1"," "," ","0"," "," ","2"," "]
[{"$f":"'Форма по МДС 81-35.2004'!A194","v":"10."},"1","1"," "," ","0"," "," ","2"," "]
[{"$f":"'Форма по МДС 81-35.2004'!A213","v":"11."},"1","1"," "," ","0"," "," ","2"," "]
[{"$f":"'Форма по МДС 81-35.2004'!A238","v":"12."},"1","1"," "," ","0"," "," ","2"," "]
[{"$f":"'Форма по МДС 81-35.2004'!A258","v":"13."},"1","1"," "," ","0"," "," ","2"," "]
[{"$f":"'Форма по МДС 81-35.2004'!A277","v":"14."},"1","1"," "," ","0"," "," ","2"," "]
[{"$f":"'Форма по МДС 81-35.2004'!A299","v":"15."},"1","1"," "," ","0"," "," ","2"," "]
[{"$f":"'Форма по МДС 81-35.2004'!A319","v":"16."},"1","1"," "," ","0"," "," ","2"," "]
[{"$f":"'Форма по МДС 81-35.2004'!A340","v":"17."},"1","1"," "," ","0"," "," ","2"," "]
[{"$f":"'Форма по МДС 81-35.2004'!A360","v":"18."},"1","1"," "," ","0"," "," ","2"," "]
[{"$f":"'Форма по МДС 81-35.2004'!A380","v":"19."},"1","1"," "," ","0"," "," ","2"," "]
[{"$f":"'Форма по МДС 81-35.2004'!A402","v":"20."},"1","1"," "," ","0"," "," ","2"," "]
[{"$f":"'Форма по МДС 81-35.2004'!A422","v":"21."},"1","1"," "," ","0"," "," ","2"," "]
[{"$f":"'Форма по МДС 81-35.2004'!A442","v":"22."},"1","1"," "," ","0"," "," ","2"," "]
[{"$f":"'Форма по МДС 81-35.2004'!A472","v":"23."},"1","1"," "," ","0"," "," ","2"," "]
[{"$f":"'Форма по МДС 81-35.2004'!A499","v":"24."},"1","1"," "," ","0"," "," ","2"," "]
[{"$f":"'Форма по МДС 81-35.2004'!A525","v":"25."},"1","1"," "," ","0"," "," ","2"," "]
[{"$f":"'Форма по МДС 81-35.2004'!A545","v":"26."},"1","1"," "," ","0"," "," ","2"," "]
[{"$f":"'Форма по МДС 81-35.2004'!A566","v":"27."},"1","1"," "," ","0"," "," ","2"," "]

{"sheet":"Базовые концовки","index":8,"n_rows":109,"n_cols":14,"rows_kept":109,"cut":false,"hidden":false,"merged":[[1,0,1,7],[2,1,2,7],[3,1,3,7],[4,0,4,7]]}
[]
[]
[null,"N = < ГЭСНс * 2015_s * 15_15_зр >"]
[null,"          Автомобильные дороги регионального или межмуниципального значения с автобусным движением с допустимым уровнем содержания  - норматив \"Авт\" (ЗИМНИЕ РАБОТЫ)"]
[]
[null,"Наименование","Вид","Значение","ЕИ","Z1","Z2","Z3","Z4","Z5","Z6","Z7","Z8"]
[1,".    ИТОГО  ПО  СМЕТЕ","А",0,null,{"$f":"ROUND(SUM('Базовые цены с учетом расхода'!B6:B32),0)","v":6190},{"$f":"ROUND(SUM('Базовые цены с учетом расхода'!C6:C32),0)","v":42},{"$f":"ROUND(SUM('Базовые цены с учетом расхода'!D6:D32),0)","v":6090},{"$f":"ROUND(SUM('Базовые цены с учетом расхода'!E6:E32),0)","v":463},{"$f":"ROUND(SUM('Базовые цены с учетом расхода'!I6:I32),8)","v":5.3492620000000004},{"$f":"ROUND(SUM('Базовые цены с учетом расхода'!K6:K32),8)","v":36.291781999999998},{"$f":"ROUND(SUM('Базовые цены с учетом расхода'!F6:F32),0)","v":60},null,"1"]
[2,"СТОИМОСТЬ ОБОРУДОВАНИЯ -","Б",0,null,{"$f":"ROUND(SUMIF(Определители!I6:I32,\"= \",'Базовые цены с учетом расхода'!B6:B32),0)","v":0},{"$f":"ROUND(SUMIF(Определители!I6:I32,\"= \",'Базовые цены с учетом расхода'!C6:C32),0)","v":0},{"$f":"ROUND(SUMIF(Определители!I6:I32,\"= \",'Базовые цены с учетом расхода'!D6:D32),0)","v":0},{"$f":"ROUND(SUMIF(Определители!I6:I32,\"= \",'Базовые цены с учетом расхода'!E6:E32),0)","v":0},{"$f":"ROUND(SUMIF(Определители!I6:I32,\"= \",'Базовые цены с учетом расхода'!I6:I32),8)","v":0},{"$f":"ROUND(SUMIF(Определители!I6:I32,\"= \",'Базовые цены с учетом расхода'!K6:K32),8)","v":0},{"$f":"ROUND(SUMIF(Определители!I6:I32,\"= \",'Базовые цены с учетом расхода'!F6:F32),0)","v":0},null,"2"]
[3,".   ЗАПАСНЫЕ ЧАСТИ -","Б",0,null,{"$f":"ROUND(СУММПРОИЗВЕСЛИ(0.01,Определители!I6:I32,\" \",'Базовые цены с учетом расхода'!B6:B32,Начисления!X6:X32,0),0)","v":0},null,null,null,null,null,null,null,"3"]
[4,".   ТАРА И УПАКОВКА -","Б",0,null,{"$f":"ROUND(СУММПРОИЗВЕСЛИ(0.01,Определители!I6:I32,\" \",'Базовые цены с учетом расхода'!B6:B32,Начисления!Y6:Y32,0),0)","v":0},null,null,null,null,null,null,null,"4"]
[5,".   ТРАНСПОРТНЫЕ РАСХОДЫ -","Б",0,null,{"$f":"ROUND(ТРАНСПРАСХОД(Определители!B6:B32,Определители!H6:H32,Определители!I6:I32,'Базовые цены с учетом расхода'!B6:B32,Начисления!Z6:Z32,Начисления!AA6:AA32),0)","v":0},null,null,null,null,null,null,null,"5"]
[6,".   КОМПЛЕКТАЦИЯ -","Б",0,null,{"$f":"ROUND(СУММПРОИЗВЕСЛИ(0.01,Определители!I6:I32,\" \",'Базовые цены с учетом расхода'!B6:B32,Начисления!AC6:AC32,0),0)","v":0},null,null,null,null,null,null,null,"6"]
[7,".   НАЦЕНКА СНАБА -","Б",0,null,{"$f":"ROUND(СУММПРОИЗВЕСЛИ(0.01,Определители!I6:I32,\" \",'Базовые цены с учетом расхода'!B6:B32,Начисления!AF6:AF32,0),0)","v":0},null,null,null,null,null,null,null,"7"]
[8,".   ЗАГОТОВИТЕЛЬНО-СКЛАДСКИЕ РАСХОДЫ -","Б",0,null,{"$f":"ROUND(ЗАГОТСКЛАДРАСХОД(Определители!B6:B32,Определители!H6:H32,Определители!I6:I32,'Базовые цены с учетом расхода'!B6:B32,Начисления!X6:X32,Начисления!Y6:Y32,Начисления!Z6:Z32,Начисления!AA6:AA32,Начисления!AB6:AB32,Начисления!AC6:AC32,Начисления!AF6:AF32),0)","v":0},null,null,null,null,null,null,null,"8"]
[9,". ШЕФМОНТАЖ ПО ОБОРУДОВАНИЮ -","Б",0,null,{"$f":"ROUND(СУММПРОИЗВЕСЛИ(1,Определители!I6:I32,\" \",'Базовые цены с учетом расхода'!M6:M32,Начисления!I6:I32,0),0)","v":0},null,null,null,null,null,null,null,"9"]
[10,". ШЕФМОНТАЖ -","!",0,null,{"$f":"ROUND((F15+F26+F46),0)","v":0},null,null,null,null,null,null,null,"10"]
[11,"ВСЕГО, СТОИМОСТЬ ОБОРУДОВАНИЯ -","!",0,null,{"$f":"ROUND((F8+F9+F10+F11+F12+F13+F14+F16),0)","v":0},null,null,null,null,null,null,null,"11"]
[12,"СТОИМОСТЬ МОНТАЖНЫХ РАБОТ -","Б",0,null,{"$f":"ROUND(SUMIF(Определители!I6:I32,\"=1\",'Базовые цены с учетом расхода'!B6:B32),0)","v":0},{"$f":"ROUND(SUMIF(Определители!I6:I32,\"=1\",'Базовые цены с учетом расхода'!C6:C32),0)","v":0},{"$f":"ROUND(SUMIF(Определители!I6:I32,\"=1\",'Базовые цены с учетом расхода'!D6:D32),0)","v":0},{"$f":"ROUND(SUMIF(Определители!I6:I32,\"=1\",'Базовые цены с учетом расхода'!E6:E32),0)","v":0},{"$f":"ROUND(SUMIF(Определители!I6:I32,\"=1\",'Базовые цены с учетом расхода'!I6:I32),8)","v":0},{"$f":"ROUND(SUMIF(Определители!I6:I32,\"=1\",'Базовые цены с учетом расхода'!K6:K32),8)","v":0},{"$f":"ROUND(SUMIF(Определители!I6:I32,\"=1\",'Базовые цены с учетом расхода'!F6:F32),0)","v":0},null,"12"]
[13,".     В ТОМ ЧИСЛЕ:","Б",0,null,null,null,null,null,null,null,null,null,"13"]
[14,". ОТКЛОНЕНИЕ ПО ЗАРАБОТНОЙ ПЛАТЕ -","Б",0,null,null,{"$f":"ROUND(SUMIF(Определители!I6:I32,\"=1\",'Базовые цены с учетом расхода'!U6:U32),0)","v":0},null,null,null,null,null,null,"14"]
[15,". КОСВЕННЫЕ РАСХОДЫ -","Б",0,null,{"$f":"ROUND(SUMIF(Определители!I6:I32,\"=1\",'Базовые цены с учетом расхода'!V6:V32),0)","v":0},null,null,null,null,null,null,null,"15"]
[16,". МАТЕРИАЛЬНЫЕ РЕСУРСЫ НЕ УЧТЕННЫЕ В РАСЦЕНКАХ -","Б",0,null,{"$f":"ROUND(СУММЕСЛИ2(Определители!I6:I32,\"1\",Определители!G6:G32,\"1\",'Базовые цены с учетом расхода'!B6:B32),0)","v":0},null,null,null,null,null,null,null,"16"]
[17,".   СТОИМОСТЬ ВОЗВРАЩАЕМЫХ МАТЕРИАЛОВ -","Б",0,null,{"$f":"ROUND(SUMIF(Определители!I6:I32,\"=1\",'Базовые цены с учетом расхода'!H6:H32),0)","v":0},null,null,null,null,null,null,null,"17"]
[18,".   НАКЛАДНЫЕ РАСХОДЫ -","Б",0,null,{"$f":"ROUND(SUMIF(Определители!I6:I32,\"=1\",'Базовые цены с учетом расхода'!N6:N32),0)","v":0},null,null,null,null,null,null,null,"18"]
[19,".   СМЕТНАЯ ПРИБЫЛЬ -","Б",0,null,{"$f":"ROUND(SUMIF(Определители!I6:I32,\"=1\",'Базовые цены с учетом расхода'!O6:O32),0)","v":0},null,null,null,null,null,null,null,"19"]
[20,". ШЕФМОНТАЖ -","Б",0,null,{"$f":"ROUND(СУММПРОИЗВЕСЛИ(1,Определители!I6:I32,\" \",'Базовые цены с учетом расхода'!M6:M32,Начисления!I6:I32,0),0)","v":0},null,null,null,null,null,null,null,"20"]
[21,"ВСЕГО, СТОИМОСТЬ МОНТАЖНЫХ РАБОТ -","!",0,null,{"$f":"ROUND((F18+F24+F25),0)","v":0},null,null,null,null,null,null,null,"21"]
[22,"СТОИМОСТЬ ОБЩЕСТРОИТЕЛЬНЫХ РАБОТ -","Б",0,null,{"$f":"ROUND(SUMIF(Определители!I6:I32,\"=2\",'Базовые цены с учетом расхода'!B6:B32),0)","v":6190},{"$f":"ROUND(SUMIF(Определители!I6:I32,\"=2\",'Базовые цены с учетом расхода'!C6:C32),0)","v":42},{"$f":"ROUND(SUMIF(Определители!I6:I32,\"=2\",'Базовые цены с учетом расхода'!D6:D32),0)","v":6090},{"$f":"ROUND(SUMIF(Определители!I6:I32,\"=2\",'Базовые цены с учетом расхода'!E6:E32),0)","v":463},{"$f":"ROUND(SUMIF(Определители!I6:I32,\"=2\",'Базовые цены с учетом расхода'!I6:I32),8)","v":5.3492620000000004},{"$f":"ROUND(SUMIF(Определители!I6:I32,\"=2\",'Базовые цены с учетом расхода'!K6:K32),8)","v":36.291781999999998},{"$f":"ROUND(SUMIF(Определители!I6:I32,\"=2\",'Базовые цены с учетом расхода'!F6:F32),0)","v":60},null,"22"]
[23,".     В ТОМ ЧИСЛЕ:","Б",0,null,null,null,null,null,null,null,null,null,"23"]
[24,".       МАТЕРИАЛОВ -","Б",0,null,{"$f":"ROUND(СУММЕСЛИ2(Определители!I6:I32,\"2\",Определители!G6:G32,\"1\",'Базовые цены с учетом расхода'!B6:B32),0)","v":0},null,null,null,null,null,null,null,"24"]
[25,".   СТОИМОСТЬ ВОЗВРАЩАЕМЫХ МАТЕРИАЛОВ -","Б",0,null,{"$f":"ROUND(SUMIF(Определители!I6:I32,\"=2\",'Базовые цены с учетом расхода'!H6:H32),0)","v":0},null,null,null,null,null,null,null,"25"]
[26,".   НАКЛАДНЫЕ РАСХОДЫ -","Б",0,null,{"$f":"ROUND(SUMIF(Определители!I6:I32,\"=2\",'Базовые цены с учетом расхода'!N6:N32),0)","v":723},null,null,null,null,null,null,null,"26"]
[27,".   СМЕТНАЯ ПРИБЫЛЬ -","Б",0,null,{"$f":"ROUND(SUMIF(Определители!I6:I32,\"=2\",'Базовые цены с учетом расхода'!O6:O32),0)","v":552},null,null,null,null,null,null,null,"27"]
[28,"ВСЕГО, СТОИМОСТЬ ОБЩЕСТРОИТЕЛЬНЫХ РАБОТ -","!",0,null,{"$f":"ROUND((F28+F32+F33),0)","v":7465},null,null,null,null,null,null,null,"28"]
[29,"СТОИМОСТЬ МЕТАЛЛОМОНТАЖНЫХ РАБОТ -","Б",0,null,{"$f":"ROUND(SUMIF(Определители!I6:I32,\"=3\",'Базовые цены с учетом расхода'!B6:B32),0)","v":0},{"$f":"ROUND(SUMIF(Определители!I6:I32,\"=3\",'Базовые цены с учетом расхода'!C6:C32),0)","v":0},{"$f":"ROUND(SUMIF(Определители!I6:I32,\"=3\",'Базовые цены с учетом расхода'!D6:D32),0)","v":0},{"$f":"ROUND(SUMIF(Определители!I6:I32,\"=3\",'Базовые цены с учетом расхода'!E6:E32),0)","v":0},{"$f":"ROUND(SUMIF(Определители!I6:I32,\"=3\",'Базовые цены с учетом расхода'!I6:I32),8)","v":0},{"$f":"ROUND(SUMIF(Определители!I6:I32,\"=3\",'Базовые цены с учетом расхода'!K6:K32),8)","v":0},{"$f":"ROUND(SUMIF(Определители!I6:I32,\"=3\",'Базовые цены с учетом расхода'!F6:F32),0)","v":0},null,"29"]
[30,".   СТОИМОСТЬ ВОЗВРАЩАЕМЫХ МАТЕРИАЛОВ -","Б",0,null,{"$f":"ROUND(SUMIF(Определители!I6:I32,\"=3\",'Базовые цены с учетом расхода'!H6:H32),0)","v":0},null,null,null,null,null,null,null,"30"]
[31,".   НАКЛАДНЫЕ РАСХОДЫ -","Б",0,null,{"$f":"ROUND(SUMIF(Определители!I6:I32,\"=3\",'Базовые цены с учетом расхода'!N6:N32),0)","v":0},null,null,null,null,null,null,null,"31"]
[32,".   СМЕТНАЯ ПРИБЫЛЬ -","Б",0,null,{"$f":"ROUND(SUMIF(Определители!I6:I32,\"=3\",'Базовые цены с учетом расхода'!O6:O32),0)","v":0},null,null,null,null,null,null,null,"32"]
[33,"ВСЕГО, СТОИМОСТЬ МЕТАЛЛОМОНТАЖНЫХ РАБОТ -","!",0,null,{"$f":"ROUND((F35+F37+F38),0)","v":0},null,null,null,null,null,null,null,"33"]
[34,"СТОИМОСТЬ САНТЕХНИЧЕСКИХ РАБОТ -","Б",0,null,{"$f":"ROUND(SUMIF(Определители!I6:I32,\"=4\",'Базовые цены с учетом расхода'!B6:B32),0)","v":0},{"$f":"ROUND(SUMIF(Определители!I6:I32,\"=4\",'Базовые цены с учетом расхода'!C6:C32),0)","v":0},{"$f":"ROUND(SUMIF(Определители!I6:I32,\"=4\",'Базовые цены с учетом расхода'!D6:D32),0)","v":0},{"$f":"ROUND(SUMIF(Определители!I6:I32,\"=4\",'Базовые цены с учетом расхода'!E6:E32),0)","v":0},{"$f":"ROUND(SUMIF(Определители!I6:I32,\"=4\",'Базовые цены с учетом расхода'!I6:I32),8)","v":0},{"$f":"ROUND(SUMIF(Определители!I6:I32,\"=4\",'Базовые цены с учетом расхода'!K6:K32),8)","v":0},{"$f":"ROUND(SUMIF(Определители!I6:I32,\"=4\",'Базовые цены с учетом расхода'!F6:F32),0)","v":0},null,"34"]
[35,".     В ТОМ ЧИСЛЕ:","Б",0,null,null,null,null,null,null,null,null,null,"35"]
[36,". СДАЧА И ИСПЫТАНИЕ -","Б",0,null,null,null,null,null,null,null,null,null,"36"]
[37,".   СТОИМОСТЬ ВОЗВРАЩАЕМЫХ МАТЕРИАЛОВ -","Б",0,null,{"$f":"ROUND(SUMIF(Определители!I6:I32,\"=4\",'Базовые цены с учетом расхода'!H6:H32),0)","v":0},null,null,null,null,null,null,null,"37"]
[38,".   НАКЛАДНЫЕ РАСХОДЫ -","Б",0,null,{"$f":"ROUND(SUMIF(Определители!I6:I32,\"=4\",'Базовые цены с учетом расхода'!N6:N32),0)","v":0},null,null,null,null,null,null,null,"38"]
[39,".   СМЕТНАЯ ПРИБЫЛЬ -","Б",0,null,{"$f":"ROUND(SUMIF(Определители!I6:I32,\"=4\",'Базовые цены с учетом расхода'!O6:O32),0)","v":0},null,null,null,null,null,null,null,"39"]
[40,". ШЕФМОНТАЖ -","Б",0,null,{"$f":"ROUND(СУММПРОИЗВЕСЛИ(1,Определители!I6:I32,\" \",'Базовые цены с учетом расхода'!M6:M32,Начисления!I6:I32,0),0)","v":0},null,null,null,null,null,null,null,"40"]
[41,"ВСЕГО, СТОИМОСТЬ САНТЕХНИЧЕСКИХ РАБОТ -","!",0,null,{"$f":"ROUND((F40+F44+F45),0)","v":0},null,null,null,null,null,null,null,"41"]
[42,"СТОИМОСТЬ БУРО-ВЗРЫВНЫХ РАБОТ -","Б",0,null,{"$f":"ROUND(SUMIF(Определители!I6:I32,\"=5\",'Базовые цены с учетом расхода'!B6:B32),0)","v":0},{"$f":"ROUND(SUMIF(Определители!I6:I32,\"=5\",'Базовые цены с учетом расхода'!C6:C32),0)","v":0},{"$f":"ROUND(SUMIF(Определители!I6:I32,\"=5\",'Базовые цены с учетом расхода'!D6:D32),0)","v":0},{"$f":"ROUND(SUMIF(Определители!I6:I32,\"=5\",'Базовые цены с учетом расхода'!E6:E32),0)","v":0},{"$f":"ROUND(SUMIF(Определители!I6:I32,\"=5\",'Базовые цены с учетом расхода'!I6:I32),8)","v":0},{"$f":"ROUND(SUMIF(Определители!I6:I32,\"=5\",'Базовые цены с учетом расхода'!K6:K32),8)","v":0},{"$f":"ROUND(SUMIF(Определители!I6:I32,\"=5\",'Базовые цены с учетом расхода'!F6:F32),0)","v":0},null,"42"]
[43,".   СТОИМОСТЬ ВОЗВРАЩАЕМЫХ МАТЕРИАЛОВ -","Б",0,null,{"$f":"ROUND(SUMIF(Определители!I6:I32,\"=5\",'Базовые цены с учетом расхода'!H6:H32),0)","v":0},null,null,null,null,null,null,null,"43"]
[44,".   НАКЛАДНЫЕ РАСХОДЫ -","Б",0,null,{"$f":"ROUND(SUMIF(Определители!I6:I32,\"=5\",'Базовые цены с учетом расхода'!N6:N32),0)","v":0},null,null,null,null,null,null,null,"44"]
[45,".   СМЕТНАЯ ПРИБЫЛЬ -","Б",0,null,{"$f":"ROUND(SUMIF(Определители!I6:I32,\"=5\",'Базовые цены с учетом расхода'!O6:O32),0)","v":0},null,null,null,null,null,null,null,"45"]
[46,"ВСЕГО, СТОИМОСТЬ БУРО-ВЗРЫВНЫХ РАБОТ -","!",0,null,{"$f":"ROUND((F48+F50+F51),0)","v":0},null,null,null,null,null,null,null,"46"]
[47,"СТОИМОСТЬ ГОРНОПРОХОДЧЕСКИХ РАБОТ -","Б",0,null,{"$f":"ROUND(SUMIF(Определители!I6:I32,\"=6\",'Базовые цены с учетом расхода'!B6:B32),0)","v":0},{"$f":"ROUND(SUMIF(Определители!I6:I32,\"=6\",'Базовые цены с учетом расхода'!C6:C32),0)","v":0},{"$f":"ROUND(SUMIF(Определители!I6:I32,\"=6\",'Базовые цены с учетом расхода'!D6:D32),0)","v":0},{"$f":"ROUND(SUMIF(Определители!I6:I32,\"=6\",'Базовые цены с учетом расхода'!E6:E32),0)","v":0},{"$f":"ROUND(SUMIF(Определители!I6:I32,\"=6\",'Базовые цены с учетом расхода'!I6:I32),8)","v":0},{"$f":"ROUND(SUMIF(Определители!I6:I32,\"=6\",'Базовые цены с учетом расхода'!K6:K32),8)","v":0},{"$f":"ROUND(SUMIF(Определители!I6:I32,\"=6\",'Базовые цены с учетом расхода'!F6:F32),0)","v":0},null,"47"]
[48,".   СТОИМОСТЬ ВОЗВРАЩАЕМЫХ МАТЕРИАЛОВ -","Б",0,null,{"$f":"ROUND(SUMIF(Определители!I6:I32,\"=6\",'Базовые цены с учетом расхода'!H6:H32),0)","v":0},null,null,null,null,null,null,null,"48"]
[49,".   НАКЛАДНЫЕ РАСХОДЫ -","Б",0,null,{"$f":"ROUND(SUMIF(Определители!I6:I32,\"=6\",'Базовые цены с учетом расхода'!N6:N32),0)","v":0},null,null,null,null,null,null,null,"49"]
[50,".   СМЕТНАЯ ПРИБЫЛЬ -","Б",0,null,{"$f":"ROUND(SUMIF(Определители!I6:I32,\"=6\",'Базовые цены с учетом расхода'!O6:O32),0)","v":0},null,null,null,null,null,null,null,"50"]
[51,"ВСЕГО, СТОИМОСТЬ ГОРНОПРОХОДЧЕСКИХ РАБОТ -","!",0,null,{"$f":"ROUND((F53+F55+F56),0)","v":0},null,null,null,null,null,null,null,"51"]
[52,"СТОИМОСТЬ РЕСТАВРАЦИОННЫХ РАБОТ -","Б",0,null,{"$f":"ROUND(SUMIF(Определители!I6:I32,\"=7\",'Базовые цены с учетом расхода'!B6:B32),0)","v":0},{"$f":"ROUND(SUMIF(Определители!I6:I32,\"=7\",'Базовые цены с учетом расхода'!C6:C32),0)","v":0},{"$f":"ROUND(SUMIF(Определители!I6:I32,\"=7\",'Базовые цены с учетом расхода'!D6:D32),0)","v":0},{"$f":"ROUND(SUMIF(Определители!I6:I32,\"=7\",'Базовые цены с учетом расхода'!E6:E32),0)","v":0},{"$f":"ROUND(SUMIF(Определители!I6:I32,\"=7\",'Базовые цены с учетом расхода'!I6:I32),8)","v":0},{"$f":"ROUND(SUMIF(Определители!I6:I32,\"=7\",'Базовые цены с учетом расхода'!K6:K32),8)","v":0},{"$f":"ROUND(SUMIF(Определители!I6:I32,\"=7\",'Базовые цены с учетом расхода'!F6:F32),0)","v":0},null,"52"]
[53,".     В ТОМ ЧИСЛЕ:","Б",0,null,null,null,null,null,null,null,null,null,"53"]
[54,".       МАТЕРИАЛОВ -","Б",0,null,{"$f":"ROUND(СУММЕСЛИ2(Определители!I6:I32,\"2\",Определители!G6:G32,\"1\",'Базовые цены с учетом расхода'!B6:B32),0)","v":0},null,null,null,null,null,null,null,"54"]
[55,".   СТОИМОСТЬ ВОЗВРАЩАЕМЫХ МАТЕРИАЛОВ -","Б",0,null,{"$f":"ROUND(SUMIF(Определители!I6:I32,\"=7\",'Базовые цены с учетом расхода'!H6:H32),0)","v":0},null,null,null,null,null,null,null,"55"]
[56,".   НАКЛАДНЫЕ РАСХОДЫ -","Б",0,null,{"$f":"ROUND(SUMIF(Определители!I6:I32,\"=7\",'Базовые цены с учетом расхода'!N6:N32),0)","v":0},null,null,null,null,null,null,null,"56"]
[57,".   СМЕТНАЯ ПРИБЫЛЬ -","Б",0,null,{"$f":"ROUND(SUMIF(Определители!I6:I32,\"=7\",'Базовые цены с учетом расхода'!O6:O32),0)","v":0},null,null,null,null,null,null,null,"57"]
[58,"ВСЕГО, СТОИМОСТЬ РЕСТАВРАЦИОННЫХ РАБОТ -","!",0,null,{"$f":"ROUND((F58+F62+F63),0)","v":0},null,null,null,null,null,null,null,"58"]
[59,"СТОИМОСТЬ ПЕРЕВОЗКИ ГРУЗОВ -","Б",0,null,{"$f":"ROUND(SUMIF(Определители!I6:I32,\"=;\",'Базовые цены с учетом расхода'!B6:B32),0)","v":0},{"$f":"ROUND(SUMIF(Определители!I6:I32,\"=;\",'Базовые цены с учетом расхода'!C6:C32),0)","v":0},{"$f":"ROUND(SUMIF(Определители!I6:I32,\"=;\",'Базовые цены с учетом расхода'!D6:D32),0)","v":0},{"$f":"ROUND(SUMIF(Определители!I6:I32,\"=;\",'Базовые цены с учетом расхода'!E6:E32),0)","v":0},{"$f":"ROUND(SUMIF(Определители!I6:I32,\"=;\",'Базовые цены с учетом расхода'!I6:I32),8)","v":0},{"$f":"ROUND(SUMIF(Определители!I6:I32,\"=;\",'Базовые цены с учетом расхода'!K6:K32),8)","v":0},{"$f":"ROUND(SUMIF(Определители!I6:I32,\"=;\",'Базовые цены с учетом расхода'!F6:F32),0)","v":0},null,"59"]
[60,".   В Т.Ч. НАКЛАДНЫЕ РАСХОДЫ -","Б",0,null,{"$f":"ROUND(SUMIF(Определители!I6:I32,\"=;\",'Базовые цены с учетом расхода'!AF6:AF32),0)","v":0},null,null,null,null,null,null,null,"60"]
[61,".   В Т.Ч. СМЕТНАЯ ПРИБЫЛЬ -","Б",0,null,{"$f":"ROUND(SUMIF(Определители!I6:I32,\"=;\",'Базовые цены с учетом расхода'!AG6:AG32),0)","v":0},null,null,null,null,null,null,null,"61"]
[62,".   НАКЛАДНЫЕ РАСХОДЫ -","Б",0,null,{"$f":"ROUND(SUMIF(Определители!I6:I32,\"=;\",'Базовые цены с учетом расхода'!N6:N32),0)","v":0},null,null,null,null,null,null,null,"62"]
[63,".   СМЕТНАЯ ПРИБЫЛЬ -","Б",0,null,{"$f":"ROUND(SUMIF(Определители!I6:I32,\"=;\",'Базовые цены с учетом расхода'!O6:O32),0)","v":0},null,null,null,null,null,null,null,"63"]
[64,"ВСЕГО, СТОИМОСТЬ ПЕРЕВОЗКИ ГРУЗОВ -","!",0,null,{"$f":"ROUND((F65+F68+F69),0)","v":0},null,null,null,null,null,null,null,"64"]
[65,"СТОИМОСТЬ ПУСКОНАЛАДОЧНЫХ РАБОТ -","Б",0,null,{"$f":"ROUND(SUMIF(Определители!I6:I32,\"=9\",'Базовые цены с учетом расхода'!B6:B32),0)","v":0},{"$f":"ROUND(SUMIF(Определители!I6:I32,\"=9\",'Базовые цены с учетом расхода'!C6:C32),0)","v":0},{"$f":"ROUND(SUMIF(Определители!I6:I32,\"=9\",'Базовые цены с учетом расхода'!D6:D32),0)","v":0},{"$f":"ROUND(SUMIF(Определители!I6:I32,\"=9\",'Базовые цены с учетом расхода'!E6:E32),0)","v":0},{"$f":"ROUND(SUMIF(Определители!I6:I32,\"=9\",'Базовые цены с учетом расхода'!I6:I32),8)","v":0},{"$f":"ROUND(SUMIF(Определители!I6:I32,\"=9\",'Базовые цены с учетом расхода'!K6:K32),8)","v":0},{"$f":"ROUND(SUMIF(Определители!I6:I32,\"=9\",'Базовые цены с учетом расхода'!F6:F32),0)","v":0},null,"65"]
[66,".   НАКЛАДНЫЕ РАСХОДЫ -","Б",0,null,{"$f":"ROUND(SUMIF(Определители!I6:I32,\"=9\",'Базовые цены с учетом расхода'!N6:N32),0)","v":0},null,null,null,null,null,null,null,"66"]
[67,".   СМЕТНАЯ ПРИБЫЛЬ -","Б",0,null,{"$f":"ROUND(SUMIF(Определители!I6:I32,\"=9\",'Базовые цены с учетом расхода'!O6:O32),0)","v":0},null,null,null,null,null,null,null,"67"]
[68,"ВСЕГО, СТОИМОСТЬ ПУСКОНАЛАДОЧНЫХ РАБОТ -","!",0,null,{"$f":"ROUND((F71+F72+F73),0)","v":0},null,null,null,null,null,null,null,"68"]
[69,"СТОИМОСТЬ ПРОЧИХ РАБОТ (с НР и СП) -","Б",0,null,{"$f":"ROUND(SUMIF(Определители!I6:I32,\"=:\",'Базовые цены с учетом расхода'!B6:B32),0)","v":0},{"$f":"ROUND(SUMIF(Определители!I6:I32,\"=:\",'Базовые цены с учетом расхода'!C6:C32),0)","v":0},{"$f":"ROUND(SUMIF(Определители!I6:I32,\"=:\",'Базовые цены с учетом расхода'!D6:D32),0)","v":0},{"$f":"ROUND(SUMIF(Определители!I6:I32,\"=:\",'Базовые цены с учетом расхода'!E6:E32),0)","v":0},{"$f":"ROUND(SUMIF(Определители!I6:I32,\"=:\",'Базовые цены с учетом расхода'!I6:I32),8)","v":0},{"$f":"ROUND(SUMIF(Определители!I6:I32,\"=:\",'Базовые цены с учетом расхода'!K6:K32),8)","v":0},{"$f":"ROUND(SUMIF(Определители!I6:I32,\"=:\",'Базовые цены с учетом расхода'!F6:F32),0)","v":0},null,"69"]
[70,".   СТОИМОСТЬ ВОЗВРАЩАЕМЫХ МАТЕРИАЛОВ -","Б",0,null,{"$f":"ROUND(SUMIF(Определители!I6:I32,\"=:\",'Базовые цены с учетом расхода'!H6:H32),0)","v":0},null,null,null,null,null,null,null,"70"]
[71,".   НАКЛАДНЫЕ РАСХОДЫ -","Б",0,null,{"$f":"ROUND(SUMIF(Определители!I6:I32,\"=:\",'Базовые цены с учетом расхода'!N6:N32),0)","v":0},null,null,null,null,null,null,null,"71"]
[72,".   СМЕТНАЯ ПРИБЫЛЬ -","Б",0,null,{"$f":"ROUND(SUMIF(Определители!I6:I32,\"=:\",'Базовые цены с учетом расхода'!O6:O32),0)","v":0},null,null,null,null,null,null,null,"72"]
[73,"ВСЕГО, СТОИМОСТЬ ПРОЧИХ РАБОТ (с НР и СП) -","!",0,null,{"$f":"ROUND((F75+F77+F78),0)","v":0},null,null,null,null,null,null,null,"73"]
[74,"ВСЕГО, СТОИМОСТЬ ПРОЧИХ РАБОТ (без НР и СП) -","Б",0,null,{"$f":"ROUND(SUMIF(Определители!I6:I32,\"=8\",'Базовые цены с учетом расхода'!B6:B32),0)","v":0},{"$f":"ROUND(SUMIF(Определители!I6:I32,\"=8\",'Базовые цены с учетом расхода'!C6:C32),0)","v":0},{"$f":"ROUND(SUMIF(Определители!I6:I32,\"=8\",'Базовые цены с учетом расхода'!D6:D32),0)","v":0},{"$f":"ROUND(SUMIF(Определители!I6:I32,\"=8\",'Базовые цены с учетом расхода'!E6:E32),0)","v":0},{"$f":"ROUND(SUMIF(Определители!I6:I32,\"=8\",'Базовые цены с учетом расхода'!I6:I32),8)","v":0},{"$f":"ROUND(SUMIF(Определители!I6:I32,\"=8\",'Базовые цены с учетом расхода'!K6:K32),8)","v":0},{"$f":"ROUND(SUMIF(Определители!I6:I32,\"=8\",'Базовые цены с учетом расхода'!F6:F32),0)","v":0},null,"74"]
[75,".   СТОИМОСТЬ ВОЗВРАЩАЕМЫХ МАТЕРИАЛОВ -","Б",0,null,{"$f":"ROUND(SUMIF(Определители!I6:I32,\"=8\",'Базовые цены с учетом расхода'!H6:H32),0)","v":0},null,null,null,null,null,null,null,"75"]
[76,". ВСЕГО  ПО  СМЕТЕ","!",0,null,{"$f":"ROUND((F17+F27+F34+F39+F47+F52+F57+F64+F74+F79+F80+F70),0)","v":7465},{"$f":"ROUND((G17+G27+G34+G39+G47+G52+G57+G64+G74+G79+G80+G70),0)","v":0},{"$f":"ROUND((H17+H27+H34+H39+H47+H52+H57+H64+H74+H79+H80+H70),0)","v":0},{"$f":"ROUND((I17+I27+I34+I39+I47+I52+I57+I64+I74+I79+I80+I70),0)","v":0},{"$f":"ROUND((J17+J27+J34+J39+J47+J52+J57+J64+J74+J79+J80+J70),8)","v":0},{"$f":"ROUND((K17+K27+K34+K39+K47+K52+K57+K64+K74+K79+K80+K70),8)","v":0},{"$f":"ROUND((L17+L27+L34+L39+L47+L52+L57+L64+L74+L79+L80+L70),0)","v":0},null,"76"]
[77,"ВСЕГО СТОИМОСТЬ ВОЗВРАЩАЕМЫХ МАТЕРИАЛОВ -","!",0,null,{"$f":"ROUND((F23+F31+F36+F43+F49+F54+F61+F76+F81),0)","v":0},null,null,null,null,null,null,null,"77"]
[78,"ВСЕГО НАКЛАДНЫЕ РАСХОДЫ","!",0,null,{"$f":"ROUND((F24+F32+F37+F44+F50+F55+F62+F72+F77+F68),0)","v":723},null,null,null,null,null,null,null,"78"]
[79,"ВСЕГО СМЕТНАЯ ПРИБЫЛЬ","!",0,null,{"$f":"ROUND((F25+F33+F38+F45+F51+F56+F63+F73+F78+F69),0)","v":552},null,null,null,null,null,null,null,"79"]
[80,"НАКЛАДНЫЕ РАСХОДЫ 11,7% от прямых затрат","%",11.7,null,{"$f":"ROUND((F7)*D86/100,0)","v":724},null,null,null,null,null,null,null,"80"]
[81,"в т.ч. Вспомогательные материалы от стоимости материалов","h",0,null,{"$f":"ROUND(SUM('Базовые цены с учетом расхода'!X6:X32),0)","v":0},null,null,null,null,null,{"$f":"ROUND(SUM('Базовые цены с учетом расхода'!X6:X32),0)","v":0},null,"81"]
[82,"в т.ч. Вспомогательные материалы от ОЗП","h",0,null,{"$f":"ROUND(SUM(G88:N88),0)","v":0},null,null,null,null,null,{"$f":"ROUND(SUM('Базовые цены с учетом расхода'!AE6:AE32),0)","v":0},null,"82"]
[83,"Оплата основных рабочих","h",0,null,{"$f":"ROUND(SUM('Базовые цены с учетом расхода'!C6:C32),0)","v":42},null,null,null,null,null,null,null,"83"]
[84,"Оплата механизаторов","h",0,null,{"$f":"ROUND(SUM('Базовые цены с учетом расхода'!E6:E32),0)","v":463},null,null,null,null,null,null,null,"84"]
[85,"Сметная заработная плата","s",0,null,{"$f":"ROUND((F89+F90),0)","v":505},null,null,null,null,null,null,null,"85"]
[86,"Трудозатраты осн. рабочих","h",0,null,null,null,null,null,{"$f":"ROUND(SUM('Базовые цены с учетом расхода'!I6:I32),8)","v":5.3492620000000004},null,null,null,"86"]
[87,"Трудозатраты механизаторов","h",0,null,null,null,null,null,{"$f":"ROUND(SUM('Базовые цены с учетом расхода'!K6:K32),8)","v":36.291781999999998},null,null,null,"87"]
[88,"Нормативная трудоемкость","s",0,null,null,null,null,null,{"$f":"ROUND((J92+J93),8)","v":41.641044000000001},null,null,null,"88"]
[89,"ИТОГО  С  НР","s",0,null,{"$f":"ROUND((F7+F86),0)","v":6914},null,null,null,null,null,null,null,"89"]
[90,"СМЕТНАЯ ПРИБЫЛЬ 8% от прямых затрат + НР","%",8,null,{"$f":"ROUND((F95)*D96/100,0)","v":553},null,null,null,null,null,null,null,"90"]
[91,"ИТОГО  С  НР  И  СП в уровне цен 3 квартала 2013 года","s",0,null,{"$f":"ROUND((F95+F96),0)","v":7467},null,null,null,null,null,null,null,"91"]
[92,"НДС 18%","%",18,null,{"$f":"ROUND((F97)*D98/100,0)","v":1344},null,null,null,null,null,null,null,"92"]
[93,".   ВСЕГО ПО СМЕТЕ в ценах 2013 года с НДС","s",0,null,{"$f":"ROUND((F97+F98),0)","v":8811},null,null,null,null,null,null,null,"93"]
[94,"Сметная заработная плата","s",0,null,{"$f":"ROUND((F89+F90),0)","v":505},null,null,null,null,null,null,null,"94"]
[95,"Сметная стоимость материалов","h",0,null,{"$f":"ROUND(SUM('Базовые цены с учетом расхода'!F6:F32),0)","v":60},null,null,null,null,null,null,null,"95"]
[96,"Сметная стоимость материалов с НДС 18%","k",1.18,null,{"$f":"ROUND((F101)*D102,0)","v":71},null,null,null,null,null,null,null,"96"]
[97,"Стоимость эксплуатации машин","h",0,null,{"$f":"ROUND(SUM('Базовые цены с учетом расхода'!D6:D32),0)","v":6090},null,null,null,null,null,null,null,"97"]
[98,"Стоимость эксплуатации машин без зарплаты механизаторов","m",0,null,{"$f":"ROUND((F103-F90),0)","v":5627},null,null,null,null,null,null,null,"98"]
[99,"Стоимость эксплуатации машин без зар-ты механизаторов с НДС","k",1.18,null,{"$f":"ROUND((F104)*D105,0)","v":6640},null,null,null,null,null,null,null,"99"]
[100,"ИТОГО ПО СМЕТЕ","s",0,null,{"$f":"ROUND((F100+F102+F105),0)","v":7216},null,null,null,null,null,null,null,"100"]
[101,"ВСЕГО НАКЛАДНЫЕ РАСХОДЫ с К=0,94","k",0.94,null,{"$f":"ROUND((F86)*D107,0)","v":681},null,null,null,null,null,null,null,"101"]
[102,"ВСЕГО СМЕТНАЯ ПРИБЫЛЬ с К=0,9","k",0.9,null,{"$f":"ROUND((F96)*D108,0)","v":498},null,null,null,null,null,null,null,"102"]
[103,".   ВСЕГО ПО СМЕТЕ в ценах 3 квартала 2013 года","s",0,null,{"$f":"ROUND((F106+F107+F108),0)","v":8395},null,null,null,null,null,null,null,"103"]

{"sheet":"Текущие концовки","index":9,"n_rows":109,"n_cols":14,"rows_kept":109,"cut":false,"hidden":false,"merged":[[1,0,1,7],[2,1,2,7],[3,1,3,7],[4,0,4,7]]}
[]
[]
[null,"N = < ГЭСНс * 2015_s * 15_15_зр >"]
[null,"          Автомобильные дороги регионального или межмуниципального значения с автобусным движением с допустимым уровнем содержания  - норматив \"Авт\" (ЗИМНИЕ РАБОТЫ)"]
[]
[null,"Наименование","Вид","Значение","ЕИ","Z1","Z2","Z3","Z4","Z5","Z6","Z7","Z8"]
[1,".    ИТОГО  ПО  СМЕТЕ","А",0,null,{"$f":"ROUND(SUM('Текущие цены с учетом расхода'!B6:B32),0)","v":50178},{"$f":"ROUND(SUM('Текущие цены с учетом расхода'!C6:C32),0)","v":564},{"$f":"ROUND(SUM('Текущие цены с учетом расхода'!D6:D32),0)","v":37887},{"$f":"ROUND(SUM('Текущие цены с учетом расхода'!E6:E32),0)","v":6194},{"$f":"ROUND(SUM('Текущие цены с учетом расхода'!I6:I32),8)","v":5.3492620000000004},{"$f":"ROUND(SUM('Текущие цены с учетом расхода'!K6:K32),8)","v":36.291781999999998},{"$f":"ROUND(SUM('Текущие цены с учетом расхода'!F6:F32),0)","v":11730},null,"1"]
[2,"СТОИМОСТЬ ОБОРУДОВАНИЯ -","Б",0,null,{"$f":"ROUND(SUMIF(Определители!I6:I32,\"= \",'Текущие цены с учетом расхода'!B6:B32),0)","v":0},{"$f":"ROUND(SUMIF(Определители!I6:I32,\"= \",'Текущие цены с учетом расхода'!C6:C32),0)","v":0},{"$f":"ROUND(SUMIF(Определители!I6:I32,\"= \",'Текущие цены с учетом расхода'!D6:D32),0)","v":0},{"$f":"ROUND(SUMIF(Определители!I6:I32,\"= \",'Текущие цены с учетом расхода'!E6:E32),0)","v":0},{"$f":"ROUND(SUMIF(Определители!I6:I32,\"= \",'Текущие цены с учетом расхода'!I6:I32),8)","v":0},{"$f":"ROUND(SUMIF(Определители!I6:I32,\"= \",'Текущие цены с учетом расхода'!K6:K32),8)","v":0},{"$f":"ROUND(SUMIF(Определители!I6:I32,\"= \",'Текущие цены с учетом расхода'!F6:F32),0)","v":0},null,"2"]
[3,".   ЗАПАСНЫЕ ЧАСТИ -","Б",0,null,{"$f":"ROUND(СУММПРОИЗВЕСЛИ(0.01,Определители!I6:I32,\" \",'Текущие цены с учетом расхода'!B6:B32,Начисления!X6:X32,0),0)","v":0},null,null,null,null,null,null,null,"3"]
[4,".   ТАРА И УПАКОВКА -","Б",0,null,{"$f":"ROUND(СУММПРОИЗВЕСЛИ(0.01,Определители!I6:I32,\" \",'Текущие цены с учетом расхода'!B6:B32,Начисления!Y6:Y32,0),0)","v":0},null,null,null,null,null,null,null,"4"]
[5,".   ТРАНСПОРТНЫЕ РАСХОДЫ -","Б",0,null,{"$f":"ROUND(ТРАНСПРАСХОД(Определители!B6:B32,Определители!H6:H32,Определители!I6:I32,'Текущие цены с учетом расхода'!B6:B32,Начисления!Z6:Z32,Начисления!AA6:AA32),0)","v":0},null,null,null,null,null,null,null,"5"]
[6,".   КОМПЛЕКТАЦИЯ -","Б",0,null,{"$f":"ROUND(СУММПРОИЗВЕСЛИ(0.01,Определители!I6:I32,\" \",'Текущие цены с учетом расхода'!B6:B32,Начисления!AC6:AC32,0),0)","v":0},null,null,null,null,null,null,null,"6"]
[7,".   НАЦЕНКА СНАБА -","Б",0,null,{"$f":"ROUND(СУММПРОИЗВЕСЛИ(0.01,Определители!I6:I32,\" \",'Текущие цены с учетом расхода'!B6:B32,Начисления!AF6:AF32,0),0)","v":0},null,null,null,null,null,null,null,"7"]
[8,".   ЗАГОТОВИТЕЛЬНО-СКЛАДСКИЕ РАСХОДЫ -","Б",0,null,{"$f":"ROUND(ЗАГОТСКЛАДРАСХОД(Определители!B6:B32,Определители!H6:H32,Определители!I6:I32,'Текущие цены с учетом расхода'!B6:B32,Начисления!X6:X32,Начисления!Y6:Y32,Начисления!Z6:Z32,Начисления!AA6:AA32,Начисления!AB6:AB32,Начисления!AC6:AC32,Начисления!AF6:AF32),0)","v":0},null,null,null,null,null,null,null,"8"]
[9,". ШЕФМОНТАЖ ПО ОБОРУДОВАНИЮ -","Б",0,null,{"$f":"ROUND(СУММПРОИЗВЕСЛИ(1,Определители!I6:I32,\" \",'Текущие цены с учетом расхода'!M6:M32,Начисления!I6:I32,0),0)","v":0},null,null,null,null,null,null,null,"9"]
[10,". ШЕФМОНТАЖ -","!",0,null,{"$f":"ROUND((F15+F26+F46),0)","v":0},null,null,null,null,null,null,null,"10"]
[11,"ВСЕГО, СТОИМОСТЬ ОБОРУДОВАНИЯ -","!",0,null,{"$f":"ROUND((F8+F9+F10+F11+F12+F13+F14+F16),0)","v":0},null,null,null,null,null,null,null,"11"]
[12,"СТОИМОСТЬ МОНТАЖНЫХ РАБОТ -","Б",0,null,{"$f":"ROUND(SUMIF(Определители!I6:I32,\"=1\",'Текущие цены с учетом расхода'!B6:B32),0)","v":0},{"$f":"ROUND(SUMIF(Определители!I6:I32,\"=1\",'Текущие цены с учетом расхода'!C6:C32),0)","v":0},{"$f":"ROUND(SUMIF(Определители!I6:I32,\"=1\",'Текущие цены с учетом расхода'!D6:D32),0)","v":0},{"$f":"ROUND(SUMIF(Определители!I6:I32,\"=1\",'Текущие цены с учетом расхода'!E6:E32),0)","v":0},{"$f":"ROUND(SUMIF(Определители!I6:I32,\"=1\",'Текущие цены с учетом расхода'!I6:I32),8)","v":0},{"$f":"ROUND(SUMIF(Определители!I6:I32,\"=1\",'Текущие цены с учетом расхода'!K6:K32),8)","v":0},{"$f":"ROUND(SUMIF(Определители!I6:I32,\"=1\",'Текущие цены с учетом расхода'!F6:F32),0)","v":0},null,"12"]
[13,".     В ТОМ ЧИСЛЕ:","Б",0,null,null,null,null,null,null,null,null,null,"13"]
[14,". ОТКЛОНЕНИЕ ПО ЗАРАБОТНОЙ ПЛАТЕ -","Б",0,null,null,{"$f":"ROUND(SUMIF(Определители!I6:I32,\"=1\",'Текущие цены с учетом расхода'!U6:U32),0)","v":0},null,null,null,null,null,null,"14"]
[15,". КОСВЕННЫЕ РАСХОДЫ -","Б",0,null,{"$f":"ROUND(SUMIF(Определители!I6:I32,\"=1\",'Текущие цены с учетом расхода'!V6:V32),0)","v":0},null,null,null,null,null,null,null,"15"]
[16,". МАТЕРИАЛЬНЫЕ РЕСУРСЫ НЕ УЧТЕННЫЕ В РАСЦЕНКАХ -","Б",0,null,{"$f":"ROUND(СУММЕСЛИ2(Определители!I6:I32,\"1\",Определители!G6:G32,\"1\",'Текущие цены с учетом расхода'!B6:B32),0)","v":0},null,null,null,null,null,null,null,"16"]
[17,".   СТОИМОСТЬ ВОЗВРАЩАЕМЫХ МАТЕРИАЛОВ -","Б",0,null,{"$f":"ROUND(SUMIF(Определители!I6:I32,\"=1\",'Текущие цены с учетом расхода'!H6:H32),0)","v":0},null,null,null,null,null,null,null,"17"]
[18,".   НАКЛАДНЫЕ РАСХОДЫ -","Б",0,null,{"$f":"ROUND(SUMIF(Определители!I6:I32,\"=1\",'Текущие цены с учетом расхода'!N6:N32),0)","v":0},null,null,null,null,null,null,null,"18"]
[19,".   СМЕТНАЯ ПРИБЫЛЬ -","Б",0,null,{"$f":"ROUND(SUMIF(Определители!I6:I32,\"=1\",'Текущие цены с учетом расхода'!O6:O32),0)","v":0},null,null,null,null,null,null,null,"19"]
[20,". ШЕФМОНТАЖ -","Б",0,null,{"$f":"ROUND(СУММПРОИЗВЕСЛИ(1,Определители!I6:I32,\" \",'Текущие цены с учетом расхода'!M6:M32,Начисления!I6:I32,0),0)","v":0},null,null,null,null,null,null,null,"20"]
[21,"ВСЕГО, СТОИМОСТЬ МОНТАЖНЫХ РАБОТ -","!",0,null,{"$f":"ROUND((F18+F24+F25),0)","v":0},null,null,null,null,null,null,null,"21"]
[22,"СТОИМОСТЬ ОБЩЕСТРОИТЕЛЬНЫХ РАБОТ -","Б",0,null,{"$f":"ROUND(SUMIF(Определители!I6:I32,\"=2\",'Текущие цены с учетом расхода'!B6:B32),0)","v":50178},{"$f":"ROUND(SUMIF(Определители!I6:I32,\"=2\",'Текущие цены с учетом расхода'!C6:C32),0)","v":564},{"$f":"ROUND(SUMIF(Определители!I6:I32,\"=2\",'Текущие цены с учетом расхода'!D6:D32),0)","v":37887},{"$f":"ROUND(SUMIF(Определители!I6:I32,\"=2\",'Текущие цены с учетом расхода'!E6:E32),0)","v":6194},{"$f":"ROUND(SUMIF(Определители!I6:I32,\"=2\",'Текущие цены с учетом расхода'!I6:I32),8)","v":5.3492620000000004},{"$f":"ROUND(SUMIF(Определители!I6:I32,\"=2\",'Текущие цены с учетом расхода'!K6:K32),8)","v":36.291781999999998},{"$f":"ROUND(SUMIF(Определители!I6:I32,\"=2\",'Текущие цены с учетом расхода'!F6:F32),0)","v":11730},null,"22"]
[23,".     В ТОМ ЧИСЛЕ:","Б",0,null,null,null,null,null,null,null,null,null,"23"]
[24,".       МАТЕРИАЛОВ -","Б",0,null,{"$f":"ROUND(СУММЕСЛИ2(Определители!I6:I32,\"2\",Определители!G6:G32,\"1\",'Текущие цены с учетом расхода'!B6:B32),0)","v":0},null,null,null,null,null,null,null,"24"]
[25,".   СТОИМОСТЬ ВОЗВРАЩАЕМЫХ МАТЕРИАЛОВ -","Б",0,null,{"$f":"ROUND(SUMIF(Определители!I6:I32,\"=2\",'Текущие цены с учетом расхода'!H6:H32),0)","v":0},null,null,null,null,null,null,null,"25"]
[26,".   НАКЛАДНЫЕ РАСХОДЫ -","Б",0,null,{"$f":"ROUND(SUMIF(Определители!I6:I32,\"=2\",'Текущие цены с учетом расхода'!N6:N32),0)","v":5871},null,null,null,null,null,null,null,"26"]
[27,".   СМЕТНАЯ ПРИБЫЛЬ -","Б",0,null,{"$f":"ROUND(SUMIF(Определители!I6:I32,\"=2\",'Текущие цены с учетом расхода'!O6:O32),0)","v":4481},null,null,null,null,null,null,null,"27"]
[28,"ВСЕГО, СТОИМОСТЬ ОБЩЕСТРОИТЕЛЬНЫХ РАБОТ -","!",0,null,{"$f":"ROUND((F28+F32+F33),0)","v":60530},null,null,null,null,null,null,null,"28"]
[29,"СТОИМОСТЬ МЕТАЛЛОМОНТАЖНЫХ РАБОТ -","Б",0,null,{"$f":"ROUND(SUMIF(Определители!I6:I32,\"=3\",'Текущие цены с учетом расхода'!B6:B32),0)","v":0},{"$f":"ROUND(SUMIF(Определители!I6:I32,\"=3\",'Текущие цены с учетом расхода'!C6:C32),0)","v":0},{"$f":"ROUND(SUMIF(Определители!I6:I32,\"=3\",'Текущие цены с учетом расхода'!D6:D32),0)","v":0},{"$f":"ROUND(SUMIF(Определители!I6:I32,\"=3\",'Текущие цены с учетом расхода'!E6:E32),0)","v":0},{"$f":"ROUND(SUMIF(Определители!I6:I32,\"=3\",'Текущие цены с учетом расхода'!I6:I32),8)","v":0},{"$f":"ROUND(SUMIF(Определители!I6:I32,\"=3\",'Текущие цены с учетом расхода'!K6:K32),8)","v":0},{"$f":"ROUND(SUMIF(Определители!I6:I32,\"=3\",'Текущие цены с учетом расхода'!F6:F32),0)","v":0},null,"29"]
[30,".   СТОИМОСТЬ ВОЗВРАЩАЕМЫХ МАТЕРИАЛОВ -","Б",0,null,{"$f":"ROUND(SUMIF(Определители!I6:I32,\"=3\",'Текущие цены с учетом расхода'!H6:H32),0)","v":0},null,null,null,null,null,null,null,"30"]
[31,".   НАКЛАДНЫЕ РАСХОДЫ -","Б",0,null,{"$f":"ROUND(SUMIF(Определители!I6:I32,\"=3\",'Текущие цены с учетом расхода'!N6:N32),0)","v":0},null,null,null,null,null,null,null,"31"]
[32,".   СМЕТНАЯ ПРИБЫЛЬ -","Б",0,null,{"$f":"ROUND(SUMIF(Определители!I6:I32,\"=3\",'Текущие цены с учетом расхода'!O6:O32),0)","v":0},null,null,null,null,null,null,null,"32"]
[33,"ВСЕГО, СТОИМОСТЬ МЕТАЛЛОМОНТАЖНЫХ РАБОТ -","!",0,null,{"$f":"ROUND((F35+F37+F38),0)","v":0},null,null,null,null,null,null,null,"33"]
[34,"СТОИМОСТЬ САНТЕХНИЧЕСКИХ РАБОТ -","Б",0,null,{"$f":"ROUND(SUMIF(Определители!I6:I32,\"=4\",'Текущие цены с учетом расхода'!B6:B32),0)","v":0},{"$f":"ROUND(SUMIF(Определители!I6:I32,\"=4\",'Текущие цены с учетом расхода'!C6:C32),0)","v":0},{"$f":"ROUND(SUMIF(Определители!I6:I32,\"=4\",'Текущие цены с учетом расхода'!D6:D32),0)","v":0},{"$f":"ROUND(SUMIF(Определители!I6:I32,\"=4\",'Текущие цены с учетом расхода'!E6:E32),0)","v":0},{"$f":"ROUND(SUMIF(Определители!I6:I32,\"=4\",'Текущие цены с учетом расхода'!I6:I32),8)","v":0},{"$f":"ROUND(SUMIF(Определители!I6:I32,\"=4\",'Текущие цены с учетом расхода'!K6:K32),8)","v":0},{"$f":"ROUND(SUMIF(Определители!I6:I32,\"=4\",'Текущие цены с учетом расхода'!F6:F32),0)","v":0},null,"34"]
[35,".     В ТОМ ЧИСЛЕ:","Б",0,null,null,null,null,null,null,null,null,null,"35"]
[36,". СДАЧА И ИСПЫТАНИЕ -","Б",0,null,null,null,null,null,null,null,null,null,"36"]
[37,".   СТОИМОСТЬ ВОЗВРАЩАЕМЫХ МАТЕРИАЛОВ -","Б",0,null,{"$f":"ROUND(SUMIF(Определители!I6:I32,\"=4\",'Текущие цены с учетом расхода'!H6:H32),0)","v":0},null,null,null,null,null,null,null,"37"]
[38,".   НАКЛАДНЫЕ РАСХОДЫ -","Б",0,null,{"$f":"ROUND(SUMIF(Определители!I6:I32,\"=4\",'Текущие цены с учетом расхода'!N6:N32),0)","v":0},null,null,null,null,null,null,null,"38"]
[39,".   СМЕТНАЯ ПРИБЫЛЬ -","Б",0,null,{"$f":"ROUND(SUMIF(Определители!I6:I32,\"=4\",'Текущие цены с учетом расхода'!O6:O32),0)","v":0},null,null,null,null,null,null,null,"39"]
[40,". ШЕФМОНТАЖ -","Б",0,null,{"$f":"ROUND(СУММПРОИЗВЕСЛИ(1,Определители!I6:I32,\" \",'Текущие цены с учетом расхода'!M6:M32,Начисления!I6:I32,0),0)","v":0},null,null,null,null,null,null,null,"40"]
[41,"ВСЕГО, СТОИМОСТЬ САНТЕХНИЧЕСКИХ РАБОТ -","!",0,null,{"$f":"ROUND((F40+F44+F45),0)","v":0},null,null,null,null,null,null,null,"41"]
[42,"СТОИМОСТЬ БУРО-ВЗРЫВНЫХ РАБОТ -","Б",0,null,{"$f":"ROUND(SUMIF(Определители!I6:I32,\"=5\",'Текущие цены с учетом расхода'!B6:B32),0)","v":0},{"$f":"ROUND(SUMIF(Определители!I6:I32,\"=5\",'Текущие цены с учетом расхода'!C6:C32),0)","v":0},{"$f":"ROUND(SUMIF(Определители!I6:I32,\"=5\",'Текущие цены с учетом расхода'!D6:D32),0)","v":0},{"$f":"ROUND(SUMIF(Определители!I6:I32,\"=5\",'Текущие цены с учетом расхода'!E6:E32),0)","v":0},{"$f":"ROUND(SUMIF(Определители!I6:I32,\"=5\",'Текущие цены с учетом расхода'!I6:I32),8)","v":0},{"$f":"ROUND(SUMIF(Определители!I6:I32,\"=5\",'Текущие цены с учетом расхода'!K6:K32),8)","v":0},{"$f":"ROUND(SUMIF(Определители!I6:I32,\"=5\",'Текущие цены с учетом расхода'!F6:F32),0)","v":0},null,"42"]
[43,".   СТОИМОСТЬ ВОЗВРАЩАЕМЫХ МАТЕРИАЛОВ -","Б",0,null,{"$f":"ROUND(SUMIF(Определители!I6:I32,\"=5\",'Текущие цены с учетом расхода'!H6:H32),0)","v":0},null,null,null,null,null,null,null,"43"]
[44,".   НАКЛАДНЫЕ РАСХОДЫ -","Б",0,null,{"$f":"ROUND(SUMIF(Определители!I6:I32,\"=5\",'Текущие цены с учетом расхода'!N6:N32),0)","v":0},null,null,null,null,null,null,null,"44"]
[45,".   СМЕТНАЯ ПРИБЫЛЬ -","Б",0,null,{"$f":"ROUND(SUMIF(Определители!I6:I32,\"=5\",'Текущие цены с учетом расхода'!O6:O32),0)","v":0},null,null,null,null,null,null,null,"45"]
[46,"ВСЕГО, СТОИМОСТЬ БУРО-ВЗРЫВНЫХ РАБОТ -","!",0,null,{"$f":"ROUND((F48+F50+F51),0)","v":0},null,null,null,null,null,null,null,"46"]
[47,"СТОИМОСТЬ ГОРНОПРОХОДЧЕСКИХ РАБОТ -","Б",0,null,{"$f":"ROUND(SUMIF(Определители!I6:I32,\"=6\",'Текущие цены с учетом расхода'!B6:B32),0)","v":0},{"$f":"ROUND(SUMIF(Определители!I6:I32,\"=6\",'Текущие цены с учетом расхода'!C6:C32),0)","v":0},{"$f":"ROUND(SUMIF(Определители!I6:I32,\"=6\",'Текущие цены с учетом расхода'!D6:D32),0)","v":0},{"$f":"ROUND(SUMIF(Определители!I6:I32,\"=6\",'Текущие цены с учетом расхода'!E6:E32),0)","v":0},{"$f":"ROUND(SUMIF(Определители!I6:I32,\"=6\",'Текущие цены с учетом расхода'!I6:I32),8)","v":0},{"$f":"ROUND(SUMIF(Определители!I6:I32,\"=6\",'Текущие цены с учетом расхода'!K6:K32),8)","v":0},{"$f":"ROUND(SUMIF(Определители!I6:I32,\"=6\",'Текущие цены с учетом расхода'!F6:F32),0)","v":0},null,"47"]
[48,".   СТОИМОСТЬ ВОЗВРАЩАЕМЫХ МАТЕРИАЛОВ -","Б",0,null,{"$f":"ROUND(SUMIF(Определители!I6:I32,\"=6\",'Текущие цены с учетом расхода'!H6:H32),0)","v":0},null,null,null,null,null,null,null,"48"]
[49,".   НАКЛАДНЫЕ РАСХОДЫ -","Б",0,null,{"$f":"ROUND(SUMIF(Определители!I6:I32,\"=6\",'Текущие цены с учетом расхода'!N6:N32),0)","v":0},null,null,null,null,null,null,null,"49"]
[50,".   СМЕТНАЯ ПРИБЫЛЬ -","Б",0,null,{"$f":"ROUND(SUMIF(Определители!I6:I32,\"=6\",'Текущие цены с учетом расхода'!O6:O32),0)","v":0},null,null,null,null,null,null,null,"50"]
[51,"ВСЕГО, СТОИМОСТЬ ГОРНОПРОХОДЧЕСКИХ РАБОТ -","!",0,null,{"$f":"ROUND((F53+F55+F56),0)","v":0},null,null,null,null,null,null,null,"51"]
[52,"СТОИМОСТЬ РЕСТАВРАЦИОННЫХ РАБОТ -","Б",0,null,{"$f":"ROUND(SUMIF(Определители!I6:I32,\"=7\",'Текущие цены с учетом расхода'!B6:B32),0)","v":0},{"$f":"ROUND(SUMIF(Определители!I6:I32,\"=7\",'Текущие цены с учетом расхода'!C6:C32),0)","v":0},{"$f":"ROUND(SUMIF(Определители!I6:I32,\"=7\",'Текущие цены с учетом расхода'!D6:D32),0)","v":0},{"$f":"ROUND(SUMIF(Определители!I6:I32,\"=7\",'Текущие цены с учетом расхода'!E6:E32),0)","v":0},{"$f":"ROUND(SUMIF(Определители!I6:I32,\"=7\",'Текущие цены с учетом расхода'!I6:I32),8)","v":0},{"$f":"ROUND(SUMIF(Определители!I6:I32,\"=7\",'Текущие цены с учетом расхода'!K6:K32),8)","v":0},{"$f":"ROUND(SUMIF(Определители!I6:I32,\"=7\",'Текущие цены с учетом расхода'!F6:F32),0)","v":0},null,"52"]
[53,".     В ТОМ ЧИСЛЕ:","Б",0,null,null,null,null,null,null,null,null,null,"53"]
[54,".       МАТЕРИАЛОВ -","Б",0,null,{"$f":"ROUND(СУММЕСЛИ2(Определители!I6:I32,\"2\",Определители!G6:G32,\"1\",'Текущие цены с учетом расхода'!B6:B32),0)","v":0},null,null,null,null,null,null,null,"54"]
[55,".   СТОИМОСТЬ ВОЗВРАЩАЕМЫХ МАТЕРИАЛОВ -","Б",0,null,{"$f":"ROUND(SUMIF(Определители!I6:I32,\"=7\",'Текущие цены с учетом расхода'!H6:H32),0)","v":0},null,null,null,null,null,null,null,"55"]
[56,".   НАКЛАДНЫЕ РАСХОДЫ -","Б",0,null,{"$f":"ROUND(SUMIF(Определители!I6:I32,\"=7\",'Текущие цены с учетом расхода'!N6:N32),0)","v":0},null,null,null,null,null,null,null,"56"]
[57,".   СМЕТНАЯ ПРИБЫЛЬ -","Б",0,null,{"$f":"ROUND(SUMIF(Определители!I6:I32,\"=7\",'Текущие цены с учетом расхода'!O6:O32),0)","v":0},null,null,null,null,null,null,null,"57"]
[58,"ВСЕГО, СТОИМОСТЬ РЕСТАВРАЦИОННЫХ РАБОТ -","!",0,null,{"$f":"ROUND((F58+F62+F63),0)","v":0},null,null,null,null,null,null,null,"58"]
[59,"СТОИМОСТЬ ПЕРЕВОЗКИ ГРУЗОВ -","Б",0,null,{"$f":"ROUND(SUMIF(Определители!I6:I32,\"=;\",'Текущие цены с учетом расхода'!B6:B32),0)","v":0},{"$f":"ROUND(SUMIF(Определители!I6:I32,\"=;\",'Текущие цены с учетом расхода'!C6:C32),0)","v":0},{"$f":"ROUND(SUMIF(Определители!I6:I32,\"=;\",'Текущие цены с учетом расхода'!D6:D32),0)","v":0},{"$f":"ROUND(SUMIF(Определители!I6:I32,\"=;\",'Текущие цены с учетом расхода'!E6:E32),0)","v":0},{"$f":"ROUND(SUMIF(Определители!I6:I32,\"=;\",'Текущие цены с учетом расхода'!I6:I32),8)","v":0},{"$f":"ROUND(SUMIF(Определители!I6:I32,\"=;\",'Текущие цены с учетом расхода'!K6:K32),8)","v":0},{"$f":"ROUND(SUMIF(Определители!I6:I32,\"=;\",'Текущие цены с учетом расхода'!F6:F32),0)","v":0},null,"59"]
[60,".   В Т.Ч. НАКЛАДНЫЕ РАСХОДЫ -","Б",0,null,{"$f":"ROUND(SUMIF(Определители!I6:I32,\"=;\",'Текущие цены с учетом расхода'!AF6:AF32),0)","v":0},null,null,null,null,null,null,null,"60"]
[61,".   В Т.Ч. СМЕТНАЯ ПРИБЫЛЬ -","Б",0,null,{"$f":"ROUND(SUMIF(Определители!I6:I32,\"=;\",'Текущие цены с учетом расхода'!AG6:AG32),0)","v":0},null,null,null,null,null,null,null,"61"]
[62,".   НАКЛАДНЫЕ РАСХОДЫ -","Б",0,null,{"$f":"ROUND(SUMIF(Определители!I6:I32,\"=;\",'Текущие цены с учетом расхода'!N6:N32),0)","v":0},null,null,null,null,null,null,null,"62"]
[63,".   СМЕТНАЯ ПРИБЫЛЬ -","Б",0,null,{"$f":"ROUND(SUMIF(Определители!I6:I32,\"=;\",'Текущие цены с учетом расхода'!O6:O32),0)","v":0},null,null,null,null,null,null,null,"63"]
[64,"ВСЕГО, СТОИМОСТЬ ПЕРЕВОЗКИ ГРУЗОВ -","!",0,null,{"$f":"ROUND((F65+F68+F69),0)","v":0},null,null,null,null,null,null,null,"64"]
[65,"СТОИМОСТЬ ПУСКОНАЛАДОЧНЫХ РАБОТ -","Б",0,null,{"$f":"ROUND(SUMIF(Определители!I6:I32,\"=9\",'Текущие цены с учетом расхода'!B6:B32),0)","v":0},{"$f":"ROUND(SUMIF(Определители!I6:I32,\"=9\",'Текущие цены с учетом расхода'!C6:C32),0)","v":0},{"$f":"ROUND(SUMIF(Определители!I6:I32,\"=9\",'Текущие цены с учетом расхода'!D6:D32),0)","v":0},{"$f":"ROUND(SUMIF(Определители!I6:I32,\"=9\",'Текущие цены с учетом расхода'!E6:E32),0)","v":0},{"$f":"ROUND(SUMIF(Определители!I6:I32,\"=9\",'Текущие цены с учетом расхода'!I6:I32),8)","v":0},{"$f":"ROUND(SUMIF(Определители!I6:I32,\"=9\",'Текущие цены с учетом расхода'!K6:K32),8)","v":0},{"$f":"ROUND(SUMIF(Определители!I6:I32,\"=9\",'Текущие цены с учетом расхода'!F6:F32),0)","v":0},null,"65"]
[66,".   НАКЛАДНЫЕ РАСХОДЫ -","Б",0,null,{"$f":"ROUND(SUMIF(Определители!I6:I32,\"=9\",'Текущие цены с учетом расхода'!N6:N32),0)","v":0},null,null,null,null,null,null,null,"66"]
[67,".   СМЕТНАЯ ПРИБЫЛЬ -","Б",0,null,{"$f":"ROUND(SUMIF(Определители!I6:I32,\"=9\",'Текущие цены с учетом расхода'!O6:O32),0)","v":0},null,null,null,null,null,null,null,"67"]
[68,"ВСЕГО, СТОИМОСТЬ ПУСКОНАЛАДОЧНЫХ РАБОТ -","!",0,null,{"$f":"ROUND((F71+F72+F73),0)","v":0},null,null,null,null,null,null,null,"68"]
[69,"СТОИМОСТЬ ПРОЧИХ РАБОТ (с НР и СП) -","Б",0,null,{"$f":"ROUND(SUMIF(Определители!I6:I32,\"=:\",'Текущие цены с учетом расхода'!B6:B32),0)","v":0},{"$f":"ROUND(SUMIF(Определители!I6:I32,\"=:\",'Текущие цены с учетом расхода'!C6:C32),0)","v":0},{"$f":"ROUND(SUMIF(Определители!I6:I32,\"=:\",'Текущие цены с учетом расхода'!D6:D32),0)","v":0},{"$f":"ROUND(SUMIF(Определители!I6:I32,\"=:\",'Текущие цены с учетом расхода'!E6:E32),0)","v":0},{"$f":"ROUND(SUMIF(Определители!I6:I32,\"=:\",'Текущие цены с учетом расхода'!I6:I32),8)","v":0},{"$f":"ROUND(SUMIF(Определители!I6:I32,\"=:\",'Текущие цены с учетом расхода'!K6:K32),8)","v":0},{"$f":"ROUND(SUMIF(Определители!I6:I32,\"=:\",'Текущие цены с учетом расхода'!F6:F32),0)","v":0},null,"69"]
[70,".   СТОИМОСТЬ ВОЗВРАЩАЕМЫХ МАТЕРИАЛОВ -","Б",0,null,{"$f":"ROUND(SUMIF(Определители!I6:I32,\"=:\",'Текущие цены с учетом расхода'!H6:H32),0)","v":0},null,null,null,null,null,null,null,"70"]
[71,".   НАКЛАДНЫЕ РАСХОДЫ -","Б",0,null,{"$f":"ROUND(SUMIF(Определители!I6:I32,\"=:\",'Текущие цены с учетом расхода'!N6:N32),0)","v":0},null,null,null,null,null,null,null,"71"]
[72,".   СМЕТНАЯ ПРИБЫЛЬ -","Б",0,null,{"$f":"ROUND(SUMIF(Определители!I6:I32,\"=:\",'Текущие цены с учетом расхода'!O6:O32),0)","v":0},null,null,null,null,null,null,null,"72"]
[73,"ВСЕГО, СТОИМОСТЬ ПРОЧИХ РАБОТ (с НР и СП) -","!",0,null,{"$f":"ROUND((F75+F77+F78),0)","v":0},null,null,null,null,null,null,null,"73"]
[74,"ВСЕГО, СТОИМОСТЬ ПРОЧИХ РАБОТ (без НР и СП) -","Б",0,null,{"$f":"ROUND(SUMIF(Определители!I6:I32,\"=8\",'Текущие цены с учетом расхода'!B6:B32),0)","v":0},{"$f":"ROUND(SUMIF(Определители!I6:I32,\"=8\",'Текущие цены с учетом расхода'!C6:C32),0)","v":0},{"$f":"ROUND(SUMIF(Определители!I6:I32,\"=8\",'Текущие цены с учетом расхода'!D6:D32),0)","v":0},{"$f":"ROUND(SUMIF(Определители!I6:I32,\"=8\",'Текущие цены с учетом расхода'!E6:E32),0)","v":0},{"$f":"ROUND(SUMIF(Определители!I6:I32,\"=8\",'Текущие цены с учетом расхода'!I6:I32),8)","v":0},{"$f":"ROUND(SUMIF(Определители!I6:I32,\"=8\",'Текущие цены с учетом расхода'!K6:K32),8)","v":0},{"$f":"ROUND(SUMIF(Определители!I6:I32,\"=8\",'Текущие цены с учетом расхода'!F6:F32),0)","v":0},null,"74"]
[75,".   СТОИМОСТЬ ВОЗВРАЩАЕМЫХ МАТЕРИАЛОВ -","Б",0,null,{"$f":"ROUND(SUMIF(Определители!I6:I32,\"=8\",'Текущие цены с учетом расхода'!H6:H32),0)","v":0},null,null,null,null,null,null,null,"75"]
[76,". ВСЕГО  ПО  СМЕТЕ","!",0,null,{"$f":"ROUND((F17+F27+F34+F39+F47+F52+F57+F64+F74+F79+F80+F70),0)","v":60530},{"$f":"ROUND((G17+G27+G34+G39+G47+G52+G57+G64+G74+G79+G80+G70),0)","v":0},{"$f":"ROUND((H17+H27+H34+H39+H47+H52+H57+H64+H74+H79+H80+H70),0)","v":0},{"$f":"ROUND((I17+I27+I34+I39+I47+I52+I57+I64+I74+I79+I80+I70),0)","v":0},{"$f":"ROUND((J17+J27+J34+J39+J47+J52+J57+J64+J74+J79+J80+J70),8)","v":0},{"$f":"ROUND((K17+K27+K34+K39+K47+K52+K57+K64+K74+K79+K80+K70),8)","v":0},{"$f":"ROUND((L17+L27+L34+L39+L47+L52+L57+L64+L74+L79+L80+L70),0)","v":0},null,"76"]
[77,"ВСЕГО СТОИМОСТЬ ВОЗВРАЩАЕМЫХ МАТЕРИАЛОВ -","!",0,null,{"$f":"ROUND((F23+F31+F36+F43+F49+F54+F61+F76+F81),0)","v":0},null,null,null,null,null,null,null,"77"]
[78,"ВСЕГО НАКЛАДНЫЕ РАСХОДЫ","!",0,null,{"$f":"ROUND((F24+F32+F37+F44+F50+F55+F62+F72+F77+F68),0)","v":5871},null,null,null,null,null,null,null,"78"]
[79,"ВСЕГО СМЕТНАЯ ПРИБЫЛЬ","!",0,null,{"$f":"ROUND((F25+F33+F38+F45+F51+F56+F63+F73+F78+F69),0)","v":4481},null,null,null,null,null,null,null,"79"]
[80,"НАКЛАДНЫЕ РАСХОДЫ 11,7% от прямых затрат","%",11.7,null,{"$f":"ROUND((F7)*D86/100,0)","v":5871},null,null,null,null,null,null,null,"80"]
[81,"в т.ч. Вспомогательные материалы от стоимости материалов","h",0,null,{"$f":"ROUND(SUM('Текущие цены с учетом расхода'!X6:X32),0)","v":0},null,null,null,null,null,{"$f":"ROUND(SUM('Текущие цены с учетом расхода'!X6:X32),0)","v":0},null,"81"]
[82,"в т.ч. Вспомогательные материалы от ОЗП","h",0,null,{"$f":"ROUND(SUM(G88:N88),0)","v":0},null,null,null,null,null,{"$f":"ROUND(SUM('Текущие цены с учетом расхода'!AE6:AE32),0)","v":0},null,"82"]
[83,"Оплата основных рабочих","h",0,null,{"$f":"ROUND(SUM('Текущие цены с учетом расхода'!C6:C32),0)","v":564},null,null,null,null,null,null,null,"83"]
[84,"Оплата механизаторов","h",0,null,{"$f":"ROUND(SUM('Текущие цены с учетом расхода'!E6:E32),0)","v":6194},null,null,null,null,null,null,null,"84"]
[85,"Сметная заработная плата","s",0,null,{"$f":"ROUND((F89+F90),0)","v":6758},null,null,null,null,null,null,null,"85"]
[86,"Трудозатраты осн. рабочих","h",0,null,null,null,null,null,{"$f":"ROUND(SUM('Текущие цены с учетом расхода'!I6:I32),8)","v":5.3492620000000004},null,null,null,"86"]
[87,"Трудозатраты механизаторов","h",0,null,null,null,null,null,{"$f":"ROUND(SUM('Текущие цены с учетом расхода'!K6:K32),8)","v":36.291781999999998},null,null,null,"87"]
[88,"Нормативная трудоемкость","s",0,null,null,null,null,null,{"$f":"ROUND((J92+J93),8)","v":41.641044000000001},null,null,null,"88"]
[89,"ИТОГО  С  НР","s",0,null,{"$f":"ROUND((F7+F86),0)","v":56049},null,null,null,null,null,null,null,"89"]
[90,"СМЕТНАЯ ПРИБЫЛЬ 8% от прямых затрат + НР","%",8,null,{"$f":"ROUND((F95)*D96/100,0)","v":4484},null,null,null,null,null,null,null,"90"]
[91,"ИТОГО  С  НР  И  СП в уровне цен 3 квартала 2013 года","s",0,null,{"$f":"ROUND((F95+F96),0)","v":60533},null,null,null,null,null,null,null,"91"]
[92,"НДС 18%","%",18,null,{"$f":"ROUND((F97)*D98/100,0)","v":10896},null,null,null,null,null,null,null,"92"]
[93,".   ВСЕГО ПО СМЕТЕ в ценах 2013 года с НДС","s",0,null,{"$f":"ROUND((F97+F98),0)","v":71429},null,null,null,null,null,null,null,"93"]
[94,"Сметная заработная плата","s",0,null,{"$f":"ROUND((F89+F90),0)","v":6758},null,null,null,null,null,null,null,"94"]
[95,"Сметная стоимость материалов","h",0,null,{"$f":"ROUND(SUM('Текущие цены с учетом расхода'!F6:F32),0)","v":11730},null,null,null,null,null,null,null,"95"]
[96,"Сметная стоимость материалов с НДС 18%","k",1.18,null,{"$f":"ROUND((F101)*D102,0)","v":13841},null,null,null,null,null,null,null,"96"]
[97,"Стоимость эксплуатации машин","h",0,null,{"$f":"ROUND(SUM('Текущие цены с учетом расхода'!D6:D32),0)","v":37887},null,null,null,null,null,null,null,"97"]
[98,"Стоимость эксплуатации машин без зарплаты механизаторов","m",0,null,{"$f":"ROUND((F103-F90),0)","v":31693},null,null,null,null,null,null,null,"98"]
[99,"Стоимость эксплуатации машин без зар-ты механизаторов с НДС","k",1.18,null,{"$f":"ROUND((F104)*D105,0)","v":37398},null,null,null,null,null,null,null,"99"]
[100,"ИТОГО ПО СМЕТЕ","s",0,null,{"$f":"ROUND((F100+F102+F105),0)","v":57997},null,null,null,null,null,null,null,"100"]
[101,"ВСЕГО НАКЛАДНЫЕ РАСХОДЫ с К=0,94","k",0.94,null,{"$f":"ROUND((F86)*D107,0)","v":5519},null,null,null,null,null,null,null,"101"]
[102,"ВСЕГО СМЕТНАЯ ПРИБЫЛЬ с К=0,9","k",0.9,null,{"$f":"ROUND((F96)*D108,0)","v":4036},null,null,null,null,null,null,null,"102"]
[103,".   ВСЕГО ПО СМЕТЕ в ценах 3 квартала 2013 года","s",0,null,{"$f":"ROUND((F106+F107+F108),0)","v":67552},null,null,null,null,null,null,null,"103"]